BEGIN:VCALENDAR
VERSION:2.0
PRODID:-//Bewusst Brüggen - ECPv6.15.20//NONSGML v1.0//EN
CALSCALE:GREGORIAN
METHOD:PUBLISH
X-ORIGINAL-URL:https://bewusst-brueggen.de
X-WR-CALDESC:Veranstaltungen für Bewusst Brüggen
REFRESH-INTERVAL;VALUE=DURATION:PT1H
X-Robots-Tag:noindex
X-PUBLISHED-TTL:PT1H
BEGIN:VTIMEZONE
TZID:Europe/Berlin
BEGIN:DAYLIGHT
TZOFFSETFROM:+0100
TZOFFSETTO:+0200
TZNAME:CEST
DTSTART:20240331T010000
END:DAYLIGHT
BEGIN:STANDARD
TZOFFSETFROM:+0200
TZOFFSETTO:+0100
TZNAME:CET
DTSTART:20241027T010000
END:STANDARD
BEGIN:DAYLIGHT
TZOFFSETFROM:+0100
TZOFFSETTO:+0200
TZNAME:CEST
DTSTART:20250330T010000
END:DAYLIGHT
BEGIN:STANDARD
TZOFFSETFROM:+0200
TZOFFSETTO:+0100
TZNAME:CET
DTSTART:20251026T010000
END:STANDARD
BEGIN:DAYLIGHT
TZOFFSETFROM:+0100
TZOFFSETTO:+0200
TZNAME:CEST
DTSTART:20260329T010000
END:DAYLIGHT
BEGIN:STANDARD
TZOFFSETFROM:+0200
TZOFFSETTO:+0100
TZNAME:CET
DTSTART:20261025T010000
END:STANDARD
BEGIN:DAYLIGHT
TZOFFSETFROM:+0100
TZOFFSETTO:+0200
TZNAME:CEST
DTSTART:20270328T010000
END:DAYLIGHT
BEGIN:STANDARD
TZOFFSETFROM:+0200
TZOFFSETTO:+0100
TZNAME:CET
DTSTART:20271031T010000
END:STANDARD
END:VTIMEZONE
BEGIN:VEVENT
DTSTART;TZID=Europe/Berlin:20260125T110000
DTEND;TZID=Europe/Berlin:20260125T170000
DTSTAMP:20260425T170519
CREATED:20250807T093209Z
LAST-MODIFIED:20260119T084105Z
UID:10005772-1769338800-1769360400@bewusst-brueggen.de
SUMMARY:6. Hochzeitsmesse auf Burg Brüggen
DESCRIPTION:Bereits zum sechsten Mal findet am letzten Sonntag im Januar wieder die beliebte Hochzeitsmesse auf Burg Brüggen statt. In der Burg\, auf dem Außengelände und auf den Freiflächen\, bieten über 50 Ausstellerinnen und Aussteller alles rund um das Thema Hochzeit. Der perfekte Anlass sich mit Informationen und Anregungen einzudecken\, für alle die planen sich das Ja-Wort zu geben! Weitere Infos unter www.hochzeitsmesse-brueggen.de
URL:https://bewusst-brueggen.de/kalender/6-hochzeitsmesse-auf-burg-brueggen/
LOCATION:Burg Brüggen\, Burgwall 4\, Brüggen\, 41379
CATEGORIES:Feste / Märkte
ATTACH;FMTTYPE=image/jpeg:https://bewusst-brueggen.de/wp-content/uploads/2023/03/bewusst-brueggen-hochzeitsmesse-burg-brueggen.jpg
ORGANIZER;CN="Burggemeinde Br%C3%BCggen - Silke Langner":MAILTO:silke.langner@brueggen.de
END:VEVENT
BEGIN:VEVENT
DTSTART;TZID=Europe/Berlin:20251107T173000
DTEND;TZID=Europe/Berlin:20251107T190000
DTSTAMP:20260425T170519
CREATED:20250128T074006Z
LAST-MODIFIED:20250128T080110Z
UID:10004630-1762536600-1762542000@bewusst-brueggen.de
SUMMARY:St. Martinszug in Brüggen
DESCRIPTION:St. Martinszug durch die Burggemeinde Brüggen und Martinsfeuer
URL:https://bewusst-brueggen.de/kalender/st-martinszug-2025/
LOCATION:Burggemeinde Brüggen\, Brüggen\, 41379
CATEGORIES:Brauchtum/ Heimatkunde
ATTACH;FMTTYPE=image/jpeg:https://bewusst-brueggen.de/wp-content/uploads/2025/01/St.Martin3.jpg
ORGANIZER;CN="St. Martins-Komitee Br%C3%BCggen e.V.":MAILTO:stmartin-brueggen@gmx.de
END:VEVENT
END:VCALENDAR