BEGIN:VCALENDAR
VERSION:2.0
PRODID:-//Bewusst Brüggen - ECPv6.15.20//NONSGML v1.0//EN
CALSCALE:GREGORIAN
METHOD:PUBLISH
X-ORIGINAL-URL:https://bewusst-brueggen.de
X-WR-CALDESC:Veranstaltungen für Bewusst Brüggen
REFRESH-INTERVAL;VALUE=DURATION:PT1H
X-Robots-Tag:noindex
X-PUBLISHED-TTL:PT1H
BEGIN:VTIMEZONE
TZID:Europe/Berlin
BEGIN:DAYLIGHT
TZOFFSETFROM:+0100
TZOFFSETTO:+0200
TZNAME:CEST
DTSTART:20240331T010000
END:DAYLIGHT
BEGIN:STANDARD
TZOFFSETFROM:+0200
TZOFFSETTO:+0100
TZNAME:CET
DTSTART:20241027T010000
END:STANDARD
BEGIN:DAYLIGHT
TZOFFSETFROM:+0100
TZOFFSETTO:+0200
TZNAME:CEST
DTSTART:20250330T010000
END:DAYLIGHT
BEGIN:STANDARD
TZOFFSETFROM:+0200
TZOFFSETTO:+0100
TZNAME:CET
DTSTART:20251026T010000
END:STANDARD
BEGIN:DAYLIGHT
TZOFFSETFROM:+0100
TZOFFSETTO:+0200
TZNAME:CEST
DTSTART:20260329T010000
END:DAYLIGHT
BEGIN:STANDARD
TZOFFSETFROM:+0200
TZOFFSETTO:+0100
TZNAME:CET
DTSTART:20261025T010000
END:STANDARD
END:VTIMEZONE
BEGIN:VEVENT
DTSTART;TZID=Europe/Berlin:20250920T100000
DTEND;TZID=Europe/Berlin:20250920T160000
DTSTAMP:20260421T153204
CREATED:20250918T102137Z
LAST-MODIFIED:20250918T104634Z
UID:10005808-1758362400-1758384000@bewusst-brueggen.de
SUMMARY:Weltkindertag im Museum Mensch und Jagd
DESCRIPTION:Am Weltkindertag bietet das Museum Mensch und Jagd freien Eintritt für alle Kinder in Begleitung eines Erwachsenen. Taucht ein in die faszinierende Geschichte der Jagd und erfahrt welche Bedeutung diese auch heute noch für unseren Wald und den Naturschutz hat. Im Museumswald erlebt ihr die einzigartige Natur des Niederrheins mit realen Tierstimmen und lebensgroßen Tieren. \n 
URL:https://bewusst-brueggen.de/kalender/weltkindertag-im-museum-mensch-und-jagd/
LOCATION:Burg Brüggen\, Burgwall 4\, Brüggen\, 41379
CATEGORIES:Kinder/ Jugendliche
ATTACH;FMTTYPE=image/jpeg:https://bewusst-brueggen.de/wp-content/uploads/2023/06/bewusst-brueggen-museumsfuehrung.jpg
ORGANIZER;CN="Museum Mensch und Jagd - B%C3%A4rbel Weinmann":MAILTO:baerbel.weinmann@brueggen.de
END:VEVENT
END:VCALENDAR