BEGIN:VCALENDAR
VERSION:2.0
PRODID:-//Bewusst Brüggen - ECPv6.15.20//NONSGML v1.0//EN
CALSCALE:GREGORIAN
METHOD:PUBLISH
X-ORIGINAL-URL:https://bewusst-brueggen.de
X-WR-CALDESC:Veranstaltungen für Bewusst Brüggen
REFRESH-INTERVAL;VALUE=DURATION:PT1H
X-Robots-Tag:noindex
X-PUBLISHED-TTL:PT1H
BEGIN:VTIMEZONE
TZID:Europe/Berlin
BEGIN:DAYLIGHT
TZOFFSETFROM:+0100
TZOFFSETTO:+0200
TZNAME:CEST
DTSTART:20230326T010000
END:DAYLIGHT
BEGIN:STANDARD
TZOFFSETFROM:+0200
TZOFFSETTO:+0100
TZNAME:CET
DTSTART:20231029T010000
END:STANDARD
BEGIN:DAYLIGHT
TZOFFSETFROM:+0100
TZOFFSETTO:+0200
TZNAME:CEST
DTSTART:20240331T010000
END:DAYLIGHT
BEGIN:STANDARD
TZOFFSETFROM:+0200
TZOFFSETTO:+0100
TZNAME:CET
DTSTART:20241027T010000
END:STANDARD
BEGIN:DAYLIGHT
TZOFFSETFROM:+0100
TZOFFSETTO:+0200
TZNAME:CEST
DTSTART:20250330T010000
END:DAYLIGHT
BEGIN:STANDARD
TZOFFSETFROM:+0200
TZOFFSETTO:+0100
TZNAME:CET
DTSTART:20251026T010000
END:STANDARD
END:VTIMEZONE
BEGIN:VEVENT
DTSTART;TZID=Europe/Berlin:20241009T183000
DTEND;TZID=Europe/Berlin:20241009T220000
DTSTAMP:20260420T190854
CREATED:20240812T111309Z
LAST-MODIFIED:20240812T111309Z
UID:10003122-1728498600-1728511200@bewusst-brueggen.de
SUMMARY:Business Exchange III: Von Unternehmern für Unternehmer
DESCRIPTION:Eine Veranstaltung von Unternehmern für Unternehmer aus Brüggen und dem Umkreis:\nNetzwerken\, Fachvorträge von Experten\, eine magische Show\, Hausmesse \n\nVorstellung Autohaus Schouren Reloaded\nterra Xaler – relax keine Angst vor Cyberangriffen\nErweiterung des Gewerbeparks Bracht – neue Möglichkeiten für Ansiedlungswillige\nMagische Show – Lukas Jung Moderner Magier aus NRW\nHausmesse – Unternehmer aus der Region stellen sich vor\nNetzwerken\n\n9 Okt 2024 Einlass 18:00 Uhr Begin ca.: 18:30 Uhr Ende ca.: 22:00 Uhr \nVeranstaltungswebseite und Anmeldung: https://autohaus-schouren.chayns.site/ \nEintritt Besucher 30\,00 € Aussteller 60\,00 € \nVeranstalter ist das Autohaus Schouren\, Katers Feld 6\, 41379 Brüggen\, 02157 7164\, E-Mail: robert.schouren@autohaus-schouren.de \nErfinder dieses Event und Mitveranstalter\, Togrund GmbH\, Dirk Letter\, Textilstr. 2\, 41751 Viersen \n  \n  \n 
URL:https://bewusst-brueggen.de/kalender/business-exchange-iii-von-unternehmern-fuer-unternehmer/
LOCATION:Autohaus Schouren\, Katers Feld 6\, Brüggen\, 41379
CATEGORIES:Wirtschaft
ATTACH;FMTTYPE=image/png:https://bewusst-brueggen.de/wp-content/uploads/2024/08/Business-Exchange-Bild-01.png
ORGANIZER;CN="Autohaus Schouren":MAILTO:robert.schouren@renault-schouren.de
END:VEVENT
END:VCALENDAR