BEGIN:VCALENDAR
VERSION:2.0
PRODID:-//Bewusst Brüggen - ECPv6.15.20//NONSGML v1.0//EN
CALSCALE:GREGORIAN
METHOD:PUBLISH
X-ORIGINAL-URL:https://bewusst-brueggen.de
X-WR-CALDESC:Veranstaltungen für Bewusst Brüggen
REFRESH-INTERVAL;VALUE=DURATION:PT1H
X-Robots-Tag:noindex
X-PUBLISHED-TTL:PT1H
BEGIN:VTIMEZONE
TZID:Europe/Berlin
BEGIN:DAYLIGHT
TZOFFSETFROM:+0100
TZOFFSETTO:+0200
TZNAME:CEST
DTSTART:20300331T010000
END:DAYLIGHT
BEGIN:STANDARD
TZOFFSETFROM:+0200
TZOFFSETTO:+0100
TZNAME:CET
DTSTART:20301027T010000
END:STANDARD
BEGIN:DAYLIGHT
TZOFFSETFROM:+0100
TZOFFSETTO:+0200
TZNAME:CEST
DTSTART:20310330T010000
END:DAYLIGHT
BEGIN:STANDARD
TZOFFSETFROM:+0200
TZOFFSETTO:+0100
TZNAME:CET
DTSTART:20311026T010000
END:STANDARD
BEGIN:DAYLIGHT
TZOFFSETFROM:+0100
TZOFFSETTO:+0200
TZNAME:CEST
DTSTART:20320328T010000
END:DAYLIGHT
BEGIN:STANDARD
TZOFFSETFROM:+0200
TZOFFSETTO:+0100
TZNAME:CET
DTSTART:20321031T010000
END:STANDARD
END:VTIMEZONE
BEGIN:VEVENT
DTSTART;TZID=Europe/Berlin:20310310T180000
DTEND;TZID=Europe/Berlin:20310310T193000
DTSTAMP:20260426T052051
CREATED:20231221T140857Z
LAST-MODIFIED:20260326T071259Z
UID:10006675-1930932000-1930937400@bewusst-brueggen.de
SUMMARY:Leben nach dem Schlaganfall - Selbsthilfegruppe
DESCRIPTION:Nach einem Schlaganfall stehen Betroffene oft vor Herausforderungen\, die ihren Alltag erheblich beeinflussen können. Mögliche Einschränkungen reichen von körperlichen Beeinträchtigungen wie Lähmungen\, Koordinationsproblemen und Sprachschwierigkeiten bis hin zu emotionalen und sozialen Veränderungen\, die das Selbstbewusstsein beeinflussen können. \nWie sollen Betroffene damit umgehen? Wie kann man sich seinem Leben vor dem Ereignis wieder annähern? Wo findet man Verständnis\, ohne zu viel erklären zu müssen? \nDie Selbsthilfegruppe in Brüggen wird diesen Herausforderungen entgegentreten\, indem sie einen Raum für Unterstützung und Motivation bieten wird. Die Teilnehmenden können sich gegenseitig ermutigen\, ihre Erfahrungen teilen und neue Freundschaften schließen. Die Gruppe wird z.B. gemeinsame Aktivitäten organisieren\, die auf die individuellen Bedürfnisse und Interessen zugeschnitten sind. \nInteressierte melden sich bitte bei Initiatorin Renate Köller unter +49 (0)2163 4826 oder der Selbsthilfekontakt-und Unterstützungsstelle für den Kreis Viersen “BIS” unter +49 (0)2163 5622 oder per email: info@bis-brueggen.de \nDie Gruppe hat zur Zeit ihre Kapazitätsgrenze erreicht und kann deshalb vorläufig keine weiteren Teilnehmerinnen und Teilnehmer aufnehmen. Es besteht allerdings die Möglichkeit sich auf die Warteliste bei Renate Köller setzen zu lassen. Die Teilnahme an den Treffen ist kostenfrei.
URL:https://bewusst-brueggen.de/kalender/leben-mit-schlaganfall-selbsthilfegruppe/2031-03-10/
LOCATION:BIS Brüggen\, Klosterstr.5\, Brüggen\, 41379
CATEGORIES:Vereine & Ehrenamt
ATTACH;FMTTYPE=image/jpeg:https://bewusst-brueggen.de/wp-content/uploads/2023/12/bewusst-brueggen-schlaganfall-gruppenbild.jpeg
ORGANIZER;CN="BIS e.V. - Renate K%C3%B6ller":MAILTO:info@bis-brueggen.de
END:VEVENT
BEGIN:VEVENT
DTSTART;TZID=Europe/Berlin:20310324T180000
DTEND;TZID=Europe/Berlin:20310324T193000
DTSTAMP:20260426T052051
CREATED:20231221T141246Z
LAST-MODIFIED:20260326T071305Z
UID:10006691-1932141600-1932147000@bewusst-brueggen.de
SUMMARY:Leben nach dem Schlaganfall - Selbsthilfegruppe
DESCRIPTION:Nach einem Schlaganfall stehen Betroffene oft vor Herausforderungen\, die ihren Alltag erheblich beeinflussen können. Mögliche Einschränkungen reichen von körperlichen Beeinträchtigungen wie Lähmungen\, Koordinationsproblemen und Sprachschwierigkeiten bis hin zu emotionalen und sozialen Veränderungen\, die das Selbstbewusstsein beeinflussen können. \nWie sollen Betroffene damit umgehen? Wie kann man sich seinem Leben vor dem Ereignis wieder annähern? Wo findet man Verständnis\, ohne zu viel erklären zu müssen? \nDie Selbsthilfegruppe in Brüggen wird diesen Herausforderungen entgegentreten\, indem sie einen Raum für Unterstützung und Motivation bieten wird. Die Teilnehmenden können sich gegenseitig ermutigen\, ihre Erfahrungen teilen und neue Freundschaften schließen. Die Gruppe wird z.B. gemeinsame Aktivitäten organisieren\, die auf die individuellen Bedürfnisse und Interessen zugeschnitten sind. \nInteressierte melden sich bitte bei Initiatorin Renate Köller unter +49 (0)2163 4826 oder der Selbsthilfekontakt-und Unterstützungsstelle für den Kreis Viersen “BIS” unter +49 (0)2163 5622 oder per email: info@bis-brueggen.de \nDie Gruppe hat zur Zeit ihre Kapazitätsgrenze erreicht und kann deshalb vorläufig keine weiteren Teilnehmerinnen und Teilnehmer aufnehmen. Es besteht allerdings die Möglichkeit sich auf die Warteliste bei Renate Köller setzen zu lassen. Die Teilnahme an den Treffen ist kostenfrei.
URL:https://bewusst-brueggen.de/kalender/leben-mit-schlaganfall-selbsthilfegruppe-2/2031-03-24/
LOCATION:BIS Brüggen\, Klosterstr.5\, Brüggen\, 41379
CATEGORIES:Vereine & Ehrenamt
ATTACH;FMTTYPE=image/jpeg:https://bewusst-brueggen.de/wp-content/uploads/2023/12/bewusst-brueggen-schlaganfall-gruppenbild.jpeg
ORGANIZER;CN="BIS e.V. - Renate K%C3%B6ller":MAILTO:info@bis-brueggen.de
END:VEVENT
END:VCALENDAR