BEGIN:VCALENDAR
VERSION:2.0
PRODID:-//Bewusst Brüggen - ECPv6.15.20//NONSGML v1.0//EN
CALSCALE:GREGORIAN
METHOD:PUBLISH
X-WR-CALNAME:Bewusst Brüggen
X-ORIGINAL-URL:https://bewusst-brueggen.de
X-WR-CALDESC:Veranstaltungen für Bewusst Brüggen
REFRESH-INTERVAL;VALUE=DURATION:PT1H
X-Robots-Tag:noindex
X-PUBLISHED-TTL:PT1H
BEGIN:VTIMEZONE
TZID:Europe/Berlin
BEGIN:DAYLIGHT
TZOFFSETFROM:+0100
TZOFFSETTO:+0200
TZNAME:CEST
DTSTART:20220327T010000
END:DAYLIGHT
BEGIN:STANDARD
TZOFFSETFROM:+0200
TZOFFSETTO:+0100
TZNAME:CET
DTSTART:20221030T010000
END:STANDARD
BEGIN:DAYLIGHT
TZOFFSETFROM:+0100
TZOFFSETTO:+0200
TZNAME:CEST
DTSTART:20230326T010000
END:DAYLIGHT
BEGIN:STANDARD
TZOFFSETFROM:+0200
TZOFFSETTO:+0100
TZNAME:CET
DTSTART:20231029T010000
END:STANDARD
BEGIN:DAYLIGHT
TZOFFSETFROM:+0100
TZOFFSETTO:+0200
TZNAME:CEST
DTSTART:20240331T010000
END:DAYLIGHT
BEGIN:STANDARD
TZOFFSETFROM:+0200
TZOFFSETTO:+0100
TZNAME:CET
DTSTART:20241027T010000
END:STANDARD
BEGIN:DAYLIGHT
TZOFFSETFROM:+0100
TZOFFSETTO:+0200
TZNAME:CEST
DTSTART:20250330T010000
END:DAYLIGHT
BEGIN:STANDARD
TZOFFSETFROM:+0200
TZOFFSETTO:+0100
TZNAME:CET
DTSTART:20251026T010000
END:STANDARD
BEGIN:DAYLIGHT
TZOFFSETFROM:+0100
TZOFFSETTO:+0200
TZNAME:CEST
DTSTART:20260329T010000
END:DAYLIGHT
BEGIN:STANDARD
TZOFFSETFROM:+0200
TZOFFSETTO:+0100
TZNAME:CET
DTSTART:20261025T010000
END:STANDARD
END:VTIMEZONE
BEGIN:VEVENT
DTSTART;TZID=Europe/Berlin:20250609T110000
DTEND;TZID=Europe/Berlin:20250609T160000
DTSTAMP:20260422T155904
CREATED:20250521T071410Z
LAST-MODIFIED:20250521T071410Z
UID:10005384-1749466800-1749484800@bewusst-brueggen.de
SUMMARY:Brachter Mühle startet mit dem Deutschen Mühlentag in die Saison – Jubiläumsausstellung der TSF Bracht „Alte Herren“
DESCRIPTION:Am Pfingstmontag\, dem 9. Juni 2025\, lädt die Brachter Mühle wieder zum traditionellen Deutschen Mühlentag ein und eröffnet damit die diesjährige Veranstaltungsreihe der beliebten Mühlentage. Besucherinnen und Besucher dürfen sich auf einen abwechslungsreichen Tag voller Geschichte\, Begegnung und Genuss freuen. \nEin besonderes Highlight zum Saisonauftakt ist die Jubiläumsausstellung „75 Jahre TSF Bracht – Alte Herren“\, die eigens für diesen Anlass in den Räumlichkeiten der Mühle präsentiert wird. Der Traditionsverein gibt mit zahlreichen historischen Bildern spannende Einblicke in die Geschichte und Entwicklung seiner „Alten Herren“-Fußballabteilung – ein echtes Stück Brachter Vereinsgeschichte zum Anfassen und Erinnern. \nNeben der Ausstellung öffnet die Brachter Mühle ihre Türen für alle\, die sich für Technik\, Kultur und regionale Geschichte interessieren. Führungen durch das historische Gebäude machen die Welt der Mühlentechnik erlebbar – ein Erlebnis für Groß und Klein. \nAuch für das leibliche Wohl ist bestens gesorgt: Das Café der Brachter Mühle bietet an diesem Tag eine Auswahl an selbstgebackenen Kuchen und erfrischenden Getränken – ideal für eine gemütliche Pause im historischen Ambiente. \nDer Deutsche Mühlentag wird jährlich vom Landschaftsverband Rheinland und der Deutschen Gesellschaft für Mühlenkunde und Mühlenerhaltung veranstaltet. Ziel ist es\, historische Mühlen in ihrer kulturellen Bedeutung zu würdigen und erlebbar zu machen. Bundesweit öffnen an diesem Tag zahlreiche Mühlen ihre Türen und bieten ein vielfältiges Programm für Besucher.\nDie Brachter Mühle freut sich auf viele Gäste aus der Region und darüber hinaus – der Mühlentag ist ein Erlebnis für die ganze Familie!
URL:https://bewusst-brueggen.de/kalender/brachter-muehle-startet-mit-dem-deutschen-muehlentag-in-die-saison-jubilaeumsausstellung-der-tsf-bracht-alte-herren/
LOCATION:Brachter Mühle\, Brüggener Straße 13\, Brüggen\, 41379
CATEGORIES:Brauchtum/ Heimatkunde,Kinder/ Jugendliche,Kultur
ATTACH;FMTTYPE=image/jpeg:https://bewusst-brueggen.de/wp-content/uploads/2025/05/brahcter-muehle.jpg
END:VEVENT
BEGIN:VEVENT
DTSTART;TZID=Europe/Berlin:20241006T120000
DTEND;TZID=Europe/Berlin:20241006T180000
DTSTAMP:20260422T155904
CREATED:20240220T115346Z
LAST-MODIFIED:20240220T115346Z
UID:10002898-1728216000-1728237600@bewusst-brueggen.de
SUMMARY:Mühlenfest an der Brachter Mühle
DESCRIPTION:Jedes Jahr im Oktober wird das Brachter Mühlenfest gefeiert. Für Unterhaltung\, Aktionen\, Speisen und Getränke ist wie immer bestens gesorgt.
URL:https://bewusst-brueggen.de/kalender/muehlenfest-an-der-brachter-muehle/
LOCATION:Brachter Mühle\, Brüggener Straße 13\, Brüggen\, 41379
CATEGORIES:Brauchtum/ Heimatkunde
ATTACH;FMTTYPE=image/jpeg:https://bewusst-brueggen.de/wp-content/uploads/2024/02/Brachter-Muehle_Robin-Vissers-8.jpg
END:VEVENT
BEGIN:VEVENT
DTSTART;TZID=Europe/Berlin:20240901T120000
DTEND;TZID=Europe/Berlin:20240901T180000
DTSTAMP:20260422T155904
CREATED:20240220T114553Z
LAST-MODIFIED:20240220T114553Z
UID:10002897-1725192000-1725213600@bewusst-brueggen.de
SUMMARY:Offener Brachter Mühlentag mit Kindermühlentag
DESCRIPTION:Zum Mühlentag sind Interessierte zu einem Besuch der Mühle eingeladen. Die Mühle und das Mühlencafé sind beim Mühlentag geöffnet. Zudem haben die Besucher die Gelegenheit\, sich die Mühle anzusehen\, die Ausstellung zu besichtigen und an Mühlenführungen teilzunehmen. Wegen des Kindermühlentages sind besondere Aktionen für Familien geplant.
URL:https://bewusst-brueggen.de/kalender/offener-brachter-muehlentag-mit-kindermuehlentag/
LOCATION:Brachter Mühle\, Brüggener Straße 13\, Brüggen\, 41379
CATEGORIES:Brauchtum/ Heimatkunde
ATTACH;FMTTYPE=image/jpeg:https://bewusst-brueggen.de/wp-content/uploads/2024/02/Brachter-Muehle_Robin-Vissers-8.jpg
END:VEVENT
BEGIN:VEVENT
DTSTART;TZID=Europe/Berlin:20240811T120000
DTEND;TZID=Europe/Berlin:20240811T180000
DTSTAMP:20260422T155904
CREATED:20240220T114139Z
LAST-MODIFIED:20240220T114139Z
UID:10002896-1723377600-1723399200@bewusst-brueggen.de
SUMMARY:Offener Brachter Mühlentag
DESCRIPTION:Zum Mühlentag sind Interessierte zu einem Besuch der Mühle eingeladen. Die Mühle und das Mühlencafé sind beim Mühlentag geöffnet. Zudem haben die Besucher die Gelegenheit\, sich die Mühle anzusehen\, die Ausstellung zu besichtigen und an Mühlenführungen teilzunehmen. Zusätzlich findet eine Ausstellung des Fotostammtisches Bracht statt.
URL:https://bewusst-brueggen.de/kalender/offener-brachter-muehlentag-4/
LOCATION:Brachter Mühle\, Brüggener Straße 13\, Brüggen\, 41379
CATEGORIES:Brauchtum/ Heimatkunde
ATTACH;FMTTYPE=image/jpeg:https://bewusst-brueggen.de/wp-content/uploads/2024/02/Brachter-Muehle_Robin-Vissers-8.jpg
END:VEVENT
BEGIN:VEVENT
DTSTART;TZID=Europe/Berlin:20240707T120000
DTEND;TZID=Europe/Berlin:20240707T180000
DTSTAMP:20260422T155904
CREATED:20240220T113814Z
LAST-MODIFIED:20240220T113814Z
UID:10002895-1720353600-1720375200@bewusst-brueggen.de
SUMMARY:Offener Brachter Mühlentag
DESCRIPTION:Zum Mühlentag sind Interessierte zu einem Besuch der Mühle eingeladen. Die Mühle und das Mühlencafé sind beim Mühlentag geöffnet. Zudem haben die Besucher die Gelegenheit\, sich die Mühle anzusehen\, die Ausstellung zu besichtigen und an Mühlenführungen teilzunehmen. Zusätzlich findet ein Kunstgewerbemarkt statt.
URL:https://bewusst-brueggen.de/kalender/offener-brachter-muehlentag-3/
LOCATION:Brachter Mühle\, Brüggener Straße 13\, Brüggen\, 41379
CATEGORIES:Brauchtum/ Heimatkunde
ATTACH;FMTTYPE=image/jpeg:https://bewusst-brueggen.de/wp-content/uploads/2024/02/Brachter-Muehle_Robin-Vissers-8.jpg
END:VEVENT
BEGIN:VEVENT
DTSTART;TZID=Europe/Berlin:20240602T120000
DTEND;TZID=Europe/Berlin:20240602T180000
DTSTAMP:20260422T155904
CREATED:20240220T111713Z
LAST-MODIFIED:20240220T113158Z
UID:10002894-1717329600-1717351200@bewusst-brueggen.de
SUMMARY:Offener Brachter Mühlentag
DESCRIPTION:Zum Mühlentag sind Interessierte zu einem Besuch der Mühle eingeladen. Die Mühle und das Mühlencafé sind beim Mühlentag geöffnet. Zudem haben die Besucher die Gelegenheit\, sich die Mühle anzusehen\, die Ausstellung zu besichtigen und an Mühlenführungen teilzunehmen.
URL:https://bewusst-brueggen.de/kalender/offener-brachter-muehlentag-2/
LOCATION:Brachter Mühle\, Brüggener Straße 13\, Brüggen\, 41379
CATEGORIES:Brauchtum/ Heimatkunde
ATTACH;FMTTYPE=image/jpeg:https://bewusst-brueggen.de/wp-content/uploads/2024/02/Brachter-Muehle_Robin-Vissers-8.jpg
END:VEVENT
BEGIN:VEVENT
DTSTART;TZID=Europe/Berlin:20240520T120000
DTEND;TZID=Europe/Berlin:20240520T180000
DTSTAMP:20260422T155904
CREATED:20240220T110134Z
LAST-MODIFIED:20240220T110134Z
UID:10002892-1716206400-1716228000@bewusst-brueggen.de
SUMMARY:Brachter Mühle: Teilnahme am Deutschen Mühlentag 2024
DESCRIPTION:Am 20.05.2024 hat die Brachter Mühle – wie bundesweit über 1000 teilnehmende Wind- und Wassermühlen – für Besichtigungen geöffnet und ist als funktionierendes technisches Denkmal zu erleben.\nDas Mühlen-Café lädt zu Kaffee und Kuchen ein und ist von 12:00 bis 17:00 Uhr geöffnet.
URL:https://bewusst-brueggen.de/kalender/brachter-muehle-teilnahme-am-deutschen-muehlentag-2024/
LOCATION:Brachter Mühle\, Brüggener Straße 13\, Brüggen\, 41379
CATEGORIES:Brauchtum/ Heimatkunde
ATTACH;FMTTYPE=image/jpeg:https://bewusst-brueggen.de/wp-content/uploads/2024/02/Brachter-Muehle_Robin-Vissers-8.jpg
END:VEVENT
BEGIN:VEVENT
DTSTART;TZID=Europe/Berlin:20240407T120000
DTEND;TZID=Europe/Berlin:20240407T180000
DTSTAMP:20260422T155904
CREATED:20240220T110448Z
LAST-MODIFIED:20240220T110613Z
UID:10002893-1712491200-1712512800@bewusst-brueggen.de
SUMMARY:Offener Brachter Mühlentag
DESCRIPTION:Zum Mühlentag sind Interessierte zu einem Besuch der Mühle eingeladen. Die Mühle und das Mühlencafé sind beim Mühlentag geöffnet. Zudem haben die Besucher die Gelegenheit\, sich die Mühle anzusehen\, die Ausstellung zu besichtigen und an Mühlenführungen teilzunehmen. Diesmal findet zusätzlich auch der „Brachter Mühlentrödel“ statt.
URL:https://bewusst-brueggen.de/kalender/offener-brachter-muehlentag/
LOCATION:Brachter Mühle\, Brüggener Straße 13\, Brüggen\, 41379
CATEGORIES:Brauchtum/ Heimatkunde
ATTACH;FMTTYPE=image/jpeg:https://bewusst-brueggen.de/wp-content/uploads/2024/02/Brachter-Muehle_Robin-Vissers-8.jpg
END:VEVENT
BEGIN:VEVENT
DTSTART;VALUE=DATE:20231209
DTEND;VALUE=DATE:20231211
DTSTAMP:20260422T155904
CREATED:20230328T093703Z
LAST-MODIFIED:20231213T145446Z
UID:10000333-1702080000-1702252799@bewusst-brueggen.de
SUMMARY:Brachter Mühlenweihnacht
DESCRIPTION:An der Brachter Mühle findet auch in diesem Jahr der gemütliche und familiäre Weihnachtsmarkt am 2. Adventswochenende statt. \nVorwiegend Aussteller aus der Region bieten ein breit gefächertes Sortiment mit künstlerischen wie handwerklichen Waren an. Weihnachts- und Adventsschmuck sind dabei genauso vertreten wie selbstgebastelte Geschenke.Für das kulinarische Wohl ist bestens gesorgt. Naschkatzen finden entweder im Mühlencafé das Richtige oder sie schnabulieren Waffeln\, Crêpes oder Popcorn. Den größeren und deftigen Hunger stillt man mit Pizza\, Pommes\, Reibekuchen oder Champignons. \nDie Kinder dürfen sich an beiden Tagen auf den Besuch des Nikolaus freuen. Musiker und Chöre aus Bracht und der Region runden die Brachter Mühlenweihnacht mit musikalischen Darbietungen ab. \nSamstag\, 09.12. 14:00 – 21.00 Uhr\nSonntag\, 10.12. 11:00 – 18:00 Uhr \nFoto: Elmar Storch
URL:https://bewusst-brueggen.de/kalender/brachter-muehlenweihnacht/
LOCATION:Brachter Mühle\, Brüggener Straße 13\, Brüggen\, 41379
CATEGORIES:Feste / Märkte
ATTACH;FMTTYPE=image/jpeg:https://bewusst-brueggen.de/wp-content/uploads/2023/03/brachter_muehlenweihnacht-e1699444304451.jpg
END:VEVENT
END:VCALENDAR