BEGIN:VCALENDAR
VERSION:2.0
PRODID:-//Bewusst Brüggen - ECPv6.15.20//NONSGML v1.0//EN
CALSCALE:GREGORIAN
METHOD:PUBLISH
X-ORIGINAL-URL:https://bewusst-brueggen.de
X-WR-CALDESC:Veranstaltungen für Bewusst Brüggen
REFRESH-INTERVAL;VALUE=DURATION:PT1H
X-Robots-Tag:noindex
X-PUBLISHED-TTL:PT1H
BEGIN:VTIMEZONE
TZID:Europe/Berlin
BEGIN:DAYLIGHT
TZOFFSETFROM:+0100
TZOFFSETTO:+0200
TZNAME:CEST
DTSTART:20230326T010000
END:DAYLIGHT
BEGIN:STANDARD
TZOFFSETFROM:+0200
TZOFFSETTO:+0100
TZNAME:CET
DTSTART:20231029T010000
END:STANDARD
BEGIN:DAYLIGHT
TZOFFSETFROM:+0100
TZOFFSETTO:+0200
TZNAME:CEST
DTSTART:20240331T010000
END:DAYLIGHT
BEGIN:STANDARD
TZOFFSETFROM:+0200
TZOFFSETTO:+0100
TZNAME:CET
DTSTART:20241027T010000
END:STANDARD
BEGIN:DAYLIGHT
TZOFFSETFROM:+0100
TZOFFSETTO:+0200
TZNAME:CEST
DTSTART:20250330T010000
END:DAYLIGHT
BEGIN:STANDARD
TZOFFSETFROM:+0200
TZOFFSETTO:+0100
TZNAME:CET
DTSTART:20251026T010000
END:STANDARD
BEGIN:DAYLIGHT
TZOFFSETFROM:+0100
TZOFFSETTO:+0200
TZNAME:CEST
DTSTART:20260329T010000
END:DAYLIGHT
BEGIN:STANDARD
TZOFFSETFROM:+0200
TZOFFSETTO:+0100
TZNAME:CET
DTSTART:20261025T010000
END:STANDARD
BEGIN:DAYLIGHT
TZOFFSETFROM:+0100
TZOFFSETTO:+0200
TZNAME:CEST
DTSTART:20270328T010000
END:DAYLIGHT
BEGIN:STANDARD
TZOFFSETFROM:+0200
TZOFFSETTO:+0100
TZNAME:CET
DTSTART:20271031T010000
END:STANDARD
END:VTIMEZONE
BEGIN:VEVENT
DTSTART;TZID=Europe/Berlin:20260419T110000
DTEND;TZID=Europe/Berlin:20260419T170000
DTSTAMP:20260421T202637
CREATED:20250129T113122Z
LAST-MODIFIED:20260310T122708Z
UID:10004633-1776596400-1776618000@bewusst-brueggen.de
SUMMARY:Burggemeinde Brüggen: "Tag der Krisenvorsorge"
DESCRIPTION:Infos zu Hochwasser\, Hitze-Blackout\, Notfallrucksack\, Warnsystemen und einfachen Maßnahmen für zuhause. \nVorträge\, Workshops und praktische Übungen rund um Schutz und Vorbereitung im Krisenfall. \n 
URL:https://bewusst-brueggen.de/kalender/informationsveranstaltung-der-burggemeinde-brueggen/
LOCATION:Nikolausplatz\, Nikolausplatz\, Brüggen\, 41379
CATEGORIES:Verschiedenes
ATTACH;FMTTYPE=image/jpeg:https://bewusst-brueggen.de/wp-content/uploads/2023/08/bewusst-brueggen-sehenswertes-43-historisches-rathaus-brueggen.jpg
ORGANIZER;CN="Burggemeinde Br%C3%BCggen - Dr. Guido Dericks":MAILTO:guido.dericks@brueggen.de
END:VEVENT
BEGIN:VEVENT
DTSTART;TZID=Europe/Berlin:20250522T160000
DTEND;TZID=Europe/Berlin:20250522T160000
DTSTAMP:20260421T202637
CREATED:20250417T131939Z
LAST-MODIFIED:20250417T132235Z
UID:10005366-1747929600-1747929600@bewusst-brueggen.de
SUMMARY:Erste „Krautschau“ im Kreis Viersen: Urbane Vielfalt zum Niederknien
DESCRIPTION:Gemeinsam mit der NABU-Ortsgruppe Brüggen veranstaltet der Klimaschutzmanager Guido Dericks im Rahmen der bundesweiten Aktionswoche #Krautschau eine botanische Wanderung durch den Brüggener Ortskern. Treffpunkt ist um 16:00 Uhr auf dem Nikolausplatz vor dem Rathaus. \nDie Stadtbotanik-Aktion #Krautschau soll mehr Bewusstsein für die Präsenz von Wildpflanzen im urbanen Raum und für die Bedeutung von Natur in den Städten schaffen und wird in Deutschland von der Senckenberg Gesellschaft für Naturforschung unterstützt. \nIn den Städten sind Pflanzen wichtig\, um die Auswirkungen des Klimawandels zu verringern. Es gibt viele Pflanzen\, sogar in versiegelten Innenstädten\, die Lebensräume für Insekten bieten. Diese Pflanzen haben auch Vorteile für Menschen\, wie die Verbesserung der Versickerungsfähigkeit\, Bodenfestigkeit und die Kühlung von Flächen an heißen Tagen. Die Aktion Krautschau fördert das Bewusstsein für diese Pflanzenarten und hilft\, sie richtig zu bestimmen. \nIn Deutschland haben sich über 500 Arten an diese extremen Bedingungen angepasst und stellen\, indem sie Tritt- und Fahrbelastung\, Hitze\, Trockenheit\, Bodenverdichtung und Verschmutzung trotzen\, wertvolle Mikro-Ökosysteme für zahlreiche Insekten und andere Organismen dar. \nHaben Sie Lust\, mit uns die urbane Pflanzenwelt in Brüggen zu erkunden\, dann kommen Sie vorbei und machen mit. Gerne können Sie ein Stück Straßenkreide mitbringen\, um die gefundenen Pflanzen zu kennzeichnen und für andere sichtbar zu machen. \nEs wird keine Anmeldung benötigt. Wir freuen uns auf Ihre Teilnahme.
URL:https://bewusst-brueggen.de/kalender/erste-krautschau-im-kreis-viersen-urbane-vielfalt-zum-niederknien/
LOCATION:Nikolausplatz\, Nikolausplatz\, Brüggen\, 41379
CATEGORIES:Verschiedenes
ATTACH;FMTTYPE=image/jpeg:https://bewusst-brueggen.de/wp-content/uploads/2025/04/bewusst-brueggen-veranstaltung-krautschau.jpg
ORGANIZER;CN="Burggemeinde Br%C3%BCggen - Dr. Guido Dericks":MAILTO:guido.dericks@brueggen.de
END:VEVENT
BEGIN:VEVENT
DTSTART;TZID=Europe/Berlin:20240920T170000
DTEND;TZID=Europe/Berlin:20240920T183000
DTSTAMP:20260421T202637
CREATED:20240912T093303Z
LAST-MODIFIED:20240912T093303Z
UID:10003312-1726851600-1726857000@bewusst-brueggen.de
SUMMARY:Woche der Klimaanpassung 2024: Einladung zum Waldspaziergang
DESCRIPTION:Die Woche der Klimaanpassung vom 16.09. bis 20.09.2024 geht deutschlandweit in die dritte Runde. Die Anpassung der Wälder an den Klimawandel sind von gesamtgesellschaftlichem Interesse und spielen eine große Rolle. Dem Erhalt der Wälder als wichtige Kohlenstoffspeicher kommt hierbei eine besondere Bedeutung zu. Nur klimaangepasste\, nachhaltig bewirtschaftete Wälder sind dauerhaft in der Lage\, neben der CO2-Bindung in Wäldern und Holz auch die anderen Ökosystemleistungen (z. B. Schutz der Biodiversität\, Erholung der Bevölkerung\, Erbringung von weiteren Gemeinwohlleistungen) zu erfüllen. \nAls Burggemeinde Brüggen laden wir alle interessierten Bürgerinnen und Bürger am Freitag\, den 20.09.2024 von 17:00 bis 18:30 Uhr gemeinsam mit Herrn U. Kaulen von Wald und Holz NRW /Regionalforstamt Niederrhein zu einem gemeinsamen Waldspaziergang zum Thema „Klimaangepasstes Waldmanagement“ ein. Startpunkt und Ende der Veranstaltung ist der Wanderparkplatz „An der Waage / Alter Tonlagerplatz“ (Geokoordinaten: 51.286311\, 6.157794) zwischen Heidhausen und Weißer Stein. \nEs wird empfohlen\, angemessene Kleidung und festes Schuhwerk zu tragen. Bei Gewitter und Starkregen findet die Exkursion nicht statt. \nAls Ansprechpartner steht Ihnen Klimaschutzmanager Guido Dericks zur Verfügung.
URL:https://bewusst-brueggen.de/kalender/woche-der-klimaanpassung-2024-einladung-zum-waldspaziergang/
LOCATION:Wanderparkplatz\, An der Waage\, Brüggen\, 41379
CATEGORIES:Führung
ATTACH;FMTTYPE=image/png:https://bewusst-brueggen.de/wp-content/uploads/2024/09/Logo_Brueggen_Klimaschutz.png
ORGANIZER;CN="Burggemeinde Br%C3%BCggen - Dr. Guido Dericks":MAILTO:guido.dericks@brueggen.de
END:VEVENT
BEGIN:VEVENT
DTSTART;TZID=Europe/Berlin:20240901T110000
DTEND;TZID=Europe/Berlin:20240901T170000
DTSTAMP:20260421T202637
CREATED:20240227T103624Z
LAST-MODIFIED:20240326T093240Z
UID:10002901-1725188400-1725210000@bewusst-brueggen.de
SUMMARY:Klima-Tag
DESCRIPTION:Durch das gesteigerte Interesse an Klimaschutz und Nachhaltigkeitsthemen aus der Bevölkerung veranstaltet die Verwaltung den ersten Klima-Tag in der Burggemeinde Brüggen. Hierzu werden unterschiedliche Teilnehmende/Organisationen in der Burggemeinde die Möglichkeit bekommen\, die Bürgerinnen und Bürger zu informieren und Fragen zu klären. Weiterhin werden parallele Fachvorträge zu den unterschiedlichen Themengebieten die Veranstaltung abrunden. Folgende Themenschwerpunkte werden den sachlichen Rahmen des Klima-Tages bilden: \nThemengebiet – Klimaschutz: allg. Klimaschutzthemen\, Sanierung von Gebäuden\, Photovoltaik\, Recycling & Entsorgung\, E-Mobilität\, Fahrrad-Mobilität\, Wärmeplanung\, Regionales\, Landwirtschaft/Ernährung und Nachhaltigkeit \nThemengebiet – Klimafolgen-Anpassung: allg. Klimaanpassungskonzept\, Hochwasser und Starkregenereignisse\, Katastrophenschutzmaßnahmen\, Dach- und Fassadenbegrünung\, Planung Stadtentwicklung & Umsetzung und versch. Arten- und Naturschutzthemen \nDie Teilnahme ist kostenlos. Das finale Programm der Veranstaltung wird nachträglich bekannt gegeben.
URL:https://bewusst-brueggen.de/kalender/klima-tag/
LOCATION:Burggemeindehalle\, Kreuzherrenplatz\, Brüggen\, 41379\, Deutschland
CATEGORIES:Verschiedenes
ATTACH;FMTTYPE=image/jpeg:https://bewusst-brueggen.de/wp-content/uploads/2024/03/bewusst-brueggen-brueggen-klimatag-logo.jpg
ORGANIZER;CN="Burggemeinde Br%C3%BCggen - Dr. Guido Dericks":MAILTO:guido.dericks@brueggen.de
END:VEVENT
END:VCALENDAR