BEGIN:VCALENDAR
VERSION:2.0
PRODID:-//Bewusst Brüggen - ECPv6.15.20//NONSGML v1.0//EN
CALSCALE:GREGORIAN
METHOD:PUBLISH
X-WR-CALNAME:Bewusst Brüggen
X-ORIGINAL-URL:https://bewusst-brueggen.de
X-WR-CALDESC:Veranstaltungen für Bewusst Brüggen
REFRESH-INTERVAL;VALUE=DURATION:PT1H
X-Robots-Tag:noindex
X-PUBLISHED-TTL:PT1H
BEGIN:VTIMEZONE
TZID:Europe/Berlin
BEGIN:DAYLIGHT
TZOFFSETFROM:+0100
TZOFFSETTO:+0200
TZNAME:CEST
DTSTART:20240331T010000
END:DAYLIGHT
BEGIN:STANDARD
TZOFFSETFROM:+0200
TZOFFSETTO:+0100
TZNAME:CET
DTSTART:20241027T010000
END:STANDARD
BEGIN:DAYLIGHT
TZOFFSETFROM:+0100
TZOFFSETTO:+0200
TZNAME:CEST
DTSTART:20250330T010000
END:DAYLIGHT
BEGIN:STANDARD
TZOFFSETFROM:+0200
TZOFFSETTO:+0100
TZNAME:CET
DTSTART:20251026T010000
END:STANDARD
BEGIN:DAYLIGHT
TZOFFSETFROM:+0100
TZOFFSETTO:+0200
TZNAME:CEST
DTSTART:20260329T010000
END:DAYLIGHT
BEGIN:STANDARD
TZOFFSETFROM:+0200
TZOFFSETTO:+0100
TZNAME:CET
DTSTART:20261025T010000
END:STANDARD
END:VTIMEZONE
BEGIN:VEVENT
DTSTART;TZID=Europe/Berlin:20250404T193000
DTEND;TZID=Europe/Berlin:20250404T210000
DTSTAMP:20260425T141259
CREATED:20250214T090039Z
LAST-MODIFIED:20250214T090039Z
UID:10004621-1743795000-1743800400@bewusst-brueggen.de
SUMMARY:Musikalische Lesung mit Willi Achten
DESCRIPTION:Willi Achten liest aus seinem neuen Roman „Die Einmaligkeit des Lebens“. Es geht um das Füreinanderdasein und Abschiednehmen – eine Geschichte voller Demut und Trost. Sein Bruder war immer da\, wenn Simon ihn brauchte. An Ostern 1988 etwa\, als Simon den Judas von dem berühmten Schnitzaltar riss. Auch als wenig später seine Liebe zu Martha zu scheitern drohte\, wusste Vinzenz\, was zu tun war. Musikalisch wird die Lesung begleitet von Johanna Schmidt aus Aachen an der Bratsche. Einlass 19.00 Uhr\, Beginn 19.30 Uhr.  \nTickets über www.ticketshop.nrw oder bei der Tourist-Information in der Burg Brüggen\, Burgwall 4\, 02163/5701 4711.
URL:https://bewusst-brueggen.de/kalender/musikalische-lesung-mit-willi-achten/
LOCATION:Kultursaal Burg Brüggen\, Burgwall 4\, Brüggen\, 41379
CATEGORIES:Kultur
ATTACH;FMTTYPE=image/jpeg:https://bewusst-brueggen.de/wp-content/uploads/2025/02/PIP_urheber6384.jpg
ORGANIZER;CN="Burggemeinde Br%C3%BCggen &amp%3B Buchhandlung Doetsch":MAILTO:judith.Zybell@brueggen.de
END:VEVENT
END:VCALENDAR