BEGIN:VCALENDAR
VERSION:2.0
PRODID:-//Bewusst Brüggen - ECPv6.15.20//NONSGML v1.0//EN
CALSCALE:GREGORIAN
METHOD:PUBLISH
X-ORIGINAL-URL:https://bewusst-brueggen.de
X-WR-CALDESC:Veranstaltungen für Bewusst Brüggen
REFRESH-INTERVAL;VALUE=DURATION:PT1H
X-Robots-Tag:noindex
X-PUBLISHED-TTL:PT1H
BEGIN:VTIMEZONE
TZID:Europe/Berlin
BEGIN:DAYLIGHT
TZOFFSETFROM:+0100
TZOFFSETTO:+0200
TZNAME:CEST
DTSTART:20220327T010000
END:DAYLIGHT
BEGIN:STANDARD
TZOFFSETFROM:+0200
TZOFFSETTO:+0100
TZNAME:CET
DTSTART:20221030T010000
END:STANDARD
BEGIN:DAYLIGHT
TZOFFSETFROM:+0100
TZOFFSETTO:+0200
TZNAME:CEST
DTSTART:20230326T010000
END:DAYLIGHT
BEGIN:STANDARD
TZOFFSETFROM:+0200
TZOFFSETTO:+0100
TZNAME:CET
DTSTART:20231029T010000
END:STANDARD
BEGIN:DAYLIGHT
TZOFFSETFROM:+0100
TZOFFSETTO:+0200
TZNAME:CEST
DTSTART:20240331T010000
END:DAYLIGHT
BEGIN:STANDARD
TZOFFSETFROM:+0200
TZOFFSETTO:+0100
TZNAME:CET
DTSTART:20241027T010000
END:STANDARD
END:VTIMEZONE
BEGIN:VEVENT
DTSTART;TZID=Europe/Berlin:20230826T200000
DTEND;TZID=Europe/Berlin:20230827T010000
DTSTAMP:20260419T214325
CREATED:20230328T161246Z
LAST-MODIFIED:20231213T145524Z
UID:10000353-1693080000-1693098000@bewusst-brueggen.de
SUMMARY:Brüggen Klassiker - Open Air Tag 2
DESCRIPTION:Festivalfeeling in Brüggen.\nEinnehmend. Kreativ. Inspirierend. Stimmungsvoll. \nErlebe einzigartige Musikmomente. Rhythmen\, die mitreißen\, Melodien\, die Erinnerungen wecken\, Songs\, die zum Mitsingen anregen und Musik\, die einfach Spaß macht.\nJahr für Jahr kommen neue einnehmende\, kreative\, inspirierende sowie stimmungsvolle Open Air-Momente dazu. Werde Teil der Brüggen Klassiker Geschichte und sicher dir dein Ticket für dein Open Air an der Burg Brüggen! Tickets über www.ticketshop.nrw \nProgramm:\nSUMMER NIGHT VIBES mit DJ Wombel\nSahneMIXX – Die Reinkarnation von Udo Jürgens
URL:https://bewusst-brueggen.de/kalender/brueggen-klassiker/
LOCATION:Burgwiese\, Burgwall\, Brüggen\, 41379
CATEGORIES:Kultur
ATTACH;FMTTYPE=:
ORGANIZER;CN="Burggemeinde Br%C3%BCggen - Guido Schmidt":MAILTO:guido.schmidt@brueggen.de
END:VEVENT
BEGIN:VEVENT
DTSTART;TZID=Europe/Berlin:20230825T200000
DTEND;TZID=Europe/Berlin:20230826T010000
DTSTAMP:20260419T214325
CREATED:20230712T142748Z
LAST-MODIFIED:20231213T145524Z
UID:10000423-1692993600-1693011600@bewusst-brueggen.de
SUMMARY:Brüggen Klassiker - Open Air Tag 1
DESCRIPTION:Festivalfeeling in Brüggen.\nEinnehmend. Kreativ. Inspirierend. Stimmungsvoll. \nErlebe einzigartige Musikmomente. Rhythmen\, die mitreißen\, Melodien\, die Erinnerungen wecken\, Songs\, die zum Mitsingen anregen und Musik\, die einfach Spaß macht.\nJahr für Jahr kommen neue einnehmende\, kreative\, inspirierende sowie stimmungsvolle Open Air-Momente dazu. Werde Teil der Brüggen Klassiker Geschichte und sicher dir dein Ticket für dein Open Air an der Burg Brüggen! Tickets über www.ticketshop.nrw \nProgramm:\nBand EGOECHO\nRALLE RUDNIK’S V.I.P CLASSIC – World Greatest Classic Rock Hits feat. Phil Bates Ex Electric Light Orchestra-Part 2
URL:https://bewusst-brueggen.de/kalender/brueggen-klassiker-2/
LOCATION:Burgwiese\, Burgwall\, Brüggen\, 41379
CATEGORIES:Kultur
ATTACH;FMTTYPE=:
ORGANIZER;CN="Burggemeinde Br%C3%BCggen - Guido Schmidt":MAILTO:guido.schmidt@brueggen.de
END:VEVENT
END:VCALENDAR