BEGIN:VCALENDAR
VERSION:2.0
PRODID:-//Bewusst Brüggen - ECPv6.15.20//NONSGML v1.0//EN
CALSCALE:GREGORIAN
METHOD:PUBLISH
X-ORIGINAL-URL:https://bewusst-brueggen.de
X-WR-CALDESC:Veranstaltungen für Bewusst Brüggen
REFRESH-INTERVAL;VALUE=DURATION:PT1H
X-Robots-Tag:noindex
X-PUBLISHED-TTL:PT1H
BEGIN:VTIMEZONE
TZID:Europe/Berlin
BEGIN:DAYLIGHT
TZOFFSETFROM:+0100
TZOFFSETTO:+0200
TZNAME:CEST
DTSTART:20220327T010000
END:DAYLIGHT
BEGIN:STANDARD
TZOFFSETFROM:+0200
TZOFFSETTO:+0100
TZNAME:CET
DTSTART:20221030T010000
END:STANDARD
BEGIN:DAYLIGHT
TZOFFSETFROM:+0100
TZOFFSETTO:+0200
TZNAME:CEST
DTSTART:20230326T010000
END:DAYLIGHT
BEGIN:STANDARD
TZOFFSETFROM:+0200
TZOFFSETTO:+0100
TZNAME:CET
DTSTART:20231029T010000
END:STANDARD
BEGIN:DAYLIGHT
TZOFFSETFROM:+0100
TZOFFSETTO:+0200
TZNAME:CEST
DTSTART:20240331T010000
END:DAYLIGHT
BEGIN:STANDARD
TZOFFSETFROM:+0200
TZOFFSETTO:+0100
TZNAME:CET
DTSTART:20241027T010000
END:STANDARD
BEGIN:DAYLIGHT
TZOFFSETFROM:+0100
TZOFFSETTO:+0200
TZNAME:CEST
DTSTART:20250330T010000
END:DAYLIGHT
BEGIN:STANDARD
TZOFFSETFROM:+0200
TZOFFSETTO:+0100
TZNAME:CET
DTSTART:20251026T010000
END:STANDARD
BEGIN:DAYLIGHT
TZOFFSETFROM:+0100
TZOFFSETTO:+0200
TZNAME:CEST
DTSTART:20260329T010000
END:DAYLIGHT
BEGIN:STANDARD
TZOFFSETFROM:+0200
TZOFFSETTO:+0100
TZNAME:CET
DTSTART:20261025T010000
END:STANDARD
BEGIN:DAYLIGHT
TZOFFSETFROM:+0100
TZOFFSETTO:+0200
TZNAME:CEST
DTSTART:20270328T010000
END:DAYLIGHT
BEGIN:STANDARD
TZOFFSETFROM:+0200
TZOFFSETTO:+0100
TZNAME:CET
DTSTART:20271031T010000
END:STANDARD
END:VTIMEZONE
BEGIN:VEVENT
DTSTART;TZID=Europe/Berlin:20260404T140000
DTEND;TZID=Europe/Berlin:20260404T160000
DTSTAMP:20260421T040138
CREATED:20250314T073214Z
LAST-MODIFIED:20260220T113735Z
UID:10005246-1775311200-1775318400@bewusst-brueggen.de
SUMMARY:Osterspaziergang mit Eiersuche
DESCRIPTION:AUF DIE EIER\, FERTIG\, LOS!\nOstereiersuche für Kinder \nAm Samstag\, den 4. April ist es wieder soweit – der Osterhase hat in Brüggen seinen Besuch angekündigt. Im Gepäck hat er jede Menge bunte Eier\, die er auf dem Spielplatz „Piratennest Schloss Dilborn“ verstecken wird. „Im Piratennest und Umgebung gibt es tolle Verstecke!“ schwärmt er. Hoffentlich bleibt keins seiner Verstecke unentdeckt. \nWenn ihr euch an der Ostereiersuche beteiligen wollt\, treffen wir uns alle\, gerne auch mit Oma\, Opa und euren Eltern am Sa. 4. April um 14:00h am Feuerwehrgerätehaus Brüggen\, Nauenweg 2. Von dort aus geht es gemeinsam los in Richtung Spielplatz. \nAuf dem kurzen Weg dorthin gibt viele verschiedene Tiere zu entdecken\, die in unseren Wäldern und Wiesen unterwegs sind. Bärbel Weinmann\, ehrenamtliche Leiterin des Museums Mensch und Jagd und der Freizeitpädagoge\, Timo Tißen\, werden euch mit Geschichten aus der Tierwelt beim Spaziergang begleiten. \nAm Spielplatz angekommen wird dann mit der Eiersuche gestartet. Für euer leibliches Wohl ist natürlich auch gesorgt\, nach der anstrengenden Suche gibt es zur Stärkung Muffins und Getränke.\nDie Kinder\, die nicht so viel Glück bei der Eiersuche hatten\, dürfen sich am Ende ein Tütchen mit leckeren Schokoeiern bei den Gehilfen des Osterhasen abholen. Zusätzlich erwartet euch ein gefiederter Ehrengast: Elke Ewert ist mit ihrer Schleiereule dabei. \nEs freuen sich auf Euch der Osterhase\, der Freundeskreis Schloss Dilborn\, die Mitarbeiterinnen und Mitarbeiter der Alexianer ViaNobis Jugendhilfe Schloss Dilborn\, die Museumsleiterin\, Bärbel Weinmann und die Familienbeauftragte Michaela Mevissen der Burggemeinde Brüggen. \nDie Eiersuche findet bei Wind und Wetter statt.
URL:https://bewusst-brueggen.de/kalender/osterspaziergang-mit-eiersuche-3/
LOCATION:Feuerwache Brüggen\, Nauenweg 2\, Brüggen\, NRW\, 41379\, Deutschland
CATEGORIES:Kinder/ Jugendliche
ATTACH;FMTTYPE=image/jpeg:https://bewusst-brueggen.de/wp-content/uploads/2024/03/ostereier2.jpg
ORGANIZER;CN="Burggemeinde Br%C3%BCggen - Michaela Mevissen":MAILTO:michaela.mevissen@brueggen.de
END:VEVENT
BEGIN:VEVENT
DTSTART;TZID=Europe/Berlin:20240816T140000
DTEND;TZID=Europe/Berlin:20240816T180000
DTSTAMP:20260421T040138
CREATED:20240422T074239Z
LAST-MODIFIED:20240422T074239Z
UID:10002964-1723816800-1723831200@bewusst-brueggen.de
SUMMARY:Ferienabschlussparty Bracht
DESCRIPTION:Am letzten Freitag in den Sommerferien startet an der Brachter Mühle die große Ferienabschlussparty für Kinder und Familien. Rund um die Brachter Mühle gibt es ein tolles Angebot mit Kinderschminken\, Glücksrad\, Hüpfburg und Kettenkarussell. Dank der fleißigen Helfer der KAB Bracht gibt es für alle kostenlos Waffeln und Getränke. Auch der Zauberer kommt wieder zu Besuch. Herzliche Einladung!
URL:https://bewusst-brueggen.de/kalender/ferienabschlussparty-bracht-2/
LOCATION:Brachter Mühle\, Brüggener Straße 13\, Brüggen\, 41379
CATEGORIES:Kinder/ Jugendliche
ATTACH;FMTTYPE=image/jpeg:https://bewusst-brueggen.de/wp-content/uploads/2023/04/bewusst-brueggen-events-kinder-jugend.jpg
ORGANIZER;CN="KAB Pfarrgruppe St. Mari%C3%A4 Himmelfahrt Bracht":MAILTO:willi.leven@kab-bracht.de
END:VEVENT
BEGIN:VEVENT
DTSTART;TZID=Europe/Berlin:20240330T140000
DTEND;TZID=Europe/Berlin:20240330T140000
DTSTAMP:20260421T040138
CREATED:20240304T130327Z
LAST-MODIFIED:20240304T130327Z
UID:10002902-1711807200-1711807200@bewusst-brueggen.de
SUMMARY:Osterspaziergang mit Eiersuche
DESCRIPTION:AUF DIE EIER\, FERTIG\, LOS!\nOstereiersuche für Kinder \nAm Samstag\, den 30. März ist es wieder soweit – der Osterhase hat in Brüggen seinen Besuch angekündigt. Im Gepäck hat er jede Menge bunte Eier\, die er auf dem Spielplatz „Piratennest Schloss Dilborn“ verstecken wird. „Im Piratennest und Umgebung gibt es tolle Verstecke!“ schwärmt er. Hoffentlich bleibt keins seiner Verstecke unentdeckt. \nWenn ihr euch an der Ostereiersuche beteiligen wollt\, treffen wir uns alle\, gerne auch mit Oma\, Opa und euren Eltern am Sa. 30. März um 14:00h am Feuerwehrgerätehaus Brüggen\, Nauenweg 2. Von dort aus geht es gemeinsam los in Richtung Spielplatz. \nAuf dem kurzen Weg dorthin gibt viele verschiedene Tiere zu entdecken\, die in unseren Wäldern und Wiesen unterwegs sind. Bärbel Weinmann\, ehrenamtliche Leiterin des Museums Mensch und Jagd wird euch mit Geschichten aus der Tierwelt beim Spaziergang begleiten. \nAm Spielplatz angekommen wird dann mit der Eiersuche gestartet. Für euer leibliches Wohl ist natürlich auch gesorgt\, nach der anstrengenden Suche gibt es zur Stärkung Muffins und Getränke.\nDie Kinder\, die nicht so viel Glück bei der Eiersuche hatten\, dürfen sich am Ende ein Tütchen mit leckeren Schokoeiern bei den Gehilfen des Osterhasen abholen. \nEs freuen sich auf Euch der Osterhase\, der Förderverein Schloss Dilborn\, die Mitarbeiterinnen und Mitarbeiter von Schloss Dilborn „Via Nobis-Die Jugendhilfe“ und die Familienbeauftragte der Burggemeinde Brüggen. \nDie Eiersuche findet bei Wind und Wetter statt.
URL:https://bewusst-brueggen.de/kalender/osterspaziergang-mit-eiersuche-2/
CATEGORIES:Kinder/ Jugendliche
ATTACH;FMTTYPE=image/jpeg:https://bewusst-brueggen.de/wp-content/uploads/2024/03/ostereier2.jpg
ORGANIZER;CN="Burggemeinde Br%C3%BCggen - Michaela Mevissen":MAILTO:michaela.mevissen@brueggen.de
END:VEVENT
BEGIN:VEVENT
DTSTART;TZID=Europe/Berlin:20240224T200000
DTEND;TZID=Europe/Berlin:20240224T220000
DTSTAMP:20260421T040138
CREATED:20240110T101037Z
LAST-MODIFIED:20240115T115522Z
UID:10001868-1708804800-1708812000@bewusst-brueggen.de
SUMMARY:Männerobst
DESCRIPTION:Mit ihrem Programm „Männerobst“ serviert Simone Fleck in diesem Jahr einen bunten Obstsalat und treibt Alltagssituationen mit viel Humor auf die Spitze.Wie immer schlüpft Simone Fleck in ihrem Programm in verschiedenste Rollen\, wobei weder das männliche noch das weibliche Geschlecht verschont bleiben. \nTickets zum Preis von 19\,00 € über www.ticketshop.nrw
URL:https://bewusst-brueggen.de/kalender/maennerobst/
LOCATION:Bürgersaal Bracht\, Marktstraße 7\, Brüggen\, 41379
CATEGORIES:Kultur
ORGANIZER;CN="Burggemeinde Br%C3%BCggen - Michaela Mevissen":MAILTO:michaela.mevissen@brueggen.de
END:VEVENT
BEGIN:VEVENT
DTSTART;TZID=Europe/Berlin:20230915T100000
DTEND;TZID=Europe/Berlin:20230916T140000
DTSTAMP:20260421T040138
CREATED:20230726T134649Z
LAST-MODIFIED:20231213T145519Z
UID:10000427-1694772000-1694872800@bewusst-brueggen.de
SUMMARY:Brüggen räumt auf!
DESCRIPTION:Wir sind dabei am World Cleanup Day 2023! \nAnmeldungen (Personenzahl und Sammelgebiet) per Email an guido.dericks@brueggen.de\nNähere Informationen zu Ausgabestellen von Müllsäcken und Rückgabe von gesammeltem Müll werden nach Anmeldung mitgeteilt. \nWir freuen uns über Alle\, die mithelfen wollen\, ein Zeichen für eine saubere und müllfreie Umwelt zu setzen.
URL:https://bewusst-brueggen.de/kalender/brueggen-raeumt-auf/
CATEGORIES:Verschiedenes
ATTACH;FMTTYPE=:
END:VEVENT
END:VCALENDAR