BEGIN:VCALENDAR
VERSION:2.0
PRODID:-//Bewusst Brüggen - ECPv6.15.20//NONSGML v1.0//EN
CALSCALE:GREGORIAN
METHOD:PUBLISH
X-WR-CALNAME:Bewusst Brüggen
X-ORIGINAL-URL:https://bewusst-brueggen.de
X-WR-CALDESC:Veranstaltungen für Bewusst Brüggen
REFRESH-INTERVAL;VALUE=DURATION:PT1H
X-Robots-Tag:noindex
X-PUBLISHED-TTL:PT1H
BEGIN:VTIMEZONE
TZID:Europe/Berlin
BEGIN:DAYLIGHT
TZOFFSETFROM:+0100
TZOFFSETTO:+0200
TZNAME:CEST
DTSTART:20250330T010000
END:DAYLIGHT
BEGIN:STANDARD
TZOFFSETFROM:+0200
TZOFFSETTO:+0100
TZNAME:CET
DTSTART:20251026T010000
END:STANDARD
BEGIN:DAYLIGHT
TZOFFSETFROM:+0100
TZOFFSETTO:+0200
TZNAME:CEST
DTSTART:20260329T010000
END:DAYLIGHT
BEGIN:STANDARD
TZOFFSETFROM:+0200
TZOFFSETTO:+0100
TZNAME:CET
DTSTART:20261025T010000
END:STANDARD
BEGIN:DAYLIGHT
TZOFFSETFROM:+0100
TZOFFSETTO:+0200
TZNAME:CEST
DTSTART:20270328T010000
END:DAYLIGHT
BEGIN:STANDARD
TZOFFSETFROM:+0200
TZOFFSETTO:+0100
TZNAME:CET
DTSTART:20271031T010000
END:STANDARD
END:VTIMEZONE
BEGIN:VEVENT
DTSTART;TZID=Europe/Berlin:20260109T193000
DTEND;TZID=Europe/Berlin:20260109T220000
DTSTAMP:20260419T232326
CREATED:20251211T082339Z
LAST-MODIFIED:20251211T082339Z
UID:10006077-1767987000-1767996000@bewusst-brueggen.de
SUMMARY:Neujahrstreff der Burggemeinde Brüggen
DESCRIPTION:„Jeder Neuanfang steckt voller Chancen – man muss sie nur gemeinsam ergreifen.“  \nAm Freitag\, den 9. Januar 2026\, findet in der Burggemeindehalle\, Kreuzherrenplatz 2\, 41379 Brüggen\, von 19:30 bis 22:00 Uhr der Neujahrstreff der Burggemeinde Brüggen statt. Die Veranstaltung\, die früher als Neujahrsempfang bekannt war\, hat sich für die Bürgerinnen und Bürger aller Brüggener Ortsteile zu einem beliebten Treffpunkt entwickelt\, um zusammenzukommen\, zu feiern und miteinander ins Gespräch zu kommen. \nMit einem überarbeiteten Veranstaltungskonzept rückt der Neujahrstreff im neuen Jahr noch stärker den Charakter eines offenen Begegnungs- und Austauschformats in den Mittelpunkt. Mit dem Start in das neue Jahr und dem Beginn seiner Amtszeit möchte Bürgermeister Marcel Johnen frische Impulse setzen. Es soll bewusst Raum für persönliche Gespräche und Begegnungen geschaffen werden\, sodass sich Gäste vernetzen\, austauschen und gemeinsam das neue Jahr begrüßen können. Denn vieles gelingt am besten\, wenn man sich persönlich begegnet. \nErleben Sie einen feierlichen Abend mit der Verleihung der Ehrenplakette der Burggemeinde Brüggen\, dem Auftritt des Chors „Stimmlich“ sowie zahlreichen Gelegenheiten\, die Gemeinschaft in Brüggen zu feiern. Der Neujahrstreff bietet einen offenen Rahmen\, um auf das vergangene Jahr zurückzublicken und zugleich mit Optimismus\, Tatkraft und gemeinschaftlichem Miteinander nach vorne zu schauen. Bürgermeister Marcel Johnen lädt alle Bürgerinnen und Bürger herzlich zu diesem Abend ein. Ebenso willkommen sind Mitglieder der örtlichen Vereine sowie Vertreterinnen und Vertreter aus Politik und Wirtschaft. Die Burggemeinde Brüggen freut sich auf zahlreiche Gäste und einen erfolgreichen Auftakt ins neue Jahr. \n 
URL:https://bewusst-brueggen.de/kalender/neujahrstreff-der-burggemeinde-brueggen/
LOCATION:Burggemeindehalle\, Kreuzherrenplatz\, Brüggen\, 41379\, Deutschland
CATEGORIES:Verschiedenes
ATTACH;FMTTYPE=image/jpeg:https://bewusst-brueggen.de/wp-content/uploads/2025/12/Neujahrstreff.jpg
END:VEVENT
END:VCALENDAR