BEGIN:VCALENDAR
VERSION:2.0
PRODID:-//Bewusst Brüggen - ECPv6.15.20//NONSGML v1.0//EN
CALSCALE:GREGORIAN
METHOD:PUBLISH
X-ORIGINAL-URL:https://bewusst-brueggen.de
X-WR-CALDESC:Veranstaltungen für Bewusst Brüggen
REFRESH-INTERVAL;VALUE=DURATION:PT1H
X-Robots-Tag:noindex
X-PUBLISHED-TTL:PT1H
BEGIN:VTIMEZONE
TZID:Europe/Berlin
BEGIN:DAYLIGHT
TZOFFSETFROM:+0100
TZOFFSETTO:+0200
TZNAME:CEST
DTSTART:20220327T010000
END:DAYLIGHT
BEGIN:STANDARD
TZOFFSETFROM:+0200
TZOFFSETTO:+0100
TZNAME:CET
DTSTART:20221030T010000
END:STANDARD
BEGIN:DAYLIGHT
TZOFFSETFROM:+0100
TZOFFSETTO:+0200
TZNAME:CEST
DTSTART:20230326T010000
END:DAYLIGHT
BEGIN:STANDARD
TZOFFSETFROM:+0200
TZOFFSETTO:+0100
TZNAME:CET
DTSTART:20231029T010000
END:STANDARD
BEGIN:DAYLIGHT
TZOFFSETFROM:+0100
TZOFFSETTO:+0200
TZNAME:CEST
DTSTART:20240331T010000
END:DAYLIGHT
BEGIN:STANDARD
TZOFFSETFROM:+0200
TZOFFSETTO:+0100
TZNAME:CET
DTSTART:20241027T010000
END:STANDARD
END:VTIMEZONE
BEGIN:VEVENT
DTSTART;VALUE=DATE:20231215
DTEND;VALUE=DATE:20231218
DTSTAMP:20260421T172925
CREATED:20230328T093241Z
LAST-MODIFIED:20231215T081119Z
UID:10000327-1702598400-1702857599@bewusst-brueggen.de
SUMMARY:Brüggener Burgweihnacht
DESCRIPTION:In diesem Jahr öffnet zum 1. Mal die Brüggener Burgweihnacht ihre Tore! \nBesucher können an 40 weihnachtlich geschmückten Ständen\, unzählige Geschenkideen\, weihnachtliche Dekorationsartikel\, Kunsthandwerk\, Speisen und Getränke finden. \nFür eine weihnachtliche Stimmung im Burginnenhof sorgen verschiedene Musikgruppen und walking-acts\, die abwechselnd zwischen den Marktständen und Glühweinbuden Weihnachtslieder spielen. \nFür Kinder gibt es ein Lagerfeuer mit Stockbrotbacken und jeweils am Samstag- und Sonntagnachmittag laden wir zum weihnachtlichen Basteln und Vorlesen in den Kultursaal ein.\nHier bitten wir um eine Voranmeldung in der Tourist-Information für Kinder ab 5 Jahren unter: +49 (0) 2163  5701 – 4711. \nAbschließend können die Besucher die Brüggener Burgweihnacht gemeinsam beim Turmblasen feierlich ausklingen lassen. \nNatürlich haben an diesem Wochenende auch die Brüggener Geschäfte geöffnet und ergänzen mit ihrem vielfältigen Warenangebot das Weihnachts-Shopping Erlebnis in Brüggen. \nÖffnungszeiten: \nFreitag:     17:00 – 22:00 Uhr\nSamstag:  14:00 – 22:00 Uhr\nSonntag:   12:00 – 19:00 Uhr \nZahlreiche Parkplätze befinden sich im Ortskern und sind fußläufig zur Burg. \nFoto: NiederrheinTourismus ©Patrick Gawandtka
URL:https://bewusst-brueggen.de/kalender/brueggener-weihnachtsmarkt/
LOCATION:Burg Brüggen\, Burgwall 4\, Brüggen\, 41379
CATEGORIES:Feste / Märkte
ATTACH;FMTTYPE=image/jpeg:https://bewusst-brueggen.de/wp-content/uploads/2023/03/Bedburg-Hau-Moyland-Weihnachtsmarkt-NiederrheinTourismus-©PatrickGawandtka_SA102643.jpg
ORGANIZER;CN="Burggemeinde Br%C3%BCggen - Silke Langner":MAILTO:silke.langner@brueggen.de
END:VEVENT
END:VCALENDAR