BEGIN:VCALENDAR
VERSION:2.0
PRODID:-//Bewusst Brüggen - ECPv6.15.20//NONSGML v1.0//EN
CALSCALE:GREGORIAN
METHOD:PUBLISH
X-ORIGINAL-URL:https://bewusst-brueggen.de
X-WR-CALDESC:Veranstaltungen für Bewusst Brüggen
REFRESH-INTERVAL;VALUE=DURATION:PT1H
X-Robots-Tag:noindex
X-PUBLISHED-TTL:PT1H
BEGIN:VTIMEZONE
TZID:Europe/Berlin
BEGIN:DAYLIGHT
TZOFFSETFROM:+0100
TZOFFSETTO:+0200
TZNAME:CEST
DTSTART:20230326T010000
END:DAYLIGHT
BEGIN:STANDARD
TZOFFSETFROM:+0200
TZOFFSETTO:+0100
TZNAME:CET
DTSTART:20231029T010000
END:STANDARD
BEGIN:DAYLIGHT
TZOFFSETFROM:+0100
TZOFFSETTO:+0200
TZNAME:CEST
DTSTART:20240331T010000
END:DAYLIGHT
BEGIN:STANDARD
TZOFFSETFROM:+0200
TZOFFSETTO:+0100
TZNAME:CET
DTSTART:20241027T010000
END:STANDARD
BEGIN:DAYLIGHT
TZOFFSETFROM:+0100
TZOFFSETTO:+0200
TZNAME:CEST
DTSTART:20250330T010000
END:DAYLIGHT
BEGIN:STANDARD
TZOFFSETFROM:+0200
TZOFFSETTO:+0100
TZNAME:CET
DTSTART:20251026T010000
END:STANDARD
BEGIN:DAYLIGHT
TZOFFSETFROM:+0100
TZOFFSETTO:+0200
TZNAME:CEST
DTSTART:20260329T010000
END:DAYLIGHT
BEGIN:STANDARD
TZOFFSETFROM:+0200
TZOFFSETTO:+0100
TZNAME:CET
DTSTART:20261025T010000
END:STANDARD
BEGIN:DAYLIGHT
TZOFFSETFROM:+0100
TZOFFSETTO:+0200
TZNAME:CEST
DTSTART:20270328T010000
END:DAYLIGHT
BEGIN:STANDARD
TZOFFSETFROM:+0200
TZOFFSETTO:+0100
TZNAME:CET
DTSTART:20271031T010000
END:STANDARD
END:VTIMEZONE
BEGIN:VEVENT
DTSTART;TZID=Europe/Berlin:20260206T181100
DTEND;TZID=Europe/Berlin:20260206T233000
DTSTAMP:20260422T142225
CREATED:20251110T092104Z
LAST-MODIFIED:20260108T133812Z
UID:10006016-1770401460-1770420600@bewusst-brueggen.de
SUMMARY:Frauenkarneval der DollenDohlenDamen Bracht e.V. - ABGESAGT!
DESCRIPTION:Unsere Abendsitzung der DollenDohlenDamen Bracht e.V. am 06.02.2026 \nEinlass 18.11 Uhr\nBeginn 19.11 Uhr \nKartenreservierung ab 11.11.2025 unter tickets@ddbfracht.de oder 01702081992 ab 18 Uhr\nKartenverkauf am Freitag 02.01.2026 19-21 Uhr in der Ratstube Hamers
URL:https://bewusst-brueggen.de/kalender/frauenkarneval-der-dollendohlendamen-bracht-e-v/
LOCATION:Bürgersaal Bracht\, Marktstraße 7\, Brüggen\, 41379
CATEGORIES:Brauchtum/ Heimatkunde
ATTACH;FMTTYPE=image/jpeg:https://bewusst-brueggen.de/wp-content/uploads/2025/11/Dolle-Dohlen-Damen-1.jpg
ORGANIZER;CN="DolleDohlenDamen Bracht e. V.":MAILTO:tickets@dddbracht.de
END:VEVENT
BEGIN:VEVENT
DTSTART;TZID=Europe/Berlin:20260202T161100
DTEND;TZID=Europe/Berlin:20260202T203000
DTSTAMP:20260422T142225
CREATED:20251110T084451Z
LAST-MODIFIED:20260108T133808Z
UID:10006001-1770048660-1770064200@bewusst-brueggen.de
SUMMARY:Frauenkarneval der DollenDohlenDamen Bracht eV. - ABGESAGT!
DESCRIPTION:Unsere Nachmittagssitzung der DollenDohlenDamen Bracht e.v.\nAchtung geänderte Anfangszeiten:\nEinlass 15.11Uhr mit Kaffee und Kuchen (Kaffeegedeck bitte nicht vergessen!)\nBeginn 16.11Uhr\nTicketreservierung ab 11.11.2025 unter tickets@dddbracht.de\nOder 01702081992
URL:https://bewusst-brueggen.de/kalender/frauenkarneval-der-dollendohlendamen-bracht-ev-3/
LOCATION:Bürgersaal Bracht\, Marktstraße 7\, Brüggen\, 41379
CATEGORIES:Brauchtum/ Heimatkunde
ATTACH;FMTTYPE=image/jpeg:https://bewusst-brueggen.de/wp-content/uploads/2025/11/Dolle-Dohlen-Damen-1.jpg
ORGANIZER;CN="DolleDohlenDamen Bracht e. V.":MAILTO:tickets@dddbracht.de
END:VEVENT
BEGIN:VEVENT
DTSTART;TZID=Europe/Berlin:20240202T191100
DTEND;TZID=Europe/Berlin:20240202T191100
DTSTAMP:20260422T142225
CREATED:20240117T103418Z
LAST-MODIFIED:20240117T103418Z
UID:10001217-1706901060-1706901060@bewusst-brueggen.de
SUMMARY:Frauensitzung der DollenDohlenDamenBracht.ev.
DESCRIPTION:Karneval von Frauen für Frauen der DollenDohlenDamen Bracht e. V.
URL:https://bewusst-brueggen.de/kalender/frauensitzung-der-dollendohlendamenbracht-ev-2/
LOCATION:Bürgersaal Bracht\, Marktstraße 7\, Brüggen\, 41379
CATEGORIES:Brauchtum/ Heimatkunde
ATTACH;FMTTYPE=image/jpeg:https://bewusst-brueggen.de/wp-content/uploads/2023/03/bewusst-brueggen-events-heimatkunde.jpg
ORGANIZER;CN="DolleDohlenDamen Bracht e. V.":MAILTO:tickets@dddbracht.de
END:VEVENT
BEGIN:VEVENT
DTSTART;TZID=Europe/Berlin:20240129T141100
DTEND;TZID=Europe/Berlin:20240129T193000
DTSTAMP:20260422T142225
CREATED:20240116T115644Z
LAST-MODIFIED:20240116T115644Z
UID:10001911-1706537460-1706556600@bewusst-brueggen.de
SUMMARY:Frauensitzung der DollenDohlenDamenBracht.ev.
DESCRIPTION:Karneval von Frauen für Frauen der DollenDohlenDamen Bracht e. V. Kartenanfragen über tickets@dddbracht
URL:https://bewusst-brueggen.de/kalender/frauensitzung-der-dollendohlendamenbracht-ev/
LOCATION:Bürgersaal Bracht\, Marktstraße 7\, Brüggen\, 41379
CATEGORIES:Brauchtum/ Heimatkunde
ATTACH;FMTTYPE=image/jpeg:https://bewusst-brueggen.de/wp-content/uploads/2023/03/bewusst-brueggen-events-heimatkunde.jpg
ORGANIZER;CN="DolleDohlenDamen Bracht e. V.":MAILTO:tickets@dddbracht.de
END:VEVENT
END:VCALENDAR