BEGIN:VCALENDAR
VERSION:2.0
PRODID:-//Bewusst Brüggen - ECPv6.15.20//NONSGML v1.0//EN
CALSCALE:GREGORIAN
METHOD:PUBLISH
X-WR-CALNAME:Bewusst Brüggen
X-ORIGINAL-URL:https://bewusst-brueggen.de
X-WR-CALDESC:Veranstaltungen für Bewusst Brüggen
REFRESH-INTERVAL;VALUE=DURATION:PT1H
X-Robots-Tag:noindex
X-PUBLISHED-TTL:PT1H
BEGIN:VTIMEZONE
TZID:Europe/Berlin
BEGIN:DAYLIGHT
TZOFFSETFROM:+0100
TZOFFSETTO:+0200
TZNAME:CEST
DTSTART:20220327T010000
END:DAYLIGHT
BEGIN:STANDARD
TZOFFSETFROM:+0200
TZOFFSETTO:+0100
TZNAME:CET
DTSTART:20221030T010000
END:STANDARD
BEGIN:DAYLIGHT
TZOFFSETFROM:+0100
TZOFFSETTO:+0200
TZNAME:CEST
DTSTART:20230326T010000
END:DAYLIGHT
BEGIN:STANDARD
TZOFFSETFROM:+0200
TZOFFSETTO:+0100
TZNAME:CET
DTSTART:20231029T010000
END:STANDARD
BEGIN:DAYLIGHT
TZOFFSETFROM:+0100
TZOFFSETTO:+0200
TZNAME:CEST
DTSTART:20240331T010000
END:DAYLIGHT
BEGIN:STANDARD
TZOFFSETFROM:+0200
TZOFFSETTO:+0100
TZNAME:CET
DTSTART:20241027T010000
END:STANDARD
BEGIN:DAYLIGHT
TZOFFSETFROM:+0100
TZOFFSETTO:+0200
TZNAME:CEST
DTSTART:20250330T010000
END:DAYLIGHT
BEGIN:STANDARD
TZOFFSETFROM:+0200
TZOFFSETTO:+0100
TZNAME:CET
DTSTART:20251026T010000
END:STANDARD
BEGIN:DAYLIGHT
TZOFFSETFROM:+0100
TZOFFSETTO:+0200
TZNAME:CEST
DTSTART:20260329T010000
END:DAYLIGHT
BEGIN:STANDARD
TZOFFSETFROM:+0200
TZOFFSETTO:+0100
TZNAME:CET
DTSTART:20261025T010000
END:STANDARD
END:VTIMEZONE
BEGIN:VEVENT
DTSTART;TZID=Europe/Berlin:20250428T000000
DTEND;TZID=Europe/Berlin:20250515T000000
DTSTAMP:20260420T065746
CREATED:20250429T072605Z
LAST-MODIFIED:20250429T072605Z
UID:10005374-1745798400-1747267200@bewusst-brueggen.de
SUMMARY:Bücherverkauf in der Gemeindebücherei Brüggen
DESCRIPTION:Platz für Neues – Bücherflohmarkt in der Gemeindebücherei!\nDamit unser Regalplatz für spannende Neuerscheinungen reicht\, müssen wir uns regelmäßig von einigen Büchern trennen. Für euch bedeutet das: stöbern\, entdecken und günstig mitnehmen! \nOb Kinderbuch\, Roman oder Sachbuch – unter rund 600 ausgesonderten Büchern ist für jeden Geschmack etwas dabei. Für nur 50 Cent bis 4 € pro Buch lohnt sich ein Blick allemal.\nSchaut vorbei und gebt den Büchern ein neues Zuhause! \nZeitraum: 28.04. bis zum 15.05.2025 \nÖffnungszeiten:\nmontags: 10-12.30 und 15 bis 18 Uhr\ndienstags 10-12 und 14-17 Uhr\ndonnerstags von 10-12.30 und 15-17 Uhr
URL:https://bewusst-brueggen.de/kalender/buecherverkauf-in-der-gemeindebuecherei-brueggen/
LOCATION:Gemeindebücherei Brüggen\, Kreuzherrenpatz 4\, Brüggen\, 41379
CATEGORIES:Verschiedenes
ATTACH;FMTTYPE=image/jpeg:https://bewusst-brueggen.de/wp-content/uploads/2025/04/bewusst-brueggen-event-buecherverkauf.jpg
ORGANIZER;CN="Gemeindeb%C3%BCcherei Br%C3%BCggen":MAILTO:buecherei@brueggen.de
END:VEVENT
BEGIN:VEVENT
DTSTART;TZID=Europe/Berlin:20250319T160000
DTEND;TZID=Europe/Berlin:20250319T170000
DTSTAMP:20260420T065746
CREATED:20250204T085035Z
LAST-MODIFIED:20250204T101350Z
UID:10004637-1742400000-1742403600@bewusst-brueggen.de
SUMMARY:Lese-Café
DESCRIPTION:Gemütlich bei Café und Kuchen\, wird interessierten Erwachsenen vorgelesen.\nZwischen den Lesungen\, haben Sie reichlich Zeit sich auszutauschen\, über Bücher\, über bestimmte Themen oder einfach nur das ganz normale Leben.\nInmitten der Kulisse von tausenden Büchern und deren Geschichten\, können Sie sich auf einen vergnüglichen Nachmittag freuen.\nEintrittskarten erhalten Sie in der Gemeindebücherei Brüggen.
URL:https://bewusst-brueggen.de/kalender/lese-cafe/
LOCATION:Gemeindebücherei Brüggen\, Kreuzherrenpatz 4\, Brüggen\, 41379
CATEGORIES:Senioren
ATTACH;FMTTYPE=image/jpeg:https://bewusst-brueggen.de/wp-content/uploads/2025/02/books-5615562_640.jpg
ORGANIZER;CN="Gemeindeb%C3%BCcherei Br%C3%BCggen":MAILTO:buecherei@brueggen.de
END:VEVENT
BEGIN:VEVENT
DTSTART;TZID=Europe/Berlin:20250310T141500
DTEND;TZID=Europe/Berlin:20250310T151500
DTSTAMP:20260420T065746
CREATED:20250204T085308Z
LAST-MODIFIED:20250204T085308Z
UID:10004636-1741616100-1741619700@bewusst-brueggen.de
SUMMARY:Vorlesezeit in der Gemeindebücherei
DESCRIPTION:Lesepatinnen lesen Kinder von 4 -6 Jahren aus der wunderschönen Bilderbüchern der Gemeindebücherei vor. Termine sind 10.\, 17. und 24. März 2025.\nJeweils montags von 14.15 – 14.45 h und 14.45 Uhr bis 15.15 Uhr (zwei Gruppen) gibt´s ordentlich was auf die Ohren.\nMaximal 6 Kinder können\, nach Anmeldung an diesen kostenlosen Lesungen teilhaben.
URL:https://bewusst-brueggen.de/kalender/vorlesezeit-in-der-gemeindebuecherei/
LOCATION:Gemeindebücherei Brüggen\, Kreuzherrenpatz 4\, Brüggen\, 41379
CATEGORIES:Kinder/ Jugendliche
ATTACH;FMTTYPE=image/jpeg:https://bewusst-brueggen.de/wp-content/uploads/2025/02/boy-4793110_640.jpg
ORGANIZER;CN="Gemeindeb%C3%BCcherei Br%C3%BCggen":MAILTO:buecherei@brueggen.de
END:VEVENT
BEGIN:VEVENT
DTSTART;TZID=Europe/Berlin:20241025T190000
DTEND;TZID=Europe/Berlin:20241025T203000
DTSTAMP:20260420T065746
CREATED:20240911T081055Z
LAST-MODIFIED:20240912T072938Z
UID:10003310-1729882800-1729888200@bewusst-brueggen.de
SUMMARY:Vortrag "Positive und negative Erwartungen\, wie sie unser Leben formen"
DESCRIPTION:Vortrag zum Thema: Positive und negative Erwartungen: Wie sie unser Leben formen\nvon Birgit Kerstin in der Gemeindebücherei Brüggen \nWir leben in einer Gesellschaft voller Erwartungen: persönliche\, berufliche\, politische\, partnerschaftliche\, familiäre.\nHäufig beruhen sie auf Gedanken\, die wir mit uns tragen; oft liegt ihr Ausgangspunkt in Verhalten\, das wir übernommen haben.\nWesentlich für ein harmonisches Lebensgefühl ist unserer Fähigkeit zu neutraler Wahrnehmung.Wir kennen positiven Effekte\, wenn Erwartungen uns beispielsweise mit Motivation und Zielsetzung versehen.\nNegative Effekte entstehen\, wenn wir unausgesprochen von ihrer Erfüllung ausgehen und so Enttäuschung und Frustration erleben. \nBei diesem Vortrag fragen wir uns: Wo stehe ich mit meinen Erwartungen?\nWenn ich in meinem Leben viele negative Erlebnisse verzeichne\, könnte es an einer unbewussten Erwartungshaltung liegen?\nWenn ich übermotiviert und deshalb erschöpft bin\, liegt die Messlatte meiner Erwartungen vielleicht zu hoch? Warum? \nAn diesem Abend sprechen wir über Lösungen und Denkansätze\, die die Bürde falscher Erwartungen erleichtern könnten! \nEintrittskarten für diesen Vortrag erhalten Sie für 5 € in der Gemeindebücherei Brüggen\, 41379 Brüggen\, Tel. 02163/5701555\, buecherei@brueggen.de
URL:https://bewusst-brueggen.de/kalender/vortrag-positive-und-negative-erwartungen-wie-sie-unser-leben-formen/
LOCATION:Gemeindebücherei Brüggen\, Kreuzherrenpatz 4\, Brüggen\, 41379
CATEGORIES:Verschiedenes
ATTACH;FMTTYPE=image/jpeg:https://bewusst-brueggen.de/wp-content/uploads/2024/09/Buecherei-innen-sehr-gut-Kopie.jpg
ORGANIZER;CN="Gemeindeb%C3%BCcherei Br%C3%BCggen":MAILTO:buecherei@brueggen.de
END:VEVENT
BEGIN:VEVENT
DTSTART;VALUE=DATE:20241021
DTEND;VALUE=DATE:20241115
DTSTAMP:20260420T065746
CREATED:20241021T103136Z
LAST-MODIFIED:20241021T103136Z
UID:10003330-1729468800-1731628799@bewusst-brueggen.de
SUMMARY:Bücherverkauf
DESCRIPTION:Es sind wieder jede Menge neue Bücher in der Gemeindebücherei eingetroffen; deshalb müssen ältere Bücher weichen. Wir verkaufen vom 21.10. bis zum 14.11.2024 rund 500 Bücher aus unserem Bestand. \nSind Sie auf der Suche nach Ferienlektüre oder suchen Sie spezielle Bücher? Dann kommen Sie doch einfach mal rein. Für 5 Cent bis 4 €\, sollten auch Sie fündig werden. \nDie Öffnungszeiten der Gemeindebücherei sind:\nMontags:10-12.30 und 14.00 – 18.00 Uhr\nDienstags 10.00-12.00 und 14.00-17.00 Uhr\nDonnerstags 10.00-12.30 und 14.00 -17.00 Uhr
URL:https://bewusst-brueggen.de/kalender/buecherverkauf-2/
LOCATION:Gemeindebücherei Brüggen\, Kreuzherrenpatz 4\, Brüggen\, 41379
CATEGORIES:Verschiedenes
ATTACH;FMTTYPE=image/jpeg:https://bewusst-brueggen.de/wp-content/uploads/2024/10/Aufgeschlagenes-Buch.jpg
ORGANIZER;CN="Gemeindeb%C3%BCcherei Br%C3%BCggen":MAILTO:buecherei@brueggen.de
END:VEVENT
BEGIN:VEVENT
DTSTART;TZID=Europe/Berlin:20241011T180000
DTEND;TZID=Europe/Berlin:20241011T180000
DTSTAMP:20260420T065746
CREATED:20240829T110239Z
LAST-MODIFIED:20240829T110239Z
UID:10003304-1728669600-1728669600@bewusst-brueggen.de
SUMMARY:Autorenlesung von Christel Netuschil
DESCRIPTION:Christel Netuschil liest aus ihrem neuen Roman „Das Herz der Toskana“ \nAm Freitag\, den 11.10.2025\, um 18.00 Uhr\, liest Christel Netuschil in der Gemeindebücherei Brüggen aus Ihrem neuen Frauenroman: „Das Herz der Toskana“ \nDas Buch ist diesen Sommer erschienen und die Overhetfelder Autorin\, wird Teile der Geschichte lesen.\nZum Inhalt: Über die Liebe\, die Hoffnung und den Mut\, dem eigenen Herzen zu folgen.\nAls die Weddingplanerin Eliza auf einer Hochzeitsfeier zusammenbricht\, muss sie einsehen\, dass sie dringend eine Auszeit benötigt. Widerwillig akzeptier sie das Angebot ihrer besten Freundin\, für ein paar Wochen in dem leerstehenden Anwesen ihres Onkels im toskanischen Montabello zu verweilen. Das süße Nichtstun fällt ihr jedoch schwer und sie ist froh\, ihrem gutaussehenden\, aber griesgrämigen Nachbarn Valerio ihre Hilfe anbieten zu können. Der hat nämlich erfahren\, dass sein Elternhaus mit der angrenzenden Schmetterlingsfarm für den Bau einer Ferienanlage abgerissen werden soll. Nach einigen gegenseitigen Anlaufschwierigkeiten lässt er sich auf Elizas Plan ein\, erste Renovierungsarbeiten am Haus in Angriff zu nehmen\, um dem Eigentümer des Grundstückes von seiner Einzigartigkeit und Schönheit zu überzeugen und ihn so vom geplanten Abriss abzubringen Zwischen Farbeimern und bunten Schmetterlingen kommen sich die beiden langsam näher. Schaffen sie es\, das Haus gemeinsam zu retten oder sind ihre Welten einfach zu verschieden? \nEintrittskarten sind zum Preis von 5 € in der Gemeindebücherei Brüggen erhältlich.\nTelefon: 02163/5701555 oder Mail: buecherei@brueggen.de
URL:https://bewusst-brueggen.de/kalender/autorenlesung-von-christel-netuschil/
LOCATION:Gemeindebücherei Brüggen\, Kreuzherrenpatz 4\, Brüggen\, 41379
CATEGORIES:Verschiedenes
ATTACH;FMTTYPE=image/jpeg:https://bewusst-brueggen.de/wp-content/uploads/2024/08/Marketing-Cover-e1725459050459.jpg
ORGANIZER;CN="Gemeindeb%C3%BCcherei Br%C3%BCggen":MAILTO:buecherei@brueggen.de
END:VEVENT
BEGIN:VEVENT
DTSTART;TZID=Europe/Berlin:20240418T100000
DTEND;TZID=Europe/Berlin:20240418T113000
DTSTAMP:20260420T065746
CREATED:20240130T095924Z
LAST-MODIFIED:20240130T095924Z
UID:10002028-1713434400-1713439800@bewusst-brueggen.de
SUMMARY:Autorenlesung in der Gemeindebücherei
DESCRIPTION:Der bekannte Kinderbuchautor THILO liest aus seinem Abenteuerroman „Animal Heroes“\, Falkenflügel\, in der Gemeindebücherei Brüggen für Kinder des 3. Schuljahres.
URL:https://bewusst-brueggen.de/kalender/autorenlesung-in-der-gemeindebuecherei/
LOCATION:Gemeindebücherei Brüggen\, Kreuzherrenpatz 4\, Brüggen\, 41379
CATEGORIES:Kinder/ Jugendliche
ATTACH;FMTTYPE=image/jpeg:https://bewusst-brueggen.de/wp-content/uploads/2024/01/Entwurf-Sitzungskalender-2017-001.jpg
ORGANIZER;CN="Gemeindeb%C3%BCcherei Br%C3%BCggen":MAILTO:buecherei@brueggen.de
END:VEVENT
BEGIN:VEVENT
DTSTART;TZID=Europe/Berlin:20240320T160000
DTEND;TZID=Europe/Berlin:20240320T170000
DTSTAMP:20260420T065746
CREATED:20240312T100105Z
LAST-MODIFIED:20240312T100105Z
UID:10002907-1710950400-1710954000@bewusst-brueggen.de
SUMMARY:Lese-Café in der Gemeindebücherei
DESCRIPTION:Mögen Sie Geschichten hören? Dann sind Sie im Lese-Café richtig! Umgeben von vielen Büchern\, werden Ihnen und weiteren Interessenten spannende\, lustige\, herzerwärmende Geschichten gekonnt von Miriam Jansen und Anne Ingenrieth vorgelesen. Anschließend bieten wir Kaffee und Kuchen zum Selbstkostenpreis an. So haben Sie die Chance\, mit neuen Menschen ins Gespräch zu kommen\, auch ohne Mitgliedschaft in der Gemeindebücherei. Da die Plätze begrenzt sind und wir natürlich genügend Kaffee und Kuchen für Sie vorrätig haben möchten\, erwerben Sie bitte die Eintrittskarten für 5 € in der Gemeindebücherei Brüggen\, Kreuzherrenplatz 4\, 41379 Brüggen.\nAm Mittwoch\, den 20. März 2024\, 15-16.00 Uhr\, startet das diesjährige Lese-Café in der Gemeindebücherei.
URL:https://bewusst-brueggen.de/kalender/lese-cafe-in-der-gemeindebuecherei/
LOCATION:Gemeindebücherei Brüggen\, Kreuzherrenpatz 4\, Brüggen\, 41379
CATEGORIES:Kultur
ATTACH;FMTTYPE=image/jpeg:https://bewusst-brueggen.de/wp-content/uploads/2024/03/Buch-e1710147279965.jpg
ORGANIZER;CN="Gemeindeb%C3%BCcherei Br%C3%BCggen":MAILTO:buecherei@brueggen.de
END:VEVENT
BEGIN:VEVENT
DTSTART;TZID=Europe/Berlin:20240306T110000
DTEND;TZID=Europe/Berlin:20240306T120000
DTSTAMP:20260420T065746
CREATED:20240130T095704Z
LAST-MODIFIED:20240130T095704Z
UID:10002030-1709722800-1709726400@bewusst-brueggen.de
SUMMARY:Gemeindebücherei: Lesekreis
DESCRIPTION:Im Lesekreis wird diesmal das Buch „Paradise Garden“ von Elena Fischer besprochen. Das Buch sollte im Vorfeld der Veranstaltung gelesen werden. Eine telefonische Anmeldung unter 02163/5701-555 ist erforderlich.
URL:https://bewusst-brueggen.de/kalender/gemeindebuecherei-lesekreis/
LOCATION:Gemeindebücherei Brüggen\, Kreuzherrenpatz 4\, Brüggen\, 41379
CATEGORIES:Kultur
ORGANIZER;CN="Gemeindeb%C3%BCcherei Br%C3%BCggen":MAILTO:buecherei@brueggen.de
END:VEVENT
BEGIN:VEVENT
DTSTART;TZID=Europe/Berlin:20240302T110000
DTEND;TZID=Europe/Berlin:20240302T120000
DTSTAMP:20260420T065746
CREATED:20240130T100215Z
LAST-MODIFIED:20240130T100215Z
UID:10002029-1709377200-1709380800@bewusst-brueggen.de
SUMMARY:Mitmachlesung in der Gemeindebücherei
DESCRIPTION:Katrin Pokahr liest aus ihrem neuen Kinderbuch „Voll molliwollig“: Ein Schaf kommt selten allein.\nEs handelt sich um eine Mitmachlesung für Eltern mit Kinder von 4-7 Jahren.\nEin Schaf als Haustier? Das wäre schön!\, denken sich Lola und Joppe\, als sie auf der Wiese am Stadtrand ein freundliches Schaf kennenlernen. Sie laden es zu sich ein\, und weil es ein Schaf allein nun mal nicht gibt\, kommt gleich die ganze Herde mit. Und was dann passiert\, erfahren die kleinen Zuhörer live in der Bücherei.
URL:https://bewusst-brueggen.de/kalender/mitmachlesung-in-der-gemeindebuecherei/
LOCATION:Gemeindebücherei Brüggen\, Kreuzherrenpatz 4\, Brüggen\, 41379
CATEGORIES:Kinder/ Jugendliche
ORGANIZER;CN="Gemeindeb%C3%BCcherei Br%C3%BCggen":MAILTO:buecherei@brueggen.de
END:VEVENT
BEGIN:VEVENT
DTSTART;VALUE=DATE:20230928
DTEND;VALUE=DATE:20231018
DTSTAMP:20260420T065746
CREATED:20231011T072547Z
LAST-MODIFIED:20231213T145513Z
UID:10000831-1695859200-1697587199@bewusst-brueggen.de
SUMMARY:Bücherverkauf
DESCRIPTION:Die Gemeindebücherei hat Platz geschaffen und bietet daher jede Menge Bücherschnäppchen zum Verkauf an. \nÜber 1.000 Bücher\, davon viele Nachschlagewerke\, können während der Öffnungszeiten\, vom 28.09. bis einschließlich 17.10.23\, für kleines Geld\, erworben werden. \nÖffnungszeiten: \nmontags von 10.00 bis 12.30 Uhr und von 14.00 bis 18.00 Uhr\,\ndienstags von 10.00 -12.00 und 14.00 Uhr bis 17.00 Uhr und\ndonnerstags von 10.00 bis 12.30 und 14.00 bis 17.00 Uhr.
URL:https://bewusst-brueggen.de/kalender/buecherverkauf/
LOCATION:Gemeindebücherei Brüggen\, Kreuzherrenpatz 4\, Brüggen\, 41379
CATEGORIES:Kultur
ATTACH;FMTTYPE=image/jpeg:https://bewusst-brueggen.de/wp-content/uploads/2023/03/bewusst-brueggen-events-kultur.jpg
ORGANIZER;CN="Gemeindeb%C3%BCcherei Br%C3%BCggen":MAILTO:buecherei@brueggen.de
END:VEVENT
BEGIN:VEVENT
DTSTART;TZID=Europe/Berlin:20230321T100000
DTEND;TZID=Europe/Berlin:20230321T180000
DTSTAMP:20260420T065746
CREATED:20230317T095113Z
LAST-MODIFIED:20231213T145629Z
UID:10000292-1679392800-1679421600@bewusst-brueggen.de
SUMMARY:Geschichten und Rätselraten in der Gemeindebücherei
DESCRIPTION:Geschichten und Rätselraten in der Gemeindebücherei Brüggen
URL:https://bewusst-brueggen.de/kalender/geschichten-und-raetselraten-in-der-gemeindebuecherei/
LOCATION:Gemeindebücherei Brüggen\, Kreuzherrenpatz 4\, Brüggen\, 41379
CATEGORIES:Kinder/ Jugendliche
ATTACH;FMTTYPE=:
ORGANIZER;CN="Gemeindeb%C3%BCcherei Br%C3%BCggen":MAILTO:buecherei@brueggen.de
END:VEVENT
END:VCALENDAR