BEGIN:VCALENDAR
VERSION:2.0
PRODID:-//Bewusst Brüggen - ECPv6.15.20//NONSGML v1.0//EN
CALSCALE:GREGORIAN
METHOD:PUBLISH
X-ORIGINAL-URL:https://bewusst-brueggen.de
X-WR-CALDESC:Veranstaltungen für Bewusst Brüggen
REFRESH-INTERVAL;VALUE=DURATION:PT1H
X-Robots-Tag:noindex
X-PUBLISHED-TTL:PT1H
BEGIN:VTIMEZONE
TZID:Europe/Berlin
BEGIN:DAYLIGHT
TZOFFSETFROM:+0100
TZOFFSETTO:+0200
TZNAME:CEST
DTSTART:20240331T010000
END:DAYLIGHT
BEGIN:STANDARD
TZOFFSETFROM:+0200
TZOFFSETTO:+0100
TZNAME:CET
DTSTART:20241027T010000
END:STANDARD
BEGIN:DAYLIGHT
TZOFFSETFROM:+0100
TZOFFSETTO:+0200
TZNAME:CEST
DTSTART:20250330T010000
END:DAYLIGHT
BEGIN:STANDARD
TZOFFSETFROM:+0200
TZOFFSETTO:+0100
TZNAME:CET
DTSTART:20251026T010000
END:STANDARD
BEGIN:DAYLIGHT
TZOFFSETFROM:+0100
TZOFFSETTO:+0200
TZNAME:CEST
DTSTART:20260329T010000
END:DAYLIGHT
BEGIN:STANDARD
TZOFFSETFROM:+0200
TZOFFSETTO:+0100
TZNAME:CET
DTSTART:20261025T010000
END:STANDARD
BEGIN:DAYLIGHT
TZOFFSETFROM:+0100
TZOFFSETTO:+0200
TZNAME:CEST
DTSTART:20270328T010000
END:DAYLIGHT
BEGIN:STANDARD
TZOFFSETFROM:+0200
TZOFFSETTO:+0100
TZNAME:CET
DTSTART:20271031T010000
END:STANDARD
END:VTIMEZONE
BEGIN:VEVENT
DTSTART;TZID=Europe/Berlin:20260406T100000
DTEND;TZID=Europe/Berlin:20260406T123000
DTSTAMP:20260420T201337
CREATED:20260304T100844Z
LAST-MODIFIED:20260304T100844Z
UID:10006592-1775469600-1775478600@bewusst-brueggen.de
SUMMARY:Eiersuche im Hallenbad
DESCRIPTION:Am Osterfest wird’s bunt\, verspielt und richtig nass!\nUm 11.00 Uhr bekommt das Hallenbad Brüggen ganz besonderen Besuch: Der Osterhase kommt vorbei!\nFreut euch auf lustige Spiele im und am Wasser\, eine spannende Eiersuche und jede Menge Spaß für kleine Wasserratten und große Badefans. Gemeinsam lachen\, spielen und Ostern mal ganz anders erleben – mitten im Schwimmbad! \nPackt eure Familie ein und kommt vorbei – wir freuen uns auf große und kleine Besucher und ein fröhliches Osterfest mit euch! \nDie Aktion ist im Eintrittspreis enthalten.\nKeine Anmeldung erforderlich.
URL:https://bewusst-brueggen.de/kalender/eiersuche-im-hallenbad/
LOCATION:Hallenbad Brüggen\, Hochstraße 33\, Brüggen\, 41379
CATEGORIES:Kinder/ Jugendliche
ATTACH;FMTTYPE=image/jpeg:https://bewusst-brueggen.de/wp-content/uploads/2026/02/Ostern-2026-1-1-1.jpg
ORGANIZER;CN="Hallenbad Br%C3%BCggen":MAILTO:hallenbad@brueggen.de
END:VEVENT
BEGIN:VEVENT
DTSTART;TZID=Europe/Berlin:20260306T150000
DTEND;TZID=Europe/Berlin:20260306T170000
DTSTAMP:20260420T201337
CREATED:20260115T112959Z
LAST-MODIFIED:20260115T113042Z
UID:10006115-1772809200-1772816400@bewusst-brueggen.de
SUMMARY:Spielenachmittag im Hallenbad
DESCRIPTION:Spielenachmittag im Hallenbad Brueggen!\nJeden ersten Freitag im Monat von 15.00 bis 17.00 Uhr laden wir herzlich zum Spielenachmittag ein.\nEltern und Kinder sind gemeinsam willkommen und erleben unvergessliche Stunden voller Bewegung\, Spiel und Spaß.\nFreut euch auf eine fröhliche Atmosphäre im Wasser mit vielen Spielmöglichkeiten für Groß und Klein.\nDas Beste daran: Spiel und Spaß sind bereits im Eintrittspreis enthalten.\nKommt vorbei und verbringt einen aktiven und fröhlichen Nachmittag im Hallenbad Brüggen! \nEuer Team vom Hallenbad freut sich auf Euch!
URL:https://bewusst-brueggen.de/kalender/spielenachmittag-im-hallenbad/2026-03-06/
LOCATION:Hallenbad Brüggen\, Hochstraße 33\, Brüggen\, 41379
CATEGORIES:Kinder/ Jugendliche
ATTACH;FMTTYPE=image/jpeg:https://bewusst-brueggen.de/wp-content/uploads/2026/01/1768474299161-9f2f510a-88ec-4893-85ac-8cabee99fcc1_1-1.jpg
ORGANIZER;CN="Hallenbad Br%C3%BCggen":MAILTO:hallenbad@brueggen.de
END:VEVENT
BEGIN:VEVENT
DTSTART;TZID=Europe/Berlin:20260206T150000
DTEND;TZID=Europe/Berlin:20260206T170000
DTSTAMP:20260420T201337
CREATED:20260115T112959Z
LAST-MODIFIED:20260115T113042Z
UID:10006114-1770390000-1770397200@bewusst-brueggen.de
SUMMARY:Spielenachmittag im Hallenbad
DESCRIPTION:Spielenachmittag im Hallenbad Brueggen!\nJeden ersten Freitag im Monat von 15.00 bis 17.00 Uhr laden wir herzlich zum Spielenachmittag ein.\nEltern und Kinder sind gemeinsam willkommen und erleben unvergessliche Stunden voller Bewegung\, Spiel und Spaß.\nFreut euch auf eine fröhliche Atmosphäre im Wasser mit vielen Spielmöglichkeiten für Groß und Klein.\nDas Beste daran: Spiel und Spaß sind bereits im Eintrittspreis enthalten.\nKommt vorbei und verbringt einen aktiven und fröhlichen Nachmittag im Hallenbad Brüggen! \nEuer Team vom Hallenbad freut sich auf Euch!
URL:https://bewusst-brueggen.de/kalender/spielenachmittag-im-hallenbad/2026-02-06/
LOCATION:Hallenbad Brüggen\, Hochstraße 33\, Brüggen\, 41379
CATEGORIES:Kinder/ Jugendliche
ATTACH;FMTTYPE=image/jpeg:https://bewusst-brueggen.de/wp-content/uploads/2026/01/1768474299161-9f2f510a-88ec-4893-85ac-8cabee99fcc1_1-1.jpg
ORGANIZER;CN="Hallenbad Br%C3%BCggen":MAILTO:hallenbad@brueggen.de
END:VEVENT
BEGIN:VEVENT
DTSTART;TZID=Europe/Berlin:20251212T150000
DTEND;TZID=Europe/Berlin:20251212T173000
DTSTAMP:20260420T201337
CREATED:20251118T084421Z
LAST-MODIFIED:20251118T084421Z
UID:10006025-1765551600-1765560600@bewusst-brueggen.de
SUMMARY:Hallenbad Brüggen: Ab ins Bällebad!
DESCRIPTION:Im Brüggener Hallenbad wartet eine fröhliche Bällebad-Aktion auf große und kleine Wasserratten! Zahlreiche bunte Bälle sorgen im Wasser für jede Menge Spiel\, Spaß und Bewegung. Ob Treibenlassen\, Tauchen\, Werfen oder gemeinsames Spielen – hier kommt garantiert gute Laune auf. Perfekt für Familien\, Kindergruppen und alle\, die das Baden einmal ganz anders erleben möchten. \nViel Vergnügen im bunten Bällemeer wünscht das Team vom Hallenbad Brüggen! \nDie Aktion ist im Eintrittspreis enthalten.
URL:https://bewusst-brueggen.de/kalender/hallenbad-brueggen-ab-ins-baellebad/
LOCATION:Hallenbad Brüggen\, Hochstraße 33\, Brüggen\, 41379
CATEGORIES:Kinder/ Jugendliche
ATTACH;FMTTYPE=image/png:https://bewusst-brueggen.de/wp-content/uploads/2025/11/Baellebad-12.12.25-min-1.png
ORGANIZER;CN="Hallenbad Br%C3%BCggen":MAILTO:hallenbad@brueggen.de
END:VEVENT
BEGIN:VEVENT
DTSTART;TZID=Europe/Berlin:20251206T100000
DTEND;TZID=Europe/Berlin:20251206T130000
DTSTAMP:20260420T201337
CREATED:20250813T083222Z
LAST-MODIFIED:20251001T095919Z
UID:10005792-1765015200-1765026000@bewusst-brueggen.de
SUMMARY:Hallenbad Brüggen: Der Nikolaus kommt!
DESCRIPTION:Spiel und Spaß für Groß und Klein! \nDer Nikolaus kommt ins Hallenbad Brüggen! \nEintritt ab 3\,00 € \n 
URL:https://bewusst-brueggen.de/kalender/hallenbad-brueggen-der-nikolaus-kommt/
LOCATION:Hallenbad Brüggen\, Hochstraße 33\, Brüggen\, 41379
CATEGORIES:Kinder/ Jugendliche,Sport / Aktivität
ATTACH;FMTTYPE=image/jpeg:https://bewusst-brueggen.de/wp-content/uploads/2025/08/Nikolaus-06.12.jpg
ORGANIZER;CN="Hallenbad Br%C3%BCggen":MAILTO:hallenbad@brueggen.de
END:VEVENT
BEGIN:VEVENT
DTSTART;TZID=Europe/Berlin:20251205T150000
DTEND;TZID=Europe/Berlin:20251205T170000
DTSTAMP:20260420T201337
CREATED:20250813T072554Z
LAST-MODIFIED:20251020T072737Z
UID:10005791-1764946800-1764954000@bewusst-brueggen.de
SUMMARY:Hallenbad Brüggen NEW Spielenachmittag
DESCRIPTION:Spielenachmittag für Kinder! Spielen\, toben und Spaß haben… \nEintritt ab 3\,00 €
URL:https://bewusst-brueggen.de/kalender/hallenbad-brueggen-new-spielenachmittag-2/2025-12-05/
LOCATION:Hallenbad Brüggen\, Hochstraße 33\, Brüggen\, 41379
CATEGORIES:Kinder/ Jugendliche,Sport / Aktivität
ATTACH;FMTTYPE=image/jpeg:https://bewusst-brueggen.de/wp-content/uploads/2025/08/NEW-Spielenachmittag-5.jpg
ORGANIZER;CN="Hallenbad Br%C3%BCggen":MAILTO:hallenbad@brueggen.de
END:VEVENT
BEGIN:VEVENT
DTSTART;TZID=Europe/Berlin:20251107T150000
DTEND;TZID=Europe/Berlin:20251107T170000
DTSTAMP:20260420T201337
CREATED:20250813T072554Z
LAST-MODIFIED:20251020T072737Z
UID:10005790-1762527600-1762534800@bewusst-brueggen.de
SUMMARY:Hallenbad Brüggen NEW Spielenachmittag
DESCRIPTION:Spielenachmittag für Kinder! Spielen\, toben und Spaß haben… \nEintritt ab 3\,00 €
URL:https://bewusst-brueggen.de/kalender/hallenbad-brueggen-new-spielenachmittag-2/2025-11-07/
LOCATION:Hallenbad Brüggen\, Hochstraße 33\, Brüggen\, 41379
CATEGORIES:Kinder/ Jugendliche,Sport / Aktivität
ATTACH;FMTTYPE=image/jpeg:https://bewusst-brueggen.de/wp-content/uploads/2025/08/NEW-Spielenachmittag-5.jpg
ORGANIZER;CN="Hallenbad Br%C3%BCggen":MAILTO:hallenbad@brueggen.de
END:VEVENT
BEGIN:VEVENT
DTSTART;TZID=Europe/Berlin:20251031T163000
DTEND;TZID=Europe/Berlin:20251031T220000
DTSTAMP:20260420T201337
CREATED:20250929T132715Z
LAST-MODIFIED:20251001T095756Z
UID:10005840-1761928200-1761948000@bewusst-brueggen.de
SUMMARY:Halloween Schwimmen
DESCRIPTION:Halloweenschwimmen im Hallenbad – Wenn das Wasser blutrot wird… \nAm 31. Oktober verwandeln wir das Hallenbad in eine schaurige Gruselstätte! Mit Licht- und Musikanlage\, düsterer Deko und blutrotem Wasser erwarten euch gespenstische Spiele wie Sleepy Hollow und der Kopflosereiter im Wasser! \nEis\, Süßigkeiten & gruselige Getränke gibt’s zu schaurig kleinen Preisen – natürlich alles in mystisch-gespenstischer Atmosphäre! \nZwei Zeitslots – passend nach Altersgruppe:\n16:30–19:00 Uhr für Kinder von 6–11 Jahren\n19:30–22:00 Uhr für Kinder von 11–15 Jahren \nEintritt: 6 € – inklusive ein Getränk oder Eis\nAnmeldung ab dem 01.10.2025 direkt im Hallenbad\nVoraussetzung: Deutsches Schwimmabzeichen Bronze \nKommt vorbei\, wenn sich das Becken in ein blutrotes Meer verwandelt – ein unvergesslicher Nachmittag mit Spaß\, Spiel & Gänsehaut!
URL:https://bewusst-brueggen.de/kalender/halloween-schwimmen/
LOCATION:Hallenbad Brüggen\, Hochstraße 33\, Brüggen\, 41379
CATEGORIES:Kinder/ Jugendliche
ATTACH;FMTTYPE=image/jpeg:https://bewusst-brueggen.de/wp-content/uploads/2025/09/bewusst-brueggen-veranstaltung-halloween-hallenbad.jpg
ORGANIZER;CN="Hallenbad Br%C3%BCggen":MAILTO:hallenbad@brueggen.de
END:VEVENT
BEGIN:VEVENT
DTSTART;TZID=Europe/Berlin:20251010T150000
DTEND;TZID=Europe/Berlin:20251010T170000
DTSTAMP:20260420T201337
CREATED:20250813T072554Z
LAST-MODIFIED:20251020T072737Z
UID:10005788-1760108400-1760115600@bewusst-brueggen.de
SUMMARY:Hallenbad Brüggen NEW Spielenachmittag
DESCRIPTION:Spielenachmittag für Kinder! Spielen\, toben und Spaß haben… \nEintritt ab 3\,00 €
URL:https://bewusst-brueggen.de/kalender/hallenbad-brueggen-new-spielenachmittag-2/2025-10-10/
LOCATION:Hallenbad Brüggen\, Hochstraße 33\, Brüggen\, 41379
CATEGORIES:Kinder/ Jugendliche,Sport / Aktivität
ATTACH;FMTTYPE=image/jpeg:https://bewusst-brueggen.de/wp-content/uploads/2025/08/NEW-Spielenachmittag-5.jpg
ORGANIZER;CN="Hallenbad Br%C3%BCggen":MAILTO:hallenbad@brueggen.de
END:VEVENT
BEGIN:VEVENT
DTSTART;TZID=Europe/Berlin:20251003T110000
DTEND;TZID=Europe/Berlin:20251003T110000
DTSTAMP:20260420T201337
CREATED:20250916T085557Z
LAST-MODIFIED:20251001T095957Z
UID:10005845-1759489200-1759489200@bewusst-brueggen.de
SUMMARY:Schwimmabzeichen-Tag im Hallenbad Brüggen
DESCRIPTION:Schwimmabzeichen-Tag für Jung und Alt! \nSchwimmabzeichen-Abnahme von 09:30-12:30 Uhr.\nDas Schwimmabzeichen kostet an diesem Tag nur 2\,00€. \nGerne können an diesem Tag auch besondere Abzeichen wie „Totenkopf“ (Stundenschwimmer) abgenommen werden. Eine Anmeldung ist nicht erforderlich. \nDie Schwimmmeister freuen sich auf Euch!
URL:https://bewusst-brueggen.de/kalender/schwimmabzeichen-tag-im-hallenbad-brueggen-2/
LOCATION:Hallenbad Brüggen\, Hochstraße 33\, Brüggen\, 41379
ATTACH;FMTTYPE=image/jpeg:https://bewusst-brueggen.de/wp-content/uploads/2023/04/bewusst-brueggen-events-kinder-jugend.jpg
ORGANIZER;CN="Hallenbad Br%C3%BCggen":MAILTO:hallenbad@brueggen.de
END:VEVENT
BEGIN:VEVENT
DTSTART;TZID=Europe/Berlin:20251003T093000
DTEND;TZID=Europe/Berlin:20251003T123000
DTSTAMP:20260420T201337
CREATED:20250916T085336Z
LAST-MODIFIED:20251001T095939Z
UID:10005804-1759483800-1759494600@bewusst-brueggen.de
SUMMARY:Schwimmabzeichen-Tag im Hallenbad Brüggen
DESCRIPTION:Schwimmabzeichen-Tag für Jung und Alt! \nSchwimmabzeichen-Abnahme von 09:30-12:30 Uhr.\nDas Schwimmabzeichen kostet an diesem Tag nur 2\,00€. \nGerne können an diesem Tag auch besondere Abzeichen wie „Totenkopf“ (Stundenschwimmer) abgenommen werden. Eine Anmeldung ist nicht erforderlich. \nDie Schwimmmeister freuen sich auf Euch!
URL:https://bewusst-brueggen.de/kalender/schwimmabzeichen-tag-im-hallenbad-brueggen/2025-10-03/2/
LOCATION:Hallenbad Brüggen\, Hochstraße 33\, Brüggen\, 41379
ATTACH;FMTTYPE=image/jpeg:https://bewusst-brueggen.de/wp-content/uploads/2023/04/bewusst-brueggen-events-kinder-jugend.jpg
ORGANIZER;CN="Hallenbad Br%C3%BCggen":MAILTO:hallenbad@brueggen.de
END:VEVENT
BEGIN:VEVENT
DTSTART;TZID=Europe/Berlin:20251003T080000
DTEND;TZID=Europe/Berlin:20251003T170000
DTSTAMP:20260420T201337
CREATED:20250916T085336Z
LAST-MODIFIED:20251001T095939Z
UID:10005844-1759478400-1759510800@bewusst-brueggen.de
SUMMARY:Schwimmabzeichen-Tag im Hallenbad Brüggen
DESCRIPTION:Schwimmabzeichen-Tag für Jung und Alt! \nSchwimmabzeichen-Abnahme von 09:30-12:30 Uhr.\nDas Schwimmabzeichen kostet an diesem Tag nur 2\,00€. \nGerne können an diesem Tag auch besondere Abzeichen wie „Totenkopf“ (Stundenschwimmer) abgenommen werden. Eine Anmeldung ist nicht erforderlich. \nDie Schwimmmeister freuen sich auf Euch!
URL:https://bewusst-brueggen.de/kalender/schwimmabzeichen-tag-im-hallenbad-brueggen/2025-10-03/1/
LOCATION:Hallenbad Brüggen\, Hochstraße 33\, Brüggen\, 41379
ATTACH;FMTTYPE=image/jpeg:https://bewusst-brueggen.de/wp-content/uploads/2023/04/bewusst-brueggen-events-kinder-jugend.jpg
ORGANIZER;CN="Hallenbad Br%C3%BCggen":MAILTO:hallenbad@brueggen.de
END:VEVENT
BEGIN:VEVENT
DTSTART;TZID=Europe/Berlin:20250920T100000
DTEND;TZID=Europe/Berlin:20250920T123000
DTSTAMP:20260420T201337
CREATED:20250813T074630Z
LAST-MODIFIED:20251001T095839Z
UID:10005789-1758362400-1758371400@bewusst-brueggen.de
SUMMARY:Brüggener Hallenbad feiert den Weltkindertag 2025
DESCRIPTION:Badespaß für Groß und Klein! \nKinder bis 16 Jahren zahlen an diesem Tag einen ermäßigten Eintritt von 1\,00 € \nDas Hallenbad-Team freut sich auf euch!
URL:https://bewusst-brueggen.de/kalender/brueggener-hallenbad-feiert-den-weltkindertag-2025/
LOCATION:Hallenbad Brüggen\, Hochstraße 33\, Brüggen\, 41379
CATEGORIES:Kinder/ Jugendliche,Sport / Aktivität
ATTACH;FMTTYPE=image/jpeg:https://bewusst-brueggen.de/wp-content/uploads/2025/08/Weltkindertag-20.09.25-1.jpg
ORGANIZER;CN="Hallenbad Br%C3%BCggen":MAILTO:hallenbad@brueggen.de
END:VEVENT
BEGIN:VEVENT
DTSTART;TZID=Europe/Berlin:20250905T150000
DTEND;TZID=Europe/Berlin:20250905T170000
DTSTAMP:20260420T201337
CREATED:20250813T072554Z
LAST-MODIFIED:20251020T072737Z
UID:10005784-1757084400-1757091600@bewusst-brueggen.de
SUMMARY:Hallenbad Brüggen NEW Spielenachmittag
DESCRIPTION:Spielenachmittag für Kinder! Spielen\, toben und Spaß haben… \nEintritt ab 3\,00 €
URL:https://bewusst-brueggen.de/kalender/hallenbad-brueggen-new-spielenachmittag-2/2025-09-05/
LOCATION:Hallenbad Brüggen\, Hochstraße 33\, Brüggen\, 41379
CATEGORIES:Kinder/ Jugendliche,Sport / Aktivität
ATTACH;FMTTYPE=image/jpeg:https://bewusst-brueggen.de/wp-content/uploads/2025/08/NEW-Spielenachmittag-5.jpg
ORGANIZER;CN="Hallenbad Br%C3%BCggen":MAILTO:hallenbad@brueggen.de
END:VEVENT
END:VCALENDAR