BEGIN:VCALENDAR
VERSION:2.0
PRODID:-//Bewusst Brüggen - ECPv6.15.20//NONSGML v1.0//EN
CALSCALE:GREGORIAN
METHOD:PUBLISH
X-ORIGINAL-URL:https://bewusst-brueggen.de
X-WR-CALDESC:Veranstaltungen für Bewusst Brüggen
REFRESH-INTERVAL;VALUE=DURATION:PT1H
X-Robots-Tag:noindex
X-PUBLISHED-TTL:PT1H
BEGIN:VTIMEZONE
TZID:Europe/Berlin
BEGIN:DAYLIGHT
TZOFFSETFROM:+0100
TZOFFSETTO:+0200
TZNAME:CEST
DTSTART:20240331T010000
END:DAYLIGHT
BEGIN:STANDARD
TZOFFSETFROM:+0200
TZOFFSETTO:+0100
TZNAME:CET
DTSTART:20241027T010000
END:STANDARD
BEGIN:DAYLIGHT
TZOFFSETFROM:+0100
TZOFFSETTO:+0200
TZNAME:CEST
DTSTART:20250330T010000
END:DAYLIGHT
BEGIN:STANDARD
TZOFFSETFROM:+0200
TZOFFSETTO:+0100
TZNAME:CET
DTSTART:20251026T010000
END:STANDARD
BEGIN:DAYLIGHT
TZOFFSETFROM:+0100
TZOFFSETTO:+0200
TZNAME:CEST
DTSTART:20260329T010000
END:DAYLIGHT
BEGIN:STANDARD
TZOFFSETFROM:+0200
TZOFFSETTO:+0100
TZNAME:CET
DTSTART:20261025T010000
END:STANDARD
END:VTIMEZONE
BEGIN:VEVENT
DTSTART;TZID=Europe/Berlin:20251003T110000
DTEND;TZID=Europe/Berlin:20251003T110000
DTSTAMP:20260420T214937
CREATED:20250916T085557Z
LAST-MODIFIED:20251001T095957Z
UID:10005845-1759489200-1759489200@bewusst-brueggen.de
SUMMARY:Schwimmabzeichen-Tag im Hallenbad Brüggen
DESCRIPTION:Schwimmabzeichen-Tag für Jung und Alt! \nSchwimmabzeichen-Abnahme von 09:30-12:30 Uhr.\nDas Schwimmabzeichen kostet an diesem Tag nur 2\,00€. \nGerne können an diesem Tag auch besondere Abzeichen wie „Totenkopf“ (Stundenschwimmer) abgenommen werden. Eine Anmeldung ist nicht erforderlich. \nDie Schwimmmeister freuen sich auf Euch!
URL:https://bewusst-brueggen.de/kalender/schwimmabzeichen-tag-im-hallenbad-brueggen-2/
LOCATION:Hallenbad Brüggen\, Hochstraße 33\, Brüggen\, 41379
ATTACH;FMTTYPE=image/jpeg:https://bewusst-brueggen.de/wp-content/uploads/2023/04/bewusst-brueggen-events-kinder-jugend.jpg
ORGANIZER;CN="Hallenbad Br%C3%BCggen":MAILTO:hallenbad@brueggen.de
END:VEVENT
BEGIN:VEVENT
DTSTART;TZID=Europe/Berlin:20251003T093000
DTEND;TZID=Europe/Berlin:20251003T123000
DTSTAMP:20260420T214937
CREATED:20250916T085336Z
LAST-MODIFIED:20251001T095939Z
UID:10005804-1759483800-1759494600@bewusst-brueggen.de
SUMMARY:Schwimmabzeichen-Tag im Hallenbad Brüggen
DESCRIPTION:Schwimmabzeichen-Tag für Jung und Alt! \nSchwimmabzeichen-Abnahme von 09:30-12:30 Uhr.\nDas Schwimmabzeichen kostet an diesem Tag nur 2\,00€. \nGerne können an diesem Tag auch besondere Abzeichen wie „Totenkopf“ (Stundenschwimmer) abgenommen werden. Eine Anmeldung ist nicht erforderlich. \nDie Schwimmmeister freuen sich auf Euch!
URL:https://bewusst-brueggen.de/kalender/schwimmabzeichen-tag-im-hallenbad-brueggen/2025-10-03/2/
LOCATION:Hallenbad Brüggen\, Hochstraße 33\, Brüggen\, 41379
ATTACH;FMTTYPE=image/jpeg:https://bewusst-brueggen.de/wp-content/uploads/2023/04/bewusst-brueggen-events-kinder-jugend.jpg
ORGANIZER;CN="Hallenbad Br%C3%BCggen":MAILTO:hallenbad@brueggen.de
END:VEVENT
BEGIN:VEVENT
DTSTART;TZID=Europe/Berlin:20251003T080000
DTEND;TZID=Europe/Berlin:20251003T170000
DTSTAMP:20260420T214937
CREATED:20250916T085336Z
LAST-MODIFIED:20251001T095939Z
UID:10005844-1759478400-1759510800@bewusst-brueggen.de
SUMMARY:Schwimmabzeichen-Tag im Hallenbad Brüggen
DESCRIPTION:Schwimmabzeichen-Tag für Jung und Alt! \nSchwimmabzeichen-Abnahme von 09:30-12:30 Uhr.\nDas Schwimmabzeichen kostet an diesem Tag nur 2\,00€. \nGerne können an diesem Tag auch besondere Abzeichen wie „Totenkopf“ (Stundenschwimmer) abgenommen werden. Eine Anmeldung ist nicht erforderlich. \nDie Schwimmmeister freuen sich auf Euch!
URL:https://bewusst-brueggen.de/kalender/schwimmabzeichen-tag-im-hallenbad-brueggen/2025-10-03/1/
LOCATION:Hallenbad Brüggen\, Hochstraße 33\, Brüggen\, 41379
ATTACH;FMTTYPE=image/jpeg:https://bewusst-brueggen.de/wp-content/uploads/2023/04/bewusst-brueggen-events-kinder-jugend.jpg
ORGANIZER;CN="Hallenbad Br%C3%BCggen":MAILTO:hallenbad@brueggen.de
END:VEVENT
BEGIN:VEVENT
DTSTART;TZID=Europe/Berlin:20250920T100000
DTEND;TZID=Europe/Berlin:20250920T123000
DTSTAMP:20260420T214937
CREATED:20250813T074630Z
LAST-MODIFIED:20251001T095839Z
UID:10005789-1758362400-1758371400@bewusst-brueggen.de
SUMMARY:Brüggener Hallenbad feiert den Weltkindertag 2025
DESCRIPTION:Badespaß für Groß und Klein! \nKinder bis 16 Jahren zahlen an diesem Tag einen ermäßigten Eintritt von 1\,00 € \nDas Hallenbad-Team freut sich auf euch!
URL:https://bewusst-brueggen.de/kalender/brueggener-hallenbad-feiert-den-weltkindertag-2025/
LOCATION:Hallenbad Brüggen\, Hochstraße 33\, Brüggen\, 41379
CATEGORIES:Kinder/ Jugendliche,Sport / Aktivität
ATTACH;FMTTYPE=image/jpeg:https://bewusst-brueggen.de/wp-content/uploads/2025/08/Weltkindertag-20.09.25-1.jpg
ORGANIZER;CN="Hallenbad Br%C3%BCggen":MAILTO:hallenbad@brueggen.de
END:VEVENT
BEGIN:VEVENT
DTSTART;TZID=Europe/Berlin:20250905T150000
DTEND;TZID=Europe/Berlin:20250905T170000
DTSTAMP:20260420T214937
CREATED:20250813T072554Z
LAST-MODIFIED:20251020T072737Z
UID:10005784-1757084400-1757091600@bewusst-brueggen.de
SUMMARY:Hallenbad Brüggen NEW Spielenachmittag
DESCRIPTION:Spielenachmittag für Kinder! Spielen\, toben und Spaß haben… \nEintritt ab 3\,00 €
URL:https://bewusst-brueggen.de/kalender/hallenbad-brueggen-new-spielenachmittag-2/2025-09-05/
LOCATION:Hallenbad Brüggen\, Hochstraße 33\, Brüggen\, 41379
CATEGORIES:Kinder/ Jugendliche,Sport / Aktivität
ATTACH;FMTTYPE=image/jpeg:https://bewusst-brueggen.de/wp-content/uploads/2025/08/NEW-Spielenachmittag-5.jpg
ORGANIZER;CN="Hallenbad Br%C3%BCggen":MAILTO:hallenbad@brueggen.de
END:VEVENT
END:VCALENDAR