BEGIN:VCALENDAR
VERSION:2.0
PRODID:-//Bewusst Brüggen - ECPv6.15.20//NONSGML v1.0//EN
CALSCALE:GREGORIAN
METHOD:PUBLISH
X-ORIGINAL-URL:https://bewusst-brueggen.de
X-WR-CALDESC:Veranstaltungen für Bewusst Brüggen
REFRESH-INTERVAL;VALUE=DURATION:PT1H
X-Robots-Tag:noindex
X-PUBLISHED-TTL:PT1H
BEGIN:VTIMEZONE
TZID:Europe/Berlin
BEGIN:DAYLIGHT
TZOFFSETFROM:+0100
TZOFFSETTO:+0200
TZNAME:CEST
DTSTART:20220327T010000
END:DAYLIGHT
BEGIN:STANDARD
TZOFFSETFROM:+0200
TZOFFSETTO:+0100
TZNAME:CET
DTSTART:20221030T010000
END:STANDARD
BEGIN:DAYLIGHT
TZOFFSETFROM:+0100
TZOFFSETTO:+0200
TZNAME:CEST
DTSTART:20230326T010000
END:DAYLIGHT
BEGIN:STANDARD
TZOFFSETFROM:+0200
TZOFFSETTO:+0100
TZNAME:CET
DTSTART:20231029T010000
END:STANDARD
BEGIN:DAYLIGHT
TZOFFSETFROM:+0100
TZOFFSETTO:+0200
TZNAME:CEST
DTSTART:20240331T010000
END:DAYLIGHT
BEGIN:STANDARD
TZOFFSETFROM:+0200
TZOFFSETTO:+0100
TZNAME:CET
DTSTART:20241027T010000
END:STANDARD
BEGIN:DAYLIGHT
TZOFFSETFROM:+0100
TZOFFSETTO:+0200
TZNAME:CEST
DTSTART:20250330T010000
END:DAYLIGHT
BEGIN:STANDARD
TZOFFSETFROM:+0200
TZOFFSETTO:+0100
TZNAME:CET
DTSTART:20251026T010000
END:STANDARD
BEGIN:DAYLIGHT
TZOFFSETFROM:+0100
TZOFFSETTO:+0200
TZNAME:CEST
DTSTART:20260329T010000
END:DAYLIGHT
BEGIN:STANDARD
TZOFFSETFROM:+0200
TZOFFSETTO:+0100
TZNAME:CET
DTSTART:20261025T010000
END:STANDARD
END:VTIMEZONE
BEGIN:VEVENT
DTSTART;VALUE=DATE:20251003
DTEND;VALUE=DATE:20251006
DTSTAMP:20260422T110106
CREATED:20250217T102733Z
LAST-MODIFIED:20251002T105245Z
UID:10004688-1759449600-1759708799@bewusst-brueggen.de
SUMMARY:6. Europäisches Harmoniumfestival - ABGESAGT -
DESCRIPTION:Leider muss das Harmoniumfestival krankheitsbedingt abgesagt werden.  \nBereits zum sechsten Mal organisiert Klaus Langer aus Grevenbroich mit Unterstützung der Burggemeinde Brüggen das Europäische Harmoniumfestival im Zwei-Jahres-Rhythmus. Auch in diesem Jahr hat er wieder ein abwechslungsreiches\, hochkarätiges Programm zusammengestellt: \nFreitag\, 03.10.\, 19:00 Uhr: „Harmonium Piano Duo“: Scott Brothers; 21:30 Uhr: „Late Night Impro“\, Sarah Buchner\, Sebastian Langer\, Mar Arsava \nSamstag\, 04.10.\, 15:00 Uhr: „Herbstrosen“\, Polnische Tangos\, Duo Katharina Hesse\, Eva Meitner; 19:00 Uhr: „Glimmer“\, Norwegische Impressionen Nils Okland\, Sigbjön Apeland \nSonntag\, 05.10.\, 11:00 Uhr: „Stabat Mater“\, Der kleine Frauenchor; 15:00 Uhr: „Harmonium trifft Bach“\, Goldberg-Variationen\, Dirk Luijmes \nDie Einzelheiten dazu finden Sie unter www.harmoniumfestival.de
URL:https://bewusst-brueggen.de/kalender/6-europaeisches-harmoniumfestival/
LOCATION:Kultursaal Burg Brüggen\, Burgwall 4\, Brüggen\, 41379
CATEGORIES:Kultur
ATTACH;FMTTYPE=image/jpeg:https://bewusst-brueggen.de/wp-content/uploads/2025/02/Foto-Ausschnitt-Harmonium.jpg
ORGANIZER;CN="Harmonium plus":MAILTO:mail@harmoniumfestival.de
END:VEVENT
BEGIN:VEVENT
DTSTART;VALUE=DATE:20230930
DTEND;VALUE=DATE:20231004
DTSTAMP:20260422T110106
CREATED:20230328T131732Z
LAST-MODIFIED:20231213T145512Z
UID:10000349-1696032000-1696377599@bewusst-brueggen.de
SUMMARY:5. Europäisches Harmoniumfestival
DESCRIPTION:Weitere Infos über www.harmoniumfestival.de
URL:https://bewusst-brueggen.de/kalender/5-europaeisches-harmoniumfestival/
LOCATION:Kultursaal Burg Brüggen\, Burgwall 4\, Brüggen\, 41379
CATEGORIES:Kultur
ATTACH;FMTTYPE=image/jpeg:https://bewusst-brueggen.de/wp-content/uploads/2023/03/bewusst-brueggen-events-kultur.jpg
ORGANIZER;CN="Harmonium plus":MAILTO:mail@harmoniumfestival.de
END:VEVENT
END:VCALENDAR