BEGIN:VCALENDAR
VERSION:2.0
PRODID:-//Bewusst Brüggen - ECPv6.15.20//NONSGML v1.0//EN
CALSCALE:GREGORIAN
METHOD:PUBLISH
X-ORIGINAL-URL:https://bewusst-brueggen.de
X-WR-CALDESC:Veranstaltungen für Bewusst Brüggen
REFRESH-INTERVAL;VALUE=DURATION:PT1H
X-Robots-Tag:noindex
X-PUBLISHED-TTL:PT1H
BEGIN:VTIMEZONE
TZID:Europe/Berlin
BEGIN:DAYLIGHT
TZOFFSETFROM:+0100
TZOFFSETTO:+0200
TZNAME:CEST
DTSTART:20230326T010000
END:DAYLIGHT
BEGIN:STANDARD
TZOFFSETFROM:+0200
TZOFFSETTO:+0100
TZNAME:CET
DTSTART:20231029T010000
END:STANDARD
BEGIN:DAYLIGHT
TZOFFSETFROM:+0100
TZOFFSETTO:+0200
TZNAME:CEST
DTSTART:20240331T010000
END:DAYLIGHT
BEGIN:STANDARD
TZOFFSETFROM:+0200
TZOFFSETTO:+0100
TZNAME:CET
DTSTART:20241027T010000
END:STANDARD
BEGIN:DAYLIGHT
TZOFFSETFROM:+0100
TZOFFSETTO:+0200
TZNAME:CEST
DTSTART:20250330T010000
END:DAYLIGHT
BEGIN:STANDARD
TZOFFSETFROM:+0200
TZOFFSETTO:+0100
TZNAME:CET
DTSTART:20251026T010000
END:STANDARD
BEGIN:DAYLIGHT
TZOFFSETFROM:+0100
TZOFFSETTO:+0200
TZNAME:CEST
DTSTART:20260329T010000
END:DAYLIGHT
BEGIN:STANDARD
TZOFFSETFROM:+0200
TZOFFSETTO:+0100
TZNAME:CET
DTSTART:20261025T010000
END:STANDARD
END:VTIMEZONE
BEGIN:VEVENT
DTSTART;VALUE=DATE:20251129
DTEND;VALUE=DATE:20251201
DTSTAMP:20260421T183711
CREATED:20251006T090624Z
LAST-MODIFIED:20251113T093727Z
UID:10005851-1764374400-1764547199@bewusst-brueggen.de
SUMMARY:Borner Weihnachtsdorf am 1. Adventswochenende
DESCRIPTION:Weihnachtsdorf Born 2025 – Adventszauber rund um den Dorfplatz \nAm ersten Adventswochenende (29.11.2025 & 30.11.2025) verwandelt sich Born wieder in ein festliches Weihnachtsdorf voller Lichter\, Düfte und Musik. Rund um den liebevoll geschmückten Dorfplatz erwartet euch eine stimmungsvolle Mischung aus handwerklichen Unikaten\, kulinarischen Genüssen und besonderen Geschenkideen – der perfekte Start in die Adventszeit! \nÖffnungszeiten:\nSamstag: 14.00 – 22.00 Uhr\nSonntag: 11.00 – 19.00 Uhr \nAm Samstag sorgt der Besuch des Nikolaus für strahlende Kinderaugen – mit kleinen Überraschungen für unsere jüngsten Gäste. Der Sonntag beginnt besinnlich mit der Messe und dem Auftritt des Kirchenchors\, der mit festlichen Liedern auf die Weihnachtszeit einstimmt. \nEin abwechslungsreiches Kinderprogramm lädt zum Basteln\, Spielen und Staunen ein.\nZwischen Tannenduft\, Glühwein und Lichterglanz entdeckt ihr handwerkliche Schätze\, weihnachtliche Dekorationen und kulinarische Highlights von süß bis herzhaft. \nKommt vorbei\, genießt die besondere Atmosphäre und lasst euch verzaubern!\nDas Weihnachtsdorf Born freut sich auf ein stimmungsvolles Adventswochenende mit euch!
URL:https://bewusst-brueggen.de/kalender/borner-weihnachtsdorf-am-1-adventswochenende/
LOCATION:Borner Kirchplatz\, Born\, Brüggen\, NRW\, 41379\, Germany
CATEGORIES:Brauchtum/ Heimatkunde,Feste / Märkte,Verschiedenes
ATTACH;FMTTYPE=image/png:https://bewusst-brueggen.de/wp-content/uploads/2025/10/B2540BDA-36A1-401A-A24E-9340DD6C1585.png
ORGANIZER;CN="Heimatfreunde Sankt Peter Born e. V.":MAILTO:thorsten.merz@heimatfreunde-born.de
END:VEVENT
BEGIN:VEVENT
DTSTART;VALUE=DATE:20250726
DTEND;VALUE=DATE:20250728
DTSTAMP:20260421T183711
CREATED:20240425T103315Z
LAST-MODIFIED:20250618T071037Z
UID:10002969-1753488000-1753660799@bewusst-brueggen.de
SUMMARY:Borner Sommer 2025 - zwei Tage voller Lebensfreude\, Musik und Gemeinschaft!
DESCRIPTION:Willkommen zum Borner Sommer 2025 – zwei Tage voller Lebensfreude\, Musik und Gemeinschaft! \nInmitten der warmen Sommersonne und der charmanten Kulisse des Kirchplatzes Born laden wir euch herzlich ein\, den Borner Sommer 2025 mit uns zu feiern. Was euch erwartet? Ein liebevoll organisiertes Fest\, das den Geist unseres Dorfes lebt – offen\, herzlich und voller guter Stimmung.\nAn zwei Tagen verwandelt sich Born in einen Ort des Miteinanders:\nLivemusik auf der Bühne\, kulinarische Highlights an jeder Ecke\, strahlende Kinderaugen beim Jugendprogramm – und dazu ganz viel Zeit für Begegnungen\, Gespräche und gemeinsames Lachen.\nDas Herzstück bildet unser abwechslungsreiches Programm\, gestaltet von engagierten Vereinen und Ehrenamtlichen aus dem Ort. Lasst euch treiben zwischen leckeren Speisen\, einer Cocktailbar\, der großen Tombola\, der Cafeteria mit hausgemachten Kuchen und natürlich dem stimmungsvollen Frühschoppen am Sonntag.\nAm Samstagabend sorgt die Showband Tante Käthe für ausgelassene Feierstimmung unter freiem Himmel. Und wer sich keine Gedanken über den Heimweg machen möchte\, nutzt einfach den kostenlosen Abholservice mit dem Brachter Bus – ganz bequem und sicher.\nAuch für unsere kleinen Gäste ist bestens gesorgt: Der Jugendtreff Born organisiert ein tolles Kinderprogramm – voller Spiel\, Spaß und Überraschungen
URL:https://bewusst-brueggen.de/kalender/borner-sommer-2025/
CATEGORIES:Feste / Märkte
ATTACH;FMTTYPE=image/jpeg:https://bewusst-brueggen.de/wp-content/uploads/2024/04/508333017_17851474986470804_8233999540811608936_n.jpg
ORGANIZER;CN="Heimatfreunde Sankt Peter Born e. V.":MAILTO:thorsten.merz@heimatfreunde-born.de
END:VEVENT
BEGIN:VEVENT
DTSTART;VALUE=DATE:20241130
DTEND;VALUE=DATE:20241202
DTSTAMP:20260421T183711
CREATED:20240314T101023Z
LAST-MODIFIED:20240314T101023Z
UID:10002910-1732924800-1733097599@bewusst-brueggen.de
SUMMARY:Borner Weihnachtsdorf
DESCRIPTION:Kleiner\, feiner Weihnachtsmarkt im alten Ortskern von Born mit vielen Ständen und Aktionen für groß und klein.
URL:https://bewusst-brueggen.de/kalender/borner-weihnachtsdorf/
CATEGORIES:Feste / Märkte
ATTACH;FMTTYPE=image/jpeg:https://bewusst-brueggen.de/wp-content/uploads/2024/03/Borner-Weihnachtsdorf.jpg
ORGANIZER;CN="Heimatfreunde Sankt Peter Born e. V.":MAILTO:thorsten.merz@heimatfreunde-born.de
END:VEVENT
BEGIN:VEVENT
DTSTART;TZID=Europe/Berlin:20241009T190000
DTEND;TZID=Europe/Berlin:20241009T203000
DTSTAMP:20260421T183711
CREATED:20240911T083841Z
LAST-MODIFIED:20240911T083841Z
UID:10003311-1728500400-1728505800@bewusst-brueggen.de
SUMMARY:Bildervortrag Aktuelles aus Burundi
DESCRIPTION:Aktuelle Informationen zu Land und Leute in Burundi anläßlich der letzten Projektreise im März 2024 – Vortrag von Friedhelm Leven\, Vorstandsmitglied der Burundi-Hilfe eV\,
URL:https://bewusst-brueggen.de/kalender/bildervortrag-aktuelles-aus-burundi/
LOCATION:Haus Kehren\, Born 42\, Brüggen\, 41379
CATEGORIES:Soziales
ATTACH;FMTTYPE=image/jpeg:https://bewusst-brueggen.de/wp-content/uploads/2024/09/burundi-hilfe_logo_komp.jpg
ORGANIZER;CN="Heimatfreunde Sankt Peter Born e. V.":MAILTO:thorsten.merz@heimatfreunde-born.de
END:VEVENT
END:VCALENDAR