BEGIN:VCALENDAR
VERSION:2.0
PRODID:-//Bewusst Brüggen - ECPv6.15.20//NONSGML v1.0//EN
CALSCALE:GREGORIAN
METHOD:PUBLISH
X-ORIGINAL-URL:https://bewusst-brueggen.de
X-WR-CALDESC:Veranstaltungen für Bewusst Brüggen
REFRESH-INTERVAL;VALUE=DURATION:PT1H
X-Robots-Tag:noindex
X-PUBLISHED-TTL:PT1H
BEGIN:VTIMEZONE
TZID:Europe/Berlin
BEGIN:DAYLIGHT
TZOFFSETFROM:+0100
TZOFFSETTO:+0200
TZNAME:CEST
DTSTART:20220327T010000
END:DAYLIGHT
BEGIN:STANDARD
TZOFFSETFROM:+0200
TZOFFSETTO:+0100
TZNAME:CET
DTSTART:20221030T010000
END:STANDARD
BEGIN:DAYLIGHT
TZOFFSETFROM:+0100
TZOFFSETTO:+0200
TZNAME:CEST
DTSTART:20230326T010000
END:DAYLIGHT
BEGIN:STANDARD
TZOFFSETFROM:+0200
TZOFFSETTO:+0100
TZNAME:CET
DTSTART:20231029T010000
END:STANDARD
BEGIN:DAYLIGHT
TZOFFSETFROM:+0100
TZOFFSETTO:+0200
TZNAME:CEST
DTSTART:20240331T010000
END:DAYLIGHT
BEGIN:STANDARD
TZOFFSETFROM:+0200
TZOFFSETTO:+0100
TZNAME:CET
DTSTART:20241027T010000
END:STANDARD
END:VTIMEZONE
BEGIN:VEVENT
DTSTART;TZID=Europe/Berlin:20230912T160000
DTEND;TZID=Europe/Berlin:20230912T190000
DTSTAMP:20260422T140139
CREATED:20230720T122708Z
LAST-MODIFIED:20231213T145530Z
UID:10000774-1694534400-1694545200@bewusst-brueggen.de
SUMMARY:Repair Café Brüggen
DESCRIPTION:Die Ressourcen werden knapp. Nachhaltigkeit ist das Gebot der Stunde. Nicht Ex und Hopp\, sondern Gegenstände und Geräte länger nutzen.\nReparieren\, Instandhalten\, Restaurieren sind angesagt. Länger an was Spaß haben\, mehr Nutzen aus etwas ziehen also. Und genau hierfür steht die Repair Café Idee. \nLeute kommen mit defekten Radios\, Elektro-Kleingeräten\, mit Wand- und Armbanduhren\, mit Kleinmöbeln\, mit Handys\, mit defekten Reißverschlüssen\, mit lahmenden PCs etc. Kurzum mit liebgewonnenen Gegenständen\, die es plötzlich nicht mehr tun oder schon seit längerem ausrangiert waren. Gekümmert wird sich um alles\, was „unterm Arm“ mitgebracht werden kann. Ausnahme: defekte Fahrräder\, um die sich auch gekümmert wird. Eine Nähmaschine ist vor Ort. Kleine Reparaturen und Änderungen können also auch von erfahrener Hand erledigt werden. \nBegeisterte Hobbyschrauber\, Handwerker im Ruhestand\, Spezialisten\, Näherinnen oder auch nur Autodidakten nehmen sich dann im Repair Café dieser Probleme an. Alle machen das ehrenamtlich. Und wenn etwas nicht zu retten ist\, wird das auch entsprechend mitgeteilt.\nUnd auch eine soziale Komponente hat das Ganze. Sich treffen\, klönen\, zusammenkommen\, auch mal einen Rat einholen und\, wie man hier so schön sagt\, ein bisschen zu klängern.\nVieles lässt sich dann bei einer Tasse Kaffee und einem Stück Kuchen wunderbar besprechen. \nDas Repair Café Brüggen wird immer im monatlichen Rhythmus\, jeweils am zweiten Donnerstag eines Monats\, von 16 bis 19 Uhr stattfinden.
URL:https://bewusst-brueggen.de/kalender/repair-cafe-brueggen/2023-09-12/
CATEGORIES:Soziales
ATTACH;FMTTYPE=image/jpeg:https://bewusst-brueggen.de/wp-content/uploads/2023/09/Repair-Cafe-der-JedermannHilfe-Brueggen-Bracht.jpg
ORGANIZER;CN="JedermannHilfe Br%C3%BCggen e.V.":MAILTO:jedermannhilfe@brueggen.de
END:VEVENT
BEGIN:VEVENT
DTSTART;TZID=Europe/Berlin:20230810T160000
DTEND;TZID=Europe/Berlin:20230810T190000
DTSTAMP:20260422T140139
CREATED:20230720T122708Z
LAST-MODIFIED:20231213T145530Z
UID:10000425-1691683200-1691694000@bewusst-brueggen.de
SUMMARY:Repair Café Brüggen
DESCRIPTION:Die Ressourcen werden knapp. Nachhaltigkeit ist das Gebot der Stunde. Nicht Ex und Hopp\, sondern Gegenstände und Geräte länger nutzen.\nReparieren\, Instandhalten\, Restaurieren sind angesagt. Länger an was Spaß haben\, mehr Nutzen aus etwas ziehen also. Und genau hierfür steht die Repair Café Idee. \nLeute kommen mit defekten Radios\, Elektro-Kleingeräten\, mit Wand- und Armbanduhren\, mit Kleinmöbeln\, mit Handys\, mit defekten Reißverschlüssen\, mit lahmenden PCs etc. Kurzum mit liebgewonnenen Gegenständen\, die es plötzlich nicht mehr tun oder schon seit längerem ausrangiert waren. Gekümmert wird sich um alles\, was „unterm Arm“ mitgebracht werden kann. Ausnahme: defekte Fahrräder\, um die sich auch gekümmert wird. Eine Nähmaschine ist vor Ort. Kleine Reparaturen und Änderungen können also auch von erfahrener Hand erledigt werden. \nBegeisterte Hobbyschrauber\, Handwerker im Ruhestand\, Spezialisten\, Näherinnen oder auch nur Autodidakten nehmen sich dann im Repair Café dieser Probleme an. Alle machen das ehrenamtlich. Und wenn etwas nicht zu retten ist\, wird das auch entsprechend mitgeteilt.\nUnd auch eine soziale Komponente hat das Ganze. Sich treffen\, klönen\, zusammenkommen\, auch mal einen Rat einholen und\, wie man hier so schön sagt\, ein bisschen zu klängern.\nVieles lässt sich dann bei einer Tasse Kaffee und einem Stück Kuchen wunderbar besprechen. \nDas Repair Café Brüggen wird immer im monatlichen Rhythmus\, jeweils am zweiten Donnerstag eines Monats\, von 16 bis 19 Uhr stattfinden.
URL:https://bewusst-brueggen.de/kalender/repair-cafe-brueggen/2023-08-10/
CATEGORIES:Soziales
ATTACH;FMTTYPE=image/jpeg:https://bewusst-brueggen.de/wp-content/uploads/2023/09/Repair-Cafe-der-JedermannHilfe-Brueggen-Bracht.jpg
ORGANIZER;CN="JedermannHilfe Br%C3%BCggen e.V.":MAILTO:jedermannhilfe@brueggen.de
END:VEVENT
END:VCALENDAR