BEGIN:VCALENDAR
VERSION:2.0
PRODID:-//Bewusst Brüggen - ECPv6.15.20//NONSGML v1.0//EN
CALSCALE:GREGORIAN
METHOD:PUBLISH
X-ORIGINAL-URL:https://bewusst-brueggen.de
X-WR-CALDESC:Veranstaltungen für Bewusst Brüggen
REFRESH-INTERVAL;VALUE=DURATION:PT1H
X-Robots-Tag:noindex
X-PUBLISHED-TTL:PT1H
BEGIN:VTIMEZONE
TZID:Europe/Berlin
BEGIN:DAYLIGHT
TZOFFSETFROM:+0100
TZOFFSETTO:+0200
TZNAME:CEST
DTSTART:20250330T010000
END:DAYLIGHT
BEGIN:STANDARD
TZOFFSETFROM:+0200
TZOFFSETTO:+0100
TZNAME:CET
DTSTART:20251026T010000
END:STANDARD
BEGIN:DAYLIGHT
TZOFFSETFROM:+0100
TZOFFSETTO:+0200
TZNAME:CEST
DTSTART:20260329T010000
END:DAYLIGHT
BEGIN:STANDARD
TZOFFSETFROM:+0200
TZOFFSETTO:+0100
TZNAME:CET
DTSTART:20261025T010000
END:STANDARD
BEGIN:DAYLIGHT
TZOFFSETFROM:+0100
TZOFFSETTO:+0200
TZNAME:CEST
DTSTART:20270328T010000
END:DAYLIGHT
BEGIN:STANDARD
TZOFFSETFROM:+0200
TZOFFSETTO:+0100
TZNAME:CET
DTSTART:20271031T010000
END:STANDARD
END:VTIMEZONE
BEGIN:VEVENT
DTSTART;TZID=Europe/Berlin:20260502T080000
DTEND;TZID=Europe/Berlin:20260502T200000
DTSTAMP:20260421T202000
CREATED:20250710T111632Z
LAST-MODIFIED:20260324T115709Z
UID:10005375-1777708800-1777752000@bewusst-brueggen.de
SUMMARY:Wandertag "Hiking-Day"
DESCRIPTION:Entdecke und erlebe die Burggemeinde Brüggen wandernd. Dafür hast du bis zu 12 Stunden Zeit. Wie viele Kilometer wirst du am Ende schaffen? Hauptsache\, du hast Spaß. Dennoch kannst du dich für ein klein wenig Motivation mit anderen Teilnehmenden messen. Dafür haben wir die Hiking-Day-App entwickelt. Das GPS trackt deine zurückgelegte Strecke und übermittelt sie in Echtzeit an die Organisation. Stärken kannst du dich während deiner Wanderung in unserem gut ausgestattetem Base-Camp und in lokalen Geschäften. Über deine gesammelten Kilometer erhältst du eine Urkunde und einen Platz im Ranking. \nWeitere Infos folgen….
URL:https://bewusst-brueggen.de/kalender/wandertag-hiking-day/
LOCATION:Burggemeindehalle\, Kreuzherrenplatz\, Brüggen\, 41379\, Deutschland
CATEGORIES:Sport / Aktivität
ATTACH;FMTTYPE=image/jpeg:https://bewusst-brueggen.de/wp-content/uploads/2025/07/Hiking-Day-Konzept.pdf.jpg
ORGANIZER;CN="Kamischke Konsulting":MAILTO:info@hiking-day.de
END:VEVENT
END:VCALENDAR