BEGIN:VCALENDAR
VERSION:2.0
PRODID:-//Bewusst Brüggen - ECPv6.15.20//NONSGML v1.0//EN
CALSCALE:GREGORIAN
METHOD:PUBLISH
X-WR-CALNAME:Bewusst Brüggen
X-ORIGINAL-URL:https://bewusst-brueggen.de
X-WR-CALDESC:Veranstaltungen für Bewusst Brüggen
REFRESH-INTERVAL;VALUE=DURATION:PT1H
X-Robots-Tag:noindex
X-PUBLISHED-TTL:PT1H
BEGIN:VTIMEZONE
TZID:Europe/Berlin
BEGIN:DAYLIGHT
TZOFFSETFROM:+0100
TZOFFSETTO:+0200
TZNAME:CEST
DTSTART:20220327T010000
END:DAYLIGHT
BEGIN:STANDARD
TZOFFSETFROM:+0200
TZOFFSETTO:+0100
TZNAME:CET
DTSTART:20221030T010000
END:STANDARD
BEGIN:DAYLIGHT
TZOFFSETFROM:+0100
TZOFFSETTO:+0200
TZNAME:CEST
DTSTART:20230326T010000
END:DAYLIGHT
BEGIN:STANDARD
TZOFFSETFROM:+0200
TZOFFSETTO:+0100
TZNAME:CET
DTSTART:20231029T010000
END:STANDARD
BEGIN:DAYLIGHT
TZOFFSETFROM:+0100
TZOFFSETTO:+0200
TZNAME:CEST
DTSTART:20240331T010000
END:DAYLIGHT
BEGIN:STANDARD
TZOFFSETFROM:+0200
TZOFFSETTO:+0100
TZNAME:CET
DTSTART:20241027T010000
END:STANDARD
BEGIN:DAYLIGHT
TZOFFSETFROM:+0100
TZOFFSETTO:+0200
TZNAME:CEST
DTSTART:20250330T010000
END:DAYLIGHT
BEGIN:STANDARD
TZOFFSETFROM:+0200
TZOFFSETTO:+0100
TZNAME:CET
DTSTART:20251026T010000
END:STANDARD
BEGIN:DAYLIGHT
TZOFFSETFROM:+0100
TZOFFSETTO:+0200
TZNAME:CEST
DTSTART:20260329T010000
END:DAYLIGHT
BEGIN:STANDARD
TZOFFSETFROM:+0200
TZOFFSETTO:+0100
TZNAME:CET
DTSTART:20261025T010000
END:STANDARD
BEGIN:DAYLIGHT
TZOFFSETFROM:+0100
TZOFFSETTO:+0200
TZNAME:CEST
DTSTART:20270328T010000
END:DAYLIGHT
BEGIN:STANDARD
TZOFFSETFROM:+0200
TZOFFSETTO:+0100
TZNAME:CET
DTSTART:20271031T010000
END:STANDARD
END:VTIMEZONE
BEGIN:VEVENT
DTSTART;TZID=Europe/Berlin:20260207T191100
DTEND;TZID=Europe/Berlin:20260207T233000
DTSTAMP:20260420T073353
CREATED:20251202T083043Z
LAST-MODIFIED:20251202T083129Z
UID:10006072-1770491460-1770507000@bewusst-brueggen.de
SUMMARY:Büttenabend Kirchenchor Cäcilia Born 1816 e.V.
DESCRIPTION:Es wird ein abwechslungsreiches Programm an Büttenreden und Liedern geboten. Nach dem Büttenabend ist Party angesagt. \nAufgrund der Renovierungsmaßnahmen am Borner Pfarrheim findet die Veranstaltung in der Begegnungsstätte Lüttelbracht-Genholt statt. \nKartenverkauf: Apotheke am Katharinenhof\, Borner Str. 32\, 41379 Brüggen \nAnsprechpartner:\nVorsitzender Heinz Arno Mundfortz\nTel.: 02163 / 888370 (Mundfortz Baustoffe GmbH)\nMail: h.a.mundfortz@mundfortz.de
URL:https://bewusst-brueggen.de/kalender/buettenabend-kirchenchor-caecilia-born-1816-e-v-5/2026-02-07/
LOCATION:Begegnungsstätte Lüttelbracht-Genholt\, Genholter Str 98\, Brüggen\, 41379
CATEGORIES:Brauchtum/ Heimatkunde
ATTACH;FMTTYPE=image/jpeg:https://bewusst-brueggen.de/wp-content/uploads/2023/03/bewusst-brueggen-events-feste.jpg
ORGANIZER;CN="Kirchenchor C%C3%A4cilia Born 1816 e.V.":MAILTO:info@mundfortz.de
END:VEVENT
BEGIN:VEVENT
DTSTART;TZID=Europe/Berlin:20260206T191100
DTEND;TZID=Europe/Berlin:20260206T233000
DTSTAMP:20260420T073353
CREATED:20251202T083043Z
LAST-MODIFIED:20251202T083129Z
UID:10006071-1770405060-1770420600@bewusst-brueggen.de
SUMMARY:Büttenabend Kirchenchor Cäcilia Born 1816 e.V.
DESCRIPTION:Es wird ein abwechslungsreiches Programm an Büttenreden und Liedern geboten. Nach dem Büttenabend ist Party angesagt. \nAufgrund der Renovierungsmaßnahmen am Borner Pfarrheim findet die Veranstaltung in der Begegnungsstätte Lüttelbracht-Genholt statt. \nKartenverkauf: Apotheke am Katharinenhof\, Borner Str. 32\, 41379 Brüggen \nAnsprechpartner:\nVorsitzender Heinz Arno Mundfortz\nTel.: 02163 / 888370 (Mundfortz Baustoffe GmbH)\nMail: h.a.mundfortz@mundfortz.de
URL:https://bewusst-brueggen.de/kalender/buettenabend-kirchenchor-caecilia-born-1816-e-v-5/2026-02-06/
LOCATION:Begegnungsstätte Lüttelbracht-Genholt\, Genholter Str 98\, Brüggen\, 41379
CATEGORIES:Brauchtum/ Heimatkunde
ATTACH;FMTTYPE=image/jpeg:https://bewusst-brueggen.de/wp-content/uploads/2023/03/bewusst-brueggen-events-feste.jpg
ORGANIZER;CN="Kirchenchor C%C3%A4cilia Born 1816 e.V.":MAILTO:info@mundfortz.de
END:VEVENT
BEGIN:VEVENT
DTSTART;TZID=Europe/Berlin:20250623T200000
DTEND;TZID=Europe/Berlin:20250623T211500
DTSTAMP:20260420T073353
CREATED:20250129T070614Z
LAST-MODIFIED:20250129T070614Z
UID:10004628-1750708800-1750713300@bewusst-brueggen.de
SUMMARY:50 Jahre "Singen am See"
DESCRIPTION:Unter dem Motto „50 Jahre Singen am See – 50 Jahre Klänge der Freude“ werden u.a. Lieder von ABBA und Udo Jürgens in Form eines Medleys aufgeführt. Ganz nach dem Motto der Veranstaltung wird „Klänge der Freude“ im Zusammenspiel mit dem Musikverein Cäcilia Brüggen zu hören sein. Auch die Besucher sind wieder zum Mitsingen eingeladen. \nAnsprechpartner:\nVorsitzender Heinz Arno Mundfortz\nTel. 02163 / 888370 (Mundfortz Baustoffe GmbH)\nMail: h.a.mundfortz@mundfortz.de
URL:https://bewusst-brueggen.de/kalender/50-jahre-singen-am-see/
LOCATION:Sing- und Musizierplatz am Borner See\, Born 51\, Brüggen\, 41379
CATEGORIES:Kultur
ATTACH;FMTTYPE=image/jpeg:https://bewusst-brueggen.de/wp-content/uploads/2023/08/bewusst-brueggen-sehenswertes-09-stege-borner-see.jpg
ORGANIZER;CN="Kirchenchor C%C3%A4cilia Born 1816 e.V.":MAILTO:info@mundfortz.de
END:VEVENT
BEGIN:VEVENT
DTSTART;TZID=Europe/Berlin:20250222T191100
DTEND;TZID=Europe/Berlin:20250222T233000
DTSTAMP:20260420T073353
CREATED:20250129T070805Z
LAST-MODIFIED:20250129T070805Z
UID:10004627-1740251460-1740267000@bewusst-brueggen.de
SUMMARY:Büttenabend Kirchenchor Cäcilia Born 1816 e.V.
DESCRIPTION:Es wird ein abwechslungsreiches Programm an Büttenreden und Liedern geboten. Nach dem Büttenabend ist Party angesagt. \nKartenvorverkauf Apotheke am Katharinenhof\, Borner Str. 32\, 41379 Brüggen \nAnsprechpartner:\nVorsitzender Heinz Arno Mundfortz\nTel. 02163 / 888370 (Mundfortz Baustoffe GmbH)\nMail: h.a.mundfortz@mundfortz.de
URL:https://bewusst-brueggen.de/kalender/buettenabend-kirchenchor-caecilia-born-1816-e-v-3/
LOCATION:Pfarrheim Born\, Born 51\, Brüggen\, 41379\, Deutschland
CATEGORIES:Brauchtum/ Heimatkunde
ATTACH;FMTTYPE=image/jpeg:https://bewusst-brueggen.de/wp-content/uploads/2023/03/bewusst-brueggen-events-heimatkunde.jpg
ORGANIZER;CN="Kirchenchor C%C3%A4cilia Born 1816 e.V.":MAILTO:info@mundfortz.de
END:VEVENT
BEGIN:VEVENT
DTSTART;TZID=Europe/Berlin:20250221T191100
DTEND;TZID=Europe/Berlin:20250221T233000
DTSTAMP:20260420T073353
CREATED:20250129T070837Z
LAST-MODIFIED:20250129T070837Z
UID:10004626-1740165060-1740180600@bewusst-brueggen.de
SUMMARY:Büttenabend Kirchenchor Cäcilia Born 1816 e.V.
DESCRIPTION:Es wird ein abwechslungsreiches Programm an Büttenreden und Liedern geboten. Nach dem Büttenabend ist Party angesagt. \nKartenvorverkauf Apotheke am Katharinenhof\, Borner Str. 32\, 41379 Brüggen \nAnsprechpartner:\nVorsitzender Heinz Arno Mundfortz\nTel. 02163 / 888370 (Mundfortz Baustoffe GmbH)\nMail: h.a.mundfortz@mundfortz.de
URL:https://bewusst-brueggen.de/kalender/buettenabend-kirchenchor-caecilia-born-1816-e-v-4/
LOCATION:Pfarrheim Born\, Born 51\, Brüggen\, 41379\, Deutschland
CATEGORIES:Brauchtum/ Heimatkunde
ATTACH;FMTTYPE=image/jpeg:https://bewusst-brueggen.de/wp-content/uploads/2023/03/bewusst-brueggen-events-heimatkunde.jpg
ORGANIZER;CN="Kirchenchor C%C3%A4cilia Born 1816 e.V.":MAILTO:info@mundfortz.de
END:VEVENT
BEGIN:VEVENT
DTSTART;TZID=Europe/Berlin:20240624T200000
DTEND;TZID=Europe/Berlin:20240624T213000
DTSTAMP:20260420T073353
CREATED:20240312T101832Z
LAST-MODIFIED:20240312T101832Z
UID:10002904-1719259200-1719264600@bewusst-brueggen.de
SUMMARY:Singen am See
DESCRIPTION:Unter dem Motto „Ein Lied geht um die Welt“ werden im Rahmen eines Projektchores schöne Lieder vorgetragen. Es ist eine bunte musikalische Mischung bekannter nationaler und internationaler Titel wie „Amacing grace“ oder  „Über den Wolken“ geplant. Auch die Besucher sind wie gewohnt zum Mitsingen eingeladen. Der Musikverein Cäcilia Brüggen 1910 hat ebenfalls sein Kommen zugesagt.
URL:https://bewusst-brueggen.de/kalender/singen-am-see-2/
LOCATION:Sing- und Musizierplatz am Borner See\, Born 51\, Brüggen\, 41379
CATEGORIES:Kultur
ATTACH;FMTTYPE=image/jpeg:https://bewusst-brueggen.de/wp-content/uploads/2023/03/bewusst-brueggen-events-kultur.jpg
ORGANIZER;CN="Kirchenchor C%C3%A4cilia Born 1816 e.V.":MAILTO:info@mundfortz.de
END:VEVENT
BEGIN:VEVENT
DTSTART;TZID=Europe/Berlin:20240203T191100
DTEND;TZID=Europe/Berlin:20240203T233000
DTSTAMP:20260420T073353
CREATED:20240116T121044Z
LAST-MODIFIED:20240116T121044Z
UID:10001910-1706987460-1707003000@bewusst-brueggen.de
SUMMARY:Büttenabend Kirchenchor Cäcilia Born 1816 e.V.
DESCRIPTION:Es wird ein abwechslungsreiches Programm an Büttenreden und Liedern geboten. Nach dem Büttenabend ist Party angesagt. \nKartenverkauf: Apotheke am Katharinenhof\, Borner Str. 32\, 41379 Brüggen \nAnsprechpartner:\nVorsitzender Heinz Arno Mundfortz\nTel.: 02163 / 888370 (Mundfortz Baustoffe GmbH)\nMail: h.a.mundfortz@mundfortz.de
URL:https://bewusst-brueggen.de/kalender/buettenabend-kirchenchor-caecilia-born-1816-e-v/
LOCATION:Pfarrheim Born\, Born 51\, Brüggen\, 41379\, Deutschland
CATEGORIES:Brauchtum/ Heimatkunde
ATTACH;FMTTYPE=image/jpeg:https://bewusst-brueggen.de/wp-content/uploads/2023/03/bewusst-brueggen-events-heimatkunde.jpg
ORGANIZER;CN="Kirchenchor C%C3%A4cilia Born 1816 e.V.":MAILTO:info@mundfortz.de
END:VEVENT
BEGIN:VEVENT
DTSTART;TZID=Europe/Berlin:20240202T191100
DTEND;TZID=Europe/Berlin:20240202T233000
DTSTAMP:20260420T073353
CREATED:20240116T121209Z
LAST-MODIFIED:20240116T121209Z
UID:10001909-1706901060-1706916600@bewusst-brueggen.de
SUMMARY:Büttenabend Kirchenchor Cäcilia Born 1816 e.V.
DESCRIPTION:Es wird ein abwechslungsreiches Programm an Büttenreden und Liedern geboten. Nach dem Büttenabend ist Party angesagt. \nKartenverkauf: Apotheke am Katharinenhof\, Borner Str. 32\, 41379 Brüggen \nAnsprechpartner:\nVorsitzender Heinz Arno Mundfortz\nTel.: 02163 / 888370 (Mundfortz Baustoffe GmbH)\nMail: h.a.mundfortz@mundfortz.de
URL:https://bewusst-brueggen.de/kalender/buettenabend-kirchenchor-caecilia-born-1816-e-v-2/
LOCATION:Pfarrheim Born\, Born 51\, Brüggen\, 41379\, Deutschland
CATEGORIES:Brauchtum/ Heimatkunde
ATTACH;FMTTYPE=image/jpeg:https://bewusst-brueggen.de/wp-content/uploads/2023/03/bewusst-brueggen-events-heimatkunde.jpg
ORGANIZER;CN="Kirchenchor C%C3%A4cilia Born 1816 e.V.":MAILTO:info@mundfortz.de
END:VEVENT
BEGIN:VEVENT
DTSTART;TZID=Europe/Berlin:20230619T200000
DTEND;TZID=Europe/Berlin:20230619T210000
DTSTAMP:20260420T073353
CREATED:20230418T063001Z
LAST-MODIFIED:20231213T145552Z
UID:10000402-1687204800-1687208400@bewusst-brueggen.de
SUMMARY:Singen am See
DESCRIPTION:Gemeinsames Singen am Ufer des idyllischen Borner Sees unter Mitwirkung des Borner Kirchenchores und des Musikvereins Cäcilia Brüggen. Musikalischer Leiter ist Floris van Gils.
URL:https://bewusst-brueggen.de/kalender/singen-am-see/
CATEGORIES:Kultur
ATTACH;FMTTYPE=:
ORGANIZER;CN="Kirchenchor C%C3%A4cilia Born 1816 e.V.":MAILTO:info@mundfortz.de
END:VEVENT
END:VCALENDAR