BEGIN:VCALENDAR
VERSION:2.0
PRODID:-//Bewusst Brüggen - ECPv6.15.20//NONSGML v1.0//EN
CALSCALE:GREGORIAN
METHOD:PUBLISH
X-WR-CALNAME:Bewusst Brüggen
X-ORIGINAL-URL:https://bewusst-brueggen.de
X-WR-CALDESC:Veranstaltungen für Bewusst Brüggen
REFRESH-INTERVAL;VALUE=DURATION:PT1H
X-Robots-Tag:noindex
X-PUBLISHED-TTL:PT1H
BEGIN:VTIMEZONE
TZID:Europe/Berlin
BEGIN:DAYLIGHT
TZOFFSETFROM:+0100
TZOFFSETTO:+0200
TZNAME:CEST
DTSTART:20250330T010000
END:DAYLIGHT
BEGIN:STANDARD
TZOFFSETFROM:+0200
TZOFFSETTO:+0100
TZNAME:CET
DTSTART:20251026T010000
END:STANDARD
BEGIN:DAYLIGHT
TZOFFSETFROM:+0100
TZOFFSETTO:+0200
TZNAME:CEST
DTSTART:20260329T010000
END:DAYLIGHT
BEGIN:STANDARD
TZOFFSETFROM:+0200
TZOFFSETTO:+0100
TZNAME:CET
DTSTART:20261025T010000
END:STANDARD
BEGIN:DAYLIGHT
TZOFFSETFROM:+0100
TZOFFSETTO:+0200
TZNAME:CEST
DTSTART:20270328T010000
END:DAYLIGHT
BEGIN:STANDARD
TZOFFSETFROM:+0200
TZOFFSETTO:+0100
TZNAME:CET
DTSTART:20271031T010000
END:STANDARD
END:VTIMEZONE
BEGIN:VEVENT
DTSTART;TZID=Europe/Berlin:20260214T141100
DTEND;TZID=Europe/Berlin:20260214T163000
DTSTAMP:20260421T172512
CREATED:20260108T133420Z
LAST-MODIFIED:20260108T133420Z
UID:10006083-1771078260-1771086600@bewusst-brueggen.de
SUMMARY:Nelkensamstagszug in Bracht
DESCRIPTION:Der Zug startet am Brachter Sportplatz führt durch den Ort und endet in der Altkevelaer Straße.
URL:https://bewusst-brueggen.de/kalender/nelkensamstagszug-in-bracht/
CATEGORIES:Brauchtum/ Heimatkunde,Feste / Märkte
ATTACH;FMTTYPE=image/jpeg:https://bewusst-brueggen.de/wp-content/uploads/2023/03/bewusst-brueggen-events-feste.jpg
ORGANIZER;CN="KKG 'Brachter Wasserratten' e.V.":MAILTO:brachter-wasserratten@mail.de
END:VEVENT
BEGIN:VEVENT
DTSTART;TZID=Europe/Berlin:20260124T200000
DTEND;TZID=Europe/Berlin:20260124T200000
DTSTAMP:20260421T172512
CREATED:20251209T105338Z
LAST-MODIFIED:20251209T110033Z
UID:10006076-1769284800-1769284800@bewusst-brueggen.de
SUMMARY:Jeck'n'Braut
DESCRIPTION:Die Karnevalsparty der KKG ‚Brachter Wasserratten‘ e.V. \nEintritt 5\,- € – Abendkasse
URL:https://bewusst-brueggen.de/kalender/jecknbraut/
LOCATION:Bürgersaal Bracht\, Marktstraße 7\, Brüggen\, 41379
CATEGORIES:Brauchtum/ Heimatkunde,Feste / Märkte
ATTACH;FMTTYPE=image/png:https://bewusst-brueggen.de/wp-content/uploads/2025/12/Karnevalsveranstaltungen-DRUCKDATEN.png
ORGANIZER;CN="KKG 'Brachter Wasserratten' e.V.":MAILTO:brachter-wasserratten@mail.de
END:VEVENT
BEGIN:VEVENT
DTSTART;TZID=Europe/Berlin:20260118T141100
DTEND;TZID=Europe/Berlin:20260118T141100
DTSTAMP:20260421T172512
CREATED:20251209T105223Z
LAST-MODIFIED:20251209T105223Z
UID:10006075-1768745460-1768745460@bewusst-brueggen.de
SUMMARY:Karneval in Braut
DESCRIPTION:Kinderkarnevalssitzung der KKG ‚Brachter Wasserratten‘ e.V.
URL:https://bewusst-brueggen.de/kalender/karneval-in-braut-2/
LOCATION:Bürgersaal Bracht\, Marktstraße 7\, Brüggen\, 41379
CATEGORIES:Brauchtum/ Heimatkunde,Kinder/ Jugendliche
ATTACH;FMTTYPE=image/png:https://bewusst-brueggen.de/wp-content/uploads/2025/12/Karnevalsveranstaltungen-DRUCKDATEN.png
ORGANIZER;CN="KKG 'Brachter Wasserratten' e.V.":MAILTO:brachter-wasserratten@mail.de
END:VEVENT
BEGIN:VEVENT
DTSTART;TZID=Europe/Berlin:20260117T200000
DTEND;TZID=Europe/Berlin:20260117T233000
DTSTAMP:20260421T172512
CREATED:20251209T104914Z
LAST-MODIFIED:20251209T105049Z
UID:10006074-1768680000-1768692600@bewusst-brueggen.de
SUMMARY:Karneval in Braut
DESCRIPTION:Karnevalssitzugn der KKG ‚Brachter Wasserratten‘ e.V. \nKarten unter: kartenvorverkauf-wasserratten@mail.de
URL:https://bewusst-brueggen.de/kalender/karneval-in-braut/
LOCATION:Bürgersaal Bracht\, Marktstraße 7\, Brüggen\, 41379
CATEGORIES:Brauchtum/ Heimatkunde
ATTACH;FMTTYPE=image/png:https://bewusst-brueggen.de/wp-content/uploads/2025/12/Karnevalsveranstaltungen-DRUCKDATEN.png
ORGANIZER;CN="KKG 'Brachter Wasserratten' e.V.":MAILTO:brachter-wasserratten@mail.de
END:VEVENT
END:VCALENDAR