BEGIN:VCALENDAR
VERSION:2.0
PRODID:-//Bewusst Brüggen - ECPv6.15.20//NONSGML v1.0//EN
CALSCALE:GREGORIAN
METHOD:PUBLISH
X-WR-CALNAME:Bewusst Brüggen
X-ORIGINAL-URL:https://bewusst-brueggen.de
X-WR-CALDESC:Veranstaltungen für Bewusst Brüggen
REFRESH-INTERVAL;VALUE=DURATION:PT1H
X-Robots-Tag:noindex
X-PUBLISHED-TTL:PT1H
BEGIN:VTIMEZONE
TZID:Europe/Berlin
BEGIN:DAYLIGHT
TZOFFSETFROM:+0100
TZOFFSETTO:+0200
TZNAME:CEST
DTSTART:20220327T010000
END:DAYLIGHT
BEGIN:STANDARD
TZOFFSETFROM:+0200
TZOFFSETTO:+0100
TZNAME:CET
DTSTART:20221030T010000
END:STANDARD
BEGIN:DAYLIGHT
TZOFFSETFROM:+0100
TZOFFSETTO:+0200
TZNAME:CEST
DTSTART:20230326T010000
END:DAYLIGHT
BEGIN:STANDARD
TZOFFSETFROM:+0200
TZOFFSETTO:+0100
TZNAME:CET
DTSTART:20231029T010000
END:STANDARD
BEGIN:DAYLIGHT
TZOFFSETFROM:+0100
TZOFFSETTO:+0200
TZNAME:CEST
DTSTART:20240331T010000
END:DAYLIGHT
BEGIN:STANDARD
TZOFFSETFROM:+0200
TZOFFSETTO:+0100
TZNAME:CET
DTSTART:20241027T010000
END:STANDARD
END:VTIMEZONE
BEGIN:VEVENT
DTSTART;TZID=Europe/Berlin:20230820T130000
DTEND;TZID=Europe/Berlin:20230820T180000
DTSTAMP:20260420T173919
CREATED:20230328T164203Z
LAST-MODIFIED:20231213T145527Z
UID:10000369-1692536400-1692554400@bewusst-brueggen.de
SUMMARY:Jagdhorn-Freundschaftsblasen
DESCRIPTION:Bereits zum 4. Mal findet das beliebte Freundschaftsblasen der Kreisjägerschaft Viersen statt. \n24 Bläsergruppen mit mehr als 300 aktiven Jagdhornbläserinnen und Jagdhornbläsern aus der Kreisjägerschaft Viersen und den angrenzenden Kreisjägerschaften von Kleve bis zum Rhein-Erft-Kreis haben bereits ihre Teilnahme zugesagt. \nIn der Zeit von 13.00 Uhr bis 18.00 Uhr werden Jagdsignale\, Jägerlieder\, Jagdfanfaren und Jägermärsche erklingen. Die deutschen Jagdsignale sind die einzige Form der Signalmusik\, die heute noch eine praktische Bedeutung haben. Sie sind unentbehrliche Hilfsmittel zur sicheren und reibungslosen Durchführung einer Jagdgesellschaft. Mit den Jagdhörnern wird zum Beispiel signalisiert\, ab wann geschossen werden darf und wann die Flinten zu entladen sind. \nDie Veranstaltung findet im Innenhof der Burg und auf der angrenzenden Festwiese statt.\nNeben der kostenlosen Veranstaltung kannst du an diesem Tag auch das Museum in der Burg gratis besuchen.
URL:https://bewusst-brueggen.de/kalender/jagdhorn-freundschaftsblasen/
LOCATION:Burg Brüggen\, Burgwall 4\, Brüggen\, 41379
CATEGORIES:Kultur
ATTACH;FMTTYPE=:
ORGANIZER;CN="Kreisj%C3%A4gerschaft Viersen - Dr. Heinrich Heuser":MAILTO:hvtc.heuser@t-online.de
END:VEVENT
END:VCALENDAR