BEGIN:VCALENDAR
VERSION:2.0
PRODID:-//Bewusst Brüggen - ECPv6.15.20//NONSGML v1.0//EN
CALSCALE:GREGORIAN
METHOD:PUBLISH
X-WR-CALNAME:Bewusst Brüggen
X-ORIGINAL-URL:https://bewusst-brueggen.de
X-WR-CALDESC:Veranstaltungen für Bewusst Brüggen
REFRESH-INTERVAL;VALUE=DURATION:PT1H
X-Robots-Tag:noindex
X-PUBLISHED-TTL:PT1H
BEGIN:VTIMEZONE
TZID:Europe/Berlin
BEGIN:DAYLIGHT
TZOFFSETFROM:+0100
TZOFFSETTO:+0200
TZNAME:CEST
DTSTART:20250330T010000
END:DAYLIGHT
BEGIN:STANDARD
TZOFFSETFROM:+0200
TZOFFSETTO:+0100
TZNAME:CET
DTSTART:20251026T010000
END:STANDARD
BEGIN:DAYLIGHT
TZOFFSETFROM:+0100
TZOFFSETTO:+0200
TZNAME:CEST
DTSTART:20260329T010000
END:DAYLIGHT
BEGIN:STANDARD
TZOFFSETFROM:+0200
TZOFFSETTO:+0100
TZNAME:CET
DTSTART:20261025T010000
END:STANDARD
BEGIN:DAYLIGHT
TZOFFSETFROM:+0100
TZOFFSETTO:+0200
TZNAME:CEST
DTSTART:20270328T010000
END:DAYLIGHT
BEGIN:STANDARD
TZOFFSETFROM:+0200
TZOFFSETTO:+0100
TZNAME:CET
DTSTART:20271031T010000
END:STANDARD
END:VTIMEZONE
BEGIN:VEVENT
DTSTART;VALUE=DATE:20260201
DTEND;VALUE=DATE:20260420
DTSTAMP:20260419T152546
CREATED:20260113T092915Z
LAST-MODIFIED:20260113T093805Z
UID:10006086-1769904000-1776643199@bewusst-brueggen.de
SUMMARY:Ausstellung in der Burg: "Das Flüstern der Tiere"
DESCRIPTION:Der Künstler\, Autor und Musiker Sebastian Polmans aus Elmpt zeigt mit seiner Ausstellung „Das Flüstern der Tiere“ Buntstiftzeichnungen von Tieren im Kultursaal der Burg Brüggen in der Zeit vom 01.02. bis 19.04.2026. Begleitet werden die Bilder von Gedichten\, die als heilsame Botschaften in den feinen Bereichen des Seins wirken. \nDie Ausstellung lädt alle ein\, mit den Tieren Wirkmächte der ureigenen Seele zu erkennen und zu entfalten – spielerisch\, poetisch und liebevoll. Die Präsentation ist bewusst kinderfreundlich gestaltet\, damit junge Besucher sie intuitiv entdecken können. Gerne bietet Sebastian KiTas und Schulklassen der Region auch persönliche Führungen zur Ausstellung an\, bei denen gemeinsam gemalt\, gedichtet und gesungen wird. Die gesamte Sammlung und weitere Infos gibt’s auf Sebastians Webseite: www.dasfluesterndertiere.de \nDie Ausstellung wird ergänzt durch Acrylgemälde von Sebastians Vater\, Dieter Polmans. Seine lebendigen Farbenspiele treten in Dialog mit den Tierzeichnungen. Zwei künstlerische Handschriften – eine familiäre Resonanz\, die Räume öffnet\, in denen Farbe\, Form und Feingefühl zusammenwirken. \nEin vielseitiges Rahmenprogramm verbindet Kunst\, Musik\, Sprache und Bewegung.
URL:https://bewusst-brueggen.de/kalender/ausstellung-in-der-burg-das-fluestern-der-tiere/
LOCATION:Burg Brüggen\, Burgwall 4\, Brüggen\, 41379
CATEGORIES:Kultur
ATTACH;FMTTYPE=image/jpeg:https://bewusst-brueggen.de/wp-content/uploads/2026/01/Sebastian-Polmans.-Portraetfoto.jpg
ORGANIZER;CN="Burggemeinde Br%C3%BCggen - Judith Zybell":MAILTO:judith.Zybell@brueggen.de
END:VEVENT
BEGIN:VEVENT
DTSTART;TZID=Europe/Berlin:20260421T193000
DTEND;TZID=Europe/Berlin:20260421T213000
DTSTAMP:20260419T152546
CREATED:20251014T103905Z
LAST-MODIFIED:20260311T082217Z
UID:10006595-1776799800-1776807000@bewusst-brueggen.de
SUMMARY:Franks Sitzecke: Regionale Talkrunde
DESCRIPTION:Franks Sitzecke ist eine regionale Talkrunde mit interessanten Gästen aus Brüggen und Umgebung. Moderator ist Franks Schiffers aus Viersen. Die jeweiligen Teilnehmerinnen und Teilnehmen werden noch bekannt gegeben. Die Veranstaltung findet grundsätzlich im Kultursaal der Burg Brüggen statt. Bei schönem Wetter auch im Innenhof der Burg Brüggen. Beginn ist um 19.30 Uhr (Einlass 19.00 Uhr) im Kultursaal in der Burg Brüggen\, Burgwall 4\, 41379 Brüggen. \nNeugierig geworden? Tickets zum Preis von 10\,00 € gibt es in der Tourist-Info in der Burg Brüggen oder über www.ticketshop.nrw. Eigene Getränke und kleine Snacks können sehr gerne mitgebracht werden. Es gibt aber auch ein kleines Getränkeangebot vor Ort. \n  \n 
URL:https://bewusst-brueggen.de/kalender/franks-sitzecke-regionale-talkrunde-fuer-den-guten-zweck-5/2026-04-21/
LOCATION:Kultursaal Burg Brüggen\, Burgwall 4\, Brüggen\, 41379
CATEGORIES:Kultur
ATTACH;FMTTYPE=image/jpeg:https://bewusst-brueggen.de/wp-content/uploads/2024/01/franks-sitzecke-2024.jpg
ORGANIZER;CN="Burggemeinde Br%C3%BCggen - Judith Zybell":MAILTO:judith.Zybell@brueggen.de
END:VEVENT
BEGIN:VEVENT
DTSTART;VALUE=DATE:20260425
DTEND;VALUE=DATE:20260427
DTSTAMP:20260419T152546
CREATED:20260109T102049Z
LAST-MODIFIED:20260414T120908Z
UID:10006084-1777075200-1777247999@bewusst-brueggen.de
SUMMARY:4. Kunstroute Brüggen - Bracht - Born
DESCRIPTION:Zum vierten Mal findet die Kunstroute Brüggen-Bracht-Born statt. Hier hast du die Gelegenheit\, zeitgenössische Kunst in einzigartiger Umgebung sowie an ungewöhnlichen Kunstorten erleben zu können. Verbunden mit einer Fahrradtour hast du zwischen 11:00 – 17:00 Uhr die Chance auf ein ganz besonderes Wochenendprogramm. \nErlebe ein Wochenende voller Kunst und Kreativität. Mühle\, Burg\, Gärtnerei\, Eventlocation\, kath. Kirche\, Pfarrzentrum\, Vierkanthof etc. gehören unter anderem zu den attraktiven Kunstorten. Von aufstrebenden Talenten bis hin zu etablierten Namen sind vierzig Kunstschaffende aus sechs Nationen bei der 4. Kunstroute Brüggen vertreten. Idealerweise erkundest du die Kunstorte mit dem Fahrrad. Umweltfreundlich gelangst du mit dem Fahrrad auf einer schönen Radroute durch die Burggemeinde Brüggen zu den einzelnen Kunstorten.\nDie als Rundkurs angelegte Route ermöglicht Ihnen an jedem Kunstort die Route zu beginnen. \nZur Kunstroute Brüggen 2026 wird ein Flyer mit einer Übersichtkarte der Route herausgegeben. diese sind im örtlichen Handel wie auch in öffentlichen Einrichtungen der umliegenden Gemeinden erhältlich. Im Flyer findest du neben einer Übersichtskarte die Adressen der einzelnen Kunstorte sowie die Namen und Kunstrichtungen der ausstellenden Kunstschaffenden. \nDie Kunstroute hat eine gesamte Streckenlänge von ca. 16 km. Durch zwei geringe Steigungen auf der Strecke und durchgehend befestigte Wege ist die Kunstroute gut zu bewältigen. Die Strecke ist gekennzeichnet.
URL:https://bewusst-brueggen.de/kalender/4-kunstroute-brueggen-bracht-born/
LOCATION:Burggemeinde Brüggen\, Brüggen\, 41379
CATEGORIES:Kultur
ATTACH;FMTTYPE=image/jpeg:https://bewusst-brueggen.de/wp-content/uploads/2026/01/bewusst-brueggen-veranstaltung-kunstroute-2026.jpg
ORGANIZER;CN="Burggemeinde Br%C3%BCggen - Judith Zybell":MAILTO:judith.Zybell@brueggen.de
END:VEVENT
BEGIN:VEVENT
DTSTART;VALUE=DATE:20260425
DTEND;VALUE=DATE:20260803
DTSTAMP:20260419T152546
CREATED:20260115T115205Z
LAST-MODIFIED:20260313T104908Z
UID:10006125-1777075200-1785715199@bewusst-brueggen.de
SUMMARY:Ausstellung in der Burg "Thomas Baumgärtel: 40 Jahre Bananensprayer"
DESCRIPTION:Niederrheintour 2026: Freiheit für die Kunst \nThomas Baumgärtel zählt zu den international bekannten Künstlern und ist der bekannteste Street-Art-Künstler Deutschlands. Er wurde 1960 in Alpen am Niederrhein geboren und wuchs in Rheinberg auf. Seit 1986 besprüht der in Köln lebende Künstler ihm wichtige Kunstorte\, wie Galerien und Museen\, mit dem Symbol der Spraybanane. Der Ursprung dieser Aktionen findet sich in einem katholischen Rheinberger Krankenhaus\, in dem Thomas Baumgärtel einen fehlenden Korpus am Kreuz durch seine Frühstücksbanane ersetzte. Die sich hieran anschließende heftige Auseinandersetzung führte den Künstler zu einer bis heute andauernden Kunstaktion. \nDie Spraybanane wurde dabei zu seinem ganz persönlichen Markenzeichen. Im Laufe der Zeit wandelten sich die Aktionen von subversiven\, nächtlichen Kunsteingriffen zu offiziellen Sprayaktionen. Mittlerweile ist die Spraybanane zum Logo der Kunst arriviert und für die Kunstorte der Micheline-Stern der Kunstszene. Baumgärtel blickt inzwischen auf über 40 Jahre künstlerisches Arbeiten zurück mit fast 700 Ausstellungen. Er arbeitet mit 25 Galerien fest zusammen. In zahlreichen Werkgruppen geht es ihm immer wieder um die Freiheit in der Kunst und des Künstlers. Er richtet sich in seinen politischen Werken gegen Ungerechtigkeit und gegen Menschenrechtsverletzungen ein. \nDie Ausstellungsserie soll in 40 Kunst-Häusern des Niederrheins in den Monaten Mai/Juni/Juli (möglichst parallel) laufen. Jedem mitwirkenden Standort wird eine Werkgruppen Baumgärtels zugeordnet\, die nach Möglichkeit einen Bezug zur Sammlung oder Geschichte des Ortes hat. Alle Kunstorte sollten möglichst zeitgleich die Werkgruppen zeigen\, sodass die Besucher auf eine Art Tour durch den Niederrhein gehen\, radeln oder fahren\, um das gesamte Oeuvre des Künstlers kennen zu lernen. Zugleich will der Künstler der Welt zeigen wie schön der Niederrhein ist und wie viele Kunstorte es dort gibt. \nBrücken bauen statt Mauern zu errichten \nBeginnend mit der Teilnahme an der 4. Kunstroute Brüggen\, Bracht\, Born am Wochenende 25./26.04.2026 werden Werke Baumgärtels im Kultursaal der Burg Brüggen zu sehen sein. Anschließend verbleiben sie dort bis 02.08.2026. Brüggen wurde vom Künstler die Werkgruppe „Brückenbilder“ zugeteilt. \nIn den „Brückenbildern“ erhebt Thomas Baumgärtel die Brücke zum zentralen Bildträger einer klaren gesellschaftlichen Haltung. Die Brücke steht bei ihm für Verbindung\, Austausch und Verständigung – als bewusster Gegenentwurf zu Abschottung\, Ausgrenzung und nationalen wie mentalen Mauern. In einer Zeit\, in der politische Rhetorik wieder von Grenzen\, Protektionismus und Abgrenzung geprägt ist\, setzt Baumgärtel das Bild der Brücke als Zeichen des Aufeinander-Zugehens\, der Offenheit und des Dialogs. \nArchitektur wird in dieser Werkgruppe zur Metapher: für Bewegung statt Stillstand\, für Begegnung statt Isolation\, für Freiheit\, Gleichheit und Brüderlichkeit. Die oft frontal\, perspektivisch zugespitzten Brückenmotive erzeugen eine starke Sogwirkung und ziehen den Betrachter förmlich in den Raum hinein. Ein künstlerisches Plädoyer für Offenheit\, Verbindung und gesellschaftlichen Zusammenhalt. \nÖffnungszeiten der Ausstellung: Dienstag bis Sonntag jeweils von 10.00 bis 16.00 Uhr.
URL:https://bewusst-brueggen.de/kalender/ausstellung-in-der-burg-thomas-baumgaertel-40-jahre-bananensprayer/
LOCATION:Kultursaal Burg Brüggen\, Burgwall 4\, Brüggen\, 41379
CATEGORIES:Kultur
ATTACH;FMTTYPE=image/jpeg:https://bewusst-brueggen.de/wp-content/uploads/2026/01/Spraybanane-Baumgaertel.jpg
ORGANIZER;CN="Burggemeinde Br%C3%BCggen - Judith Zybell":MAILTO:judith.Zybell@brueggen.de
END:VEVENT
BEGIN:VEVENT
DTSTART;TZID=Europe/Berlin:20260628T110000
DTEND;TZID=Europe/Berlin:20260628T120000
DTSTAMP:20260419T152546
CREATED:20260113T121618Z
LAST-MODIFIED:20260113T121618Z
UID:10006103-1782644400-1782648000@bewusst-brueggen.de
SUMMARY:Brüggener Sommer: Familientheater "Herr Bello und das blaue Wunder"
DESCRIPTION:Das NiederrheinTheater Brüggen spielt „Herr Bello und das blaue Wunder“ von Paul Maar \nDie lustigen und spannenden Verwicklungen fangen an\, als eine schrullige alte Frau einen blauen Wundersaft in Sternheims Apotheke bringt und sein Hund Bello diesen Saft trinkt. Der Wundersaft verwandelt den Hund „Bello“ in den Menschen „Herr Bello“. Dieser Herr verliebt sich dummerweise in Frau Lichtblau\, die jedoch Herrn Sternheim heimlich liebt und zwischen all dem wuselt Maxi\, Sternheims Tochter\, herum\, die keine neue Mutter will und in „Herrn Bello“ ihren besten Freund sieht. Was für eine Geschichte…
URL:https://bewusst-brueggen.de/kalender/brueggener-sommer-familientheater-herr-bello-und-das-blaue-wunder/
LOCATION:Innenhof Burg Brüggen\, Burgwall 4\, Brüggen\, 41379
ATTACH;FMTTYPE=image/jpeg:https://bewusst-brueggen.de/wp-content/uploads/2026/01/NiederrheinTheater.jpg
ORGANIZER;CN="Burggemeinde Br%C3%BCggen - Judith Zybell":MAILTO:judith.Zybell@brueggen.de
END:VEVENT
BEGIN:VEVENT
DTSTART;TZID=Europe/Berlin:20260714T193000
DTEND;TZID=Europe/Berlin:20260714T213000
DTSTAMP:20260419T152546
CREATED:20251014T103905Z
LAST-MODIFIED:20260311T082217Z
UID:10006596-1784057400-1784064600@bewusst-brueggen.de
SUMMARY:Franks Sitzecke: Regionale Talkrunde
DESCRIPTION:Franks Sitzecke ist eine regionale Talkrunde mit interessanten Gästen aus Brüggen und Umgebung. Moderator ist Franks Schiffers aus Viersen. Die jeweiligen Teilnehmerinnen und Teilnehmen werden noch bekannt gegeben. Die Veranstaltung findet grundsätzlich im Kultursaal der Burg Brüggen statt. Bei schönem Wetter auch im Innenhof der Burg Brüggen. Beginn ist um 19.30 Uhr (Einlass 19.00 Uhr) im Kultursaal in der Burg Brüggen\, Burgwall 4\, 41379 Brüggen. \nNeugierig geworden? Tickets zum Preis von 10\,00 € gibt es in der Tourist-Info in der Burg Brüggen oder über www.ticketshop.nrw. Eigene Getränke und kleine Snacks können sehr gerne mitgebracht werden. Es gibt aber auch ein kleines Getränkeangebot vor Ort. \n  \n 
URL:https://bewusst-brueggen.de/kalender/franks-sitzecke-regionale-talkrunde-fuer-den-guten-zweck-5/2026-07-14/
LOCATION:Kultursaal Burg Brüggen\, Burgwall 4\, Brüggen\, 41379
CATEGORIES:Kultur
ATTACH;FMTTYPE=image/jpeg:https://bewusst-brueggen.de/wp-content/uploads/2024/01/franks-sitzecke-2024.jpg
ORGANIZER;CN="Burggemeinde Br%C3%BCggen - Judith Zybell":MAILTO:judith.Zybell@brueggen.de
END:VEVENT
BEGIN:VEVENT
DTSTART;TZID=Europe/Berlin:20260802T160000
DTEND;TZID=Europe/Berlin:20260802T180000
DTSTAMP:20260419T152546
CREATED:20260113T105511Z
LAST-MODIFIED:20260113T105511Z
UID:10006096-1785686400-1785693600@bewusst-brueggen.de
SUMMARY:Brüggener Sommer: Konzert der Jazz-Cancers
DESCRIPTION:Am Sonntag\, 02.08.2026\, 16.00 Uhr\, findet im Innenhof der Burg Brüggen wieder ein Konzert der Jazzband Jazz-Cancers im Rahmen der Reihe „Brüggener Sommer“ der Burggemeinde Brüggen statt. Nach mehrjährigen Auftritten in Brüggen gehört die beliebte Band zum festen Bestandteil der Brüggener Kulturreihe. \nDie Jazz-Cancers haben sich aus der bekannten Mönchengladbacher Rhythm & Bluesband „Red Hot Cancers“ um den Brüggener Jazzpianisten Reinhard Gries und den Mönchengladbacher Saxophonisten Erich Ermeding formiert. Alle Musiker verfügen über jahrzehntelange Erfahrung in unterschiedlichsten Musikrichtungen. Das niveauvolle Repertoire der Band umfasst Stile quer durch die Jazzgeschichte – von Swing über Blues und Bossa Nova bis Funk – so kann die Band mit ihrer Musik ein breites Publikum begeistern. Immer wieder spielt die Gruppe auch mit Stars der internationalen Jazzszene\, wie auch hier mit Paul G. Ulrich – weltweit gefragter Bassist und einer der besten Jazz-Bassisten Deutschlands. \nBeim Konzert in Brüggen werden dabei sein: Erich Ermeding (Saxophon und Klarinette)\, Reinhard Gries (Piano)\, Paul G. Ulrich (Kontrabass und Gesang)\, David Meese (Gitarre) und Christian Davids (Schlagzeug). \nBei schlechtem Wetter findet das Konzert im Kultursaal der Burg statt. Der Eintritt ist frei.
URL:https://bewusst-brueggen.de/kalender/brueggener-sommer-konzert-der-jazz-cancers-4/
LOCATION:Innenhof Burg Brüggen\, Burgwall 4\, Brüggen\, 41379
CATEGORIES:Kultur
ATTACH;FMTTYPE=image/jpeg:https://bewusst-brueggen.de/wp-content/uploads/2025/02/Jazz-Cancers-2024-2.jpg
ORGANIZER;CN="Burggemeinde Br%C3%BCggen - Judith Zybell":MAILTO:judith.Zybell@brueggen.de
END:VEVENT
BEGIN:VEVENT
DTSTART;VALUE=DATE:20260807
DTEND;VALUE=DATE:20260921
DTSTAMP:20260419T152546
CREATED:20260114T094044Z
LAST-MODIFIED:20260114T094044Z
UID:10006111-1786060800-1789948799@bewusst-brueggen.de
SUMMARY:Foto-Ausstellung: Yoga an schönen Plätzen
DESCRIPTION:In der Zeit vom 07.08. bis 20.09.2026 findet im Kultursaal der Burg Brüggen die Ausstellung „Yoga an schönen Plätzen“ statt. Die Brüggener Yoga-Lehrerin\, Anne Steinhauser\, zeigt hier Fotos Ihrer Teilnehmerinnen und Teilnehmer\, die Yoga weltweit praktizieren und ihr zuschicken.
URL:https://bewusst-brueggen.de/kalender/foto-ausstellung-yoga-an-schoenen-plaetzen/
LOCATION:Kultursaal Burg Brüggen\, Burgwall 4\, Brüggen\, 41379
CATEGORIES:Kultur
ATTACH;FMTTYPE=image/jpeg:https://bewusst-brueggen.de/wp-content/uploads/2026/01/Anne-Steinhauser-Yoga.jpg
ORGANIZER;CN="Burggemeinde Br%C3%BCggen - Judith Zybell":MAILTO:judith.Zybell@brueggen.de
END:VEVENT
BEGIN:VEVENT
DTSTART;TZID=Europe/Berlin:20260807T173000
DTEND;TZID=Europe/Berlin:20260807T173000
DTSTAMP:20260419T152546
CREATED:20260114T093147Z
LAST-MODIFIED:20260114T093215Z
UID:10006110-1786123800-1786123800@bewusst-brueggen.de
SUMMARY:Ausstellungseröffnung: Yoga an schönen Plätzen
DESCRIPTION:Die Foto-Ausstellung „Yoga an schönen Plätzen“ der Brüggener Yoga-Lehrerin\, Anne Steinhauser\, wird in der Zeit vom 07.08. bis 19.08.2026 im Kultursaal der Burg Brüggen zu sehen sein. Zur offiziellen Eröffnung der Ausstellung mit Rahmenprogramm laden die Burggemeinde Brüggen und Anne Steinhauser herzlich ein.
URL:https://bewusst-brueggen.de/kalender/ausstellungseroeffnung-yoga-an-schoenen-plaetzen/
LOCATION:Kultursaal Burg Brüggen\, Burgwall 4\, Brüggen\, 41379
ATTACH;FMTTYPE=image/jpeg:https://bewusst-brueggen.de/wp-content/uploads/2026/01/Anne-Steinhauser-Yoga.jpg
ORGANIZER;CN="Burggemeinde Br%C3%BCggen - Judith Zybell":MAILTO:judith.Zybell@brueggen.de
END:VEVENT
BEGIN:VEVENT
DTSTART;TZID=Europe/Berlin:20260919T150000
DTEND;TZID=Europe/Berlin:20260919T160000
DTSTAMP:20260419T152546
CREATED:20260401T074233Z
LAST-MODIFIED:20260401T074441Z
UID:10006698-1789830000-1789833600@bewusst-brueggen.de
SUMMARY:Konzert Fanfarenkorps
DESCRIPTION:Der Fanfarenkorps „Les Amis Reunis“ aus Ransdaal ist für ein Wochenende zu Gast in der Brüggener Jugendherberge. Den Samstag\, 19.09.2026\, wollen sie gerne nutzen\, um ein Konzert in der Brüggener Innenstadt zu geben. Start ist um 15.00 Uhr auf dem Kreuzherrenplatz. Sie freuen sich auf viele interessierte Zuhörerinnen und Zuhörer.
URL:https://bewusst-brueggen.de/kalender/konzert-fanfarenkorps/
LOCATION:Kreuzherrenplatz\, Kreuzherrenplatz\, Brüggen\, 41379\, Germany
CATEGORIES:Kultur
ATTACH;FMTTYPE=image/png:https://bewusst-brueggen.de/wp-content/uploads/2026/04/Fanfare-Les-Amis-Reunis-tijdens-een-concert.png
ORGANIZER;CN="Burggemeinde Br%C3%BCggen - Judith Zybell":MAILTO:judith.Zybell@brueggen.de
END:VEVENT
BEGIN:VEVENT
DTSTART;TZID=Europe/Berlin:20261103T193000
DTEND;TZID=Europe/Berlin:20261103T213000
DTSTAMP:20260419T152546
CREATED:20251014T103905Z
LAST-MODIFIED:20260311T082217Z
UID:10006597-1793734200-1793741400@bewusst-brueggen.de
SUMMARY:Franks Sitzecke: Regionale Talkrunde
DESCRIPTION:Franks Sitzecke ist eine regionale Talkrunde mit interessanten Gästen aus Brüggen und Umgebung. Moderator ist Franks Schiffers aus Viersen. Die jeweiligen Teilnehmerinnen und Teilnehmen werden noch bekannt gegeben. Die Veranstaltung findet grundsätzlich im Kultursaal der Burg Brüggen statt. Bei schönem Wetter auch im Innenhof der Burg Brüggen. Beginn ist um 19.30 Uhr (Einlass 19.00 Uhr) im Kultursaal in der Burg Brüggen\, Burgwall 4\, 41379 Brüggen. \nNeugierig geworden? Tickets zum Preis von 10\,00 € gibt es in der Tourist-Info in der Burg Brüggen oder über www.ticketshop.nrw. Eigene Getränke und kleine Snacks können sehr gerne mitgebracht werden. Es gibt aber auch ein kleines Getränkeangebot vor Ort. \n  \n 
URL:https://bewusst-brueggen.de/kalender/franks-sitzecke-regionale-talkrunde-fuer-den-guten-zweck-5/2026-11-03/
LOCATION:Kultursaal Burg Brüggen\, Burgwall 4\, Brüggen\, 41379
CATEGORIES:Kultur
ATTACH;FMTTYPE=image/jpeg:https://bewusst-brueggen.de/wp-content/uploads/2024/01/franks-sitzecke-2024.jpg
ORGANIZER;CN="Burggemeinde Br%C3%BCggen - Judith Zybell":MAILTO:judith.Zybell@brueggen.de
END:VEVENT
BEGIN:VEVENT
DTSTART;VALUE=DATE:20261115
DTEND;VALUE=DATE:20261116
DTSTAMP:20260419T152546
CREATED:20251014T100529Z
LAST-MODIFIED:20260123T102556Z
UID:10005973-1794700800-1794787199@bewusst-brueggen.de
SUMMARY:Gedenkfeiern zum Volkstrauertag in Brüggen\, Bracht und Born
DESCRIPTION:Am Sonntag\, 15.11.2026 finden wieder in allen drei Ortsteilen Gedenkfeiern zum Volkstrauertag statt. Weitere Infos folgen…
URL:https://bewusst-brueggen.de/kalender/gedenkfeiern-zum-volkstrauertag-in-brueggen-bracht-und-born/
CATEGORIES:Brauchtum/ Heimatkunde
ATTACH;FMTTYPE=image/jpeg:https://bewusst-brueggen.de/wp-content/uploads/2023/11/friedhof-brueggen-nathalie-amels.jpg
ORGANIZER;CN="Burggemeinde Br%C3%BCggen - Judith Zybell":MAILTO:judith.Zybell@brueggen.de
END:VEVENT
BEGIN:VEVENT
DTSTART;TZID=Europe/Berlin:20261204T183000
DTEND;TZID=Europe/Berlin:20261204T213000
DTSTAMP:20260419T152546
CREATED:20260409T090853Z
LAST-MODIFIED:20260409T090853Z
UID:10006708-1796409000-1796419800@bewusst-brueggen.de
SUMMARY:Weihnachtskonzert mit „Festive Family“
DESCRIPTION:„All I want for christmas ist you“ unter diesem Motto haben Julia Cremer\, Sascha Appelt\, Philip Flottau und Herbert Schiemann von „Festive Family“ wieder ein schönes vorweihnachtliches Programm kreiert. Lasst euch überraschen! \nKarten zum Preis von 10\,00 € bitte reservieren unter: 0163 69 39 764 oder 0177 35 11 875. Keine Abendkasse. Einlass ab 18.00 Uhr. Beginn 18.30 Uhr.
URL:https://bewusst-brueggen.de/kalender/weihnachtskonzert-mit-festive-family/
LOCATION:Kultursaal Burg Brüggen\, Burgwall 4\, Brüggen\, 41379
CATEGORIES:Kultur
ATTACH;FMTTYPE=image/jpeg:https://bewusst-brueggen.de/wp-content/uploads/2026/04/IMG-20260407-WA0004.jpg
ORGANIZER;CN="Burggemeinde Br%C3%BCggen - Judith Zybell":MAILTO:judith.Zybell@brueggen.de
END:VEVENT
BEGIN:VEVENT
DTSTART;TZID=Europe/Berlin:20261206T160000
DTEND;TZID=Europe/Berlin:20261206T170000
DTSTAMP:20260419T152546
CREATED:20260226T115656Z
LAST-MODIFIED:20260227T081809Z
UID:10006586-1796572800-1796576400@bewusst-brueggen.de
SUMMARY:Sonntagsklänge: "Schimmernde Adventsklänge" mit Harfe und Querflöte
DESCRIPTION:Duo Poétique\nSylvie Ansorge – Querflöte\nGiedrė Šiaulytė – Konzertharfe \nFlöte und Harfe – zwei Instrumente\, denen schon in der griechischen Mythologie eine beinahe magische Wirkung zugeschrieben wurde – verbinden sich zu einem Klang\, der gleichermaßen zart\, warm und schimmernd ist. Diese königliche Kombination gehört zu den ältesten der Musikgeschichte und begeistert bis heute durch ihre besondere Mischung aus Leichtigkeit\, Farbigkeit und Ausdruckskraft. \nIm Advent widmet sich das Duo einem festlichen Programm. Neben Werken großer klassischer Komponisten wie Gaetano Donizetti\, Georges Bizet und Felix Mendelssohn Bartholdy erklingen auch stimmungsvolle Arrangements bekannter Weihnachtslieder. Melodien wie „Leise rieselt der Schnee“\, „Good King Wenceslas“ oder „Ding-Dong! Merrily on High“ erhalten in der transparenten Besetzung von Harfe und Flöte einen ganz neuen\, feierlichen Glanz. \nDie beiden Musikerinnen bringen umfangreiche Erfahrung aus renommierten Orchestern und Kammermusikformationen mit. In ihrem Duo vereinen sie Virtuosität\, Spielfreude und künstlerische Sensibilität und schaffen so ein Konzerterlebnis\, das das Publikum berührt und in eine Atmosphäre adventlicher Ruhe und Wärme eintauchen lässt. \nTickets zum Preis von 14 € über www.ticketshop.nrw oder in der Tourist-Info in der Burg Brüggen\, Burgwall 4\, 41379 Brüggen. \n 
URL:https://bewusst-brueggen.de/kalender/sonntagsklaenge-schimmernde-adventsklaenge-mit-harfe-und-querfloete/
LOCATION:Kultursaal Burg Brüggen\, Burgwall 4\, Brüggen\, 41379
CATEGORIES:Kultur
ATTACH;FMTTYPE=image/jpeg:https://bewusst-brueggen.de/wp-content/uploads/2026/02/6.12-3.jpg
ORGANIZER;CN="Burggemeinde Br%C3%BCggen - Judith Zybell":MAILTO:judith.Zybell@brueggen.de
END:VEVENT
BEGIN:VEVENT
DTSTART;TZID=Europe/Berlin:20261218T200000
DTEND;TZID=Europe/Berlin:20261218T220000
DTSTAMP:20260419T152546
CREATED:20260417T104215Z
LAST-MODIFIED:20260417T104215Z
UID:10006711-1797624000-1797631200@bewusst-brueggen.de
SUMMARY:Jazz in der Burg: Johanna Schneider & Trio „Christmas Time“
DESCRIPTION:Die Deutsch-Amerikanerin\, Johanna Schneider\, ist mittlerweile zum dritten Mal zu Gast in Brüggen und sorgte bereits bei der Premiere für ein ausverkauftes Haus und stehende Ovationen. Sie studierte an der Essener Folkwanghochschule Jazzgesang und ist mit zahlreichen Konzerten deutschlandweit in den Jazzclubs und auf Festivals vertreten. Auf ihrer ersten CD-Veröffentlichung unter eigenem Namen „Pridetime“ mit vielen Eigenkompositionen arbeitete sie mit den Jazz-Veteranen der europäischen Jazz-Szene Ack van Rooyen und Tony Lakatos zusammen und erhielt den Jazzpreis „Next Generation“ der Jazzfachzeitung „Jazzthing“ mit viel Lob. Dort heißt es: „Eine natürliche Stimme mit tiefem Gespür für kraftvollen Scat\, bluesige Phrasierungen und gehauchte Balladen; ein Talent für Klangmalereien.“ \nIn Essen ist sie darüber hinaus mitverantwortlich für das Frauen-Jazzfestival „Peng“\, welches seit drei Jahren für Furore sorgt und ausschließlich für Frauen als Bandleader gedacht ist.\nDas spezielle Weihnachtsprogramm besteht aus wohlbekannten Titeln des American Songbooks wie z.B. Winterwonderland\, Rudolph the rednose rendier und Santa Claus.\nIhr Begleittrio besteht aus Lukas Flott am Piano\, Alex Morsey am Bass sowie Organisator André Spajic am Schlagzeug. \nDas Konzert findet statt am Freitag\, 18.12.2026\, in der Kirche in Lüttelbracht\, Genholter Straße 100\, 41379 Brüggen. Beginn ist 20.00 Uhr (Einlass 19.30 Uhr). Tickets zum Preis von 14 € gibt es unter www.ticketshop.nrw oder in der Tourist-Info der Burg Brüggen.
URL:https://bewusst-brueggen.de/kalender/jazz-in-der-burg-johanna-schneider-trio-christmas-time/
LOCATION:Kirche St. Maria Helferin Lüttelbracht\, Genholter Straße 100\, Brüggen\, 41379
CATEGORIES:Kultur
ATTACH;FMTTYPE=image/jpeg:https://bewusst-brueggen.de/wp-content/uploads/2026/04/Johanna-Schneider-Presse-1.jpg
ORGANIZER;CN="Burggemeinde Br%C3%BCggen - Judith Zybell":MAILTO:judith.Zybell@brueggen.de
END:VEVENT
END:VCALENDAR