BEGIN:VCALENDAR
VERSION:2.0
PRODID:-//Bewusst Brüggen - ECPv6.15.20//NONSGML v1.0//EN
CALSCALE:GREGORIAN
METHOD:PUBLISH
X-ORIGINAL-URL:https://bewusst-brueggen.de
X-WR-CALDESC:Veranstaltungen für Bewusst Brüggen
REFRESH-INTERVAL;VALUE=DURATION:PT1H
X-Robots-Tag:noindex
X-PUBLISHED-TTL:PT1H
BEGIN:VTIMEZONE
TZID:Europe/Berlin
BEGIN:DAYLIGHT
TZOFFSETFROM:+0100
TZOFFSETTO:+0200
TZNAME:CEST
DTSTART:20220327T010000
END:DAYLIGHT
BEGIN:STANDARD
TZOFFSETFROM:+0200
TZOFFSETTO:+0100
TZNAME:CET
DTSTART:20221030T010000
END:STANDARD
BEGIN:DAYLIGHT
TZOFFSETFROM:+0100
TZOFFSETTO:+0200
TZNAME:CEST
DTSTART:20230326T010000
END:DAYLIGHT
BEGIN:STANDARD
TZOFFSETFROM:+0200
TZOFFSETTO:+0100
TZNAME:CET
DTSTART:20231029T010000
END:STANDARD
BEGIN:DAYLIGHT
TZOFFSETFROM:+0100
TZOFFSETTO:+0200
TZNAME:CEST
DTSTART:20240331T010000
END:DAYLIGHT
BEGIN:STANDARD
TZOFFSETFROM:+0200
TZOFFSETTO:+0100
TZNAME:CET
DTSTART:20241027T010000
END:STANDARD
BEGIN:DAYLIGHT
TZOFFSETFROM:+0100
TZOFFSETTO:+0200
TZNAME:CEST
DTSTART:20250330T010000
END:DAYLIGHT
BEGIN:STANDARD
TZOFFSETFROM:+0200
TZOFFSETTO:+0100
TZNAME:CET
DTSTART:20251026T010000
END:STANDARD
BEGIN:DAYLIGHT
TZOFFSETFROM:+0100
TZOFFSETTO:+0200
TZNAME:CEST
DTSTART:20260329T010000
END:DAYLIGHT
BEGIN:STANDARD
TZOFFSETFROM:+0200
TZOFFSETTO:+0100
TZNAME:CET
DTSTART:20261025T010000
END:STANDARD
END:VTIMEZONE
BEGIN:VEVENT
DTSTART;TZID=Europe/Berlin:20251128T170000
DTEND;TZID=Europe/Berlin:20251128T200000
DTSTAMP:20260423T161419
CREATED:20250409T110849Z
LAST-MODIFIED:20251114T131010Z
UID:10005350-1764349200-1764360000@bewusst-brueggen.de
SUMMARY:Lange Nacht für Familien im Museum Mensch und Jagd
DESCRIPTION:Eine märchenhafte Veranstaltung erwartet Familien am Freitag\, den 28.11.2025 in der Zeit von 17.00 bis 20.00 Uhr in der Burg Brüggen. Bei der diesjährigen „Langen Museumsnacht“ dreht sich alles rund um das Thema „Burgfräulein und Ritter“. Kinder können eine Ritterrallye mit spannenden Rätseln machen\, sich schminken lassen\, am Feuerworkshop mit den Feuerpädagogen teilnehmen\, in der Bastelwerkstatt Ritter- und Burgfräuleindinge herstellen\, eine Fotoaktion starten oder Stockbrot am Langerfeuer backen und – nicht zu vergessen – einen Drachen erlegen. \nAlle können gerne verkleidet kommen. Der Eintritt für Familien kostet 6\,00 €. Die Begleitung eines Erwachsenen ist erforderlich. Alle Aktionen sind im Eintrittspreis enthalten. Eine Anmeldung ist nicht erforderlich. \nFür das leibliche Wohl ist ebenfalls vorgesorgt. Die Veranstalter vom „Second home“\, der Gemeindebücherei und des Kulturamtes der Burggemeinde Brüggen\, sowie Bärbel Weinmann vom Museum Mensch und Jagd freuen sich auf ganze viele kleine Ritter und Burgfräulein. Gleichzeitig findet in der Fußgängerzone auch der diesjährige „Brüggener Lichterglanz“ der „Gemeinsam Burggemeinde Brüggen e. V.“ statt.
URL:https://bewusst-brueggen.de/kalender/lange-nacht-im-museum-mensch-und-jagd-3/
LOCATION:Burg Brüggen\, Burgwall 4\, Brüggen\, 41379
CATEGORIES:Kinder/ Jugendliche
ATTACH;FMTTYPE=image/jpeg:https://bewusst-brueggen.de/wp-content/uploads/2025/04/bewusst-brueggen-veranstaltung-lange-museumsnacht-2025.jpg
ORGANIZER;CN="Museum Mensch und Jagd - B%C3%A4rbel Weinmann":MAILTO:baerbel.weinmann@brueggen.de
END:VEVENT
BEGIN:VEVENT
DTSTART;TZID=Europe/Berlin:20250920T100000
DTEND;TZID=Europe/Berlin:20250920T160000
DTSTAMP:20260423T161419
CREATED:20250918T102137Z
LAST-MODIFIED:20250918T104634Z
UID:10005808-1758362400-1758384000@bewusst-brueggen.de
SUMMARY:Weltkindertag im Museum Mensch und Jagd
DESCRIPTION:Am Weltkindertag bietet das Museum Mensch und Jagd freien Eintritt für alle Kinder in Begleitung eines Erwachsenen. Taucht ein in die faszinierende Geschichte der Jagd und erfahrt welche Bedeutung diese auch heute noch für unseren Wald und den Naturschutz hat. Im Museumswald erlebt ihr die einzigartige Natur des Niederrheins mit realen Tierstimmen und lebensgroßen Tieren. \n 
URL:https://bewusst-brueggen.de/kalender/weltkindertag-im-museum-mensch-und-jagd/
LOCATION:Burg Brüggen\, Burgwall 4\, Brüggen\, 41379
CATEGORIES:Kinder/ Jugendliche
ATTACH;FMTTYPE=image/jpeg:https://bewusst-brueggen.de/wp-content/uploads/2023/06/bewusst-brueggen-museumsfuehrung.jpg
ORGANIZER;CN="Museum Mensch und Jagd - B%C3%A4rbel Weinmann":MAILTO:baerbel.weinmann@brueggen.de
END:VEVENT
BEGIN:VEVENT
DTSTART;TZID=Europe/Berlin:20240519T100000
DTEND;TZID=Europe/Berlin:20240519T160000
DTSTAMP:20260423T161419
CREATED:20230330T105033Z
LAST-MODIFIED:20240415T102051Z
UID:10000399-1716112800-1716134400@bewusst-brueggen.de
SUMMARY:Internationaler Museumstag im Museum Mensch & Jagd
DESCRIPTION:Freier Eintritt und Museumsrallye für Familien durch die Ausstellungen
URL:https://bewusst-brueggen.de/kalender/internationaler-museumstag-im-museum-mensch-jagd/
LOCATION:Burg Brüggen\, Burgwall 4\, Brüggen\, 41379
CATEGORIES:Kinder/ Jugendliche,Kultur,Sport / Aktivität
ATTACH;FMTTYPE=image/jpeg:https://bewusst-brueggen.de/wp-content/uploads/2023/04/bewusst-brueggen-events-kinder-jugend.jpg
ORGANIZER;CN="Museum Mensch und Jagd - B%C3%A4rbel Weinmann":MAILTO:baerbel.weinmann@brueggen.de
END:VEVENT
BEGIN:VEVENT
DTSTART;TZID=Europe/Berlin:20231201T170000
DTEND;TZID=Europe/Berlin:20231201T170000
DTSTAMP:20260423T161419
CREATED:20231019T083856Z
LAST-MODIFIED:20231213T145450Z
UID:10000341-1701450000-1701450000@bewusst-brueggen.de
SUMMARY:Lange Nacht im Museum Mensch und Jagd
DESCRIPTION:Lange Museumsnacht für Familien in der Burg Brüggen \nEine märchenhafte Veranstaltung erwartet Familien am Freitag\, 01.12.2023 in der Zeit von 17.00 bis 20.00 Uhr in der Burg Brüggen: \nBei der diesjährigen „Langen Museumsnacht“ dreht sich alles rund um das Thema „Märchen“.\nFolgende Aktionen sind geplant: \n\nMärchenrallye durch die ganze Burg\, basteln\nKinderschminken\nGoldmünzen sieben\nFotoaktion vor märchenhaftem Hintergrund\nMärchenerzählerin\nStockbrotbacken am Lagerfeuer im Burginnenhof\n\nDie Schülerschaft der Gesamtschule sorgt zu familienfreundlichen Preisen für Essen und Trinken.\nAlle können gerne verkleidet kommen. Der Eintritt für Familien kostet 6\,00 €. Die Begleitung eines Erwachsenen ist erforderlich. Die Veranstalter vom „Second Home“\, der Gemeindebücherei und des Kulturamtes der Burggemeinde Brüggen\, sowie Bärbel Weinmann vom Museum Mensch und Jagd freuen sich auf ganze viele kleine Prinzessinnen\, Ritter\, Burgfräulein\, Zauberer und vieles mehr. Gleichzeitig findet in der Fußgängerzone auch der diesjährige „Brüggener Lichterglanz“ der „Gemeinsam Burggemeinde Brüggen e. V.“ statt.
URL:https://bewusst-brueggen.de/kalender/lange-nacht-im-museum-mensch-und-jagd-2/
LOCATION:Burg Brüggen\, Burgwall 4\, Brüggen\, 41379
CATEGORIES:Kinder/ Jugendliche
ORGANIZER;CN="Museum Mensch und Jagd - B%C3%A4rbel Weinmann":MAILTO:baerbel.weinmann@brueggen.de
END:VEVENT
BEGIN:VEVENT
DTSTART;VALUE=DATE:20231029
DTEND;VALUE=DATE:20231030
DTSTAMP:20260423T161419
CREATED:20230328T112251Z
LAST-MODIFIED:20231213T145504Z
UID:10000342-1698537600-1698623999@bewusst-brueggen.de
SUMMARY:Hubertusfest
DESCRIPTION:Hubertusfest mit Familientag an der Burg BrüggenAm Sonntag\, 29. Oktober 2023 findet an der Burg Brüggen wieder ein Familientag rund um die Themen Natur und Jagd statt. Organisatorin ist Bärbel Weinmann – ehrenamtliche Leiterin des Museums Mensch und Jagd – in Kooperation mit der Burggemeinde Brüggen. \nDer Tag beginnt um 11.00 Uhr mit der Hubertusmesse auf dem Kreuzherrenplatz (bei Regen in der angrenzenden Kirche Sankt Nikolaus). Die Messe wird musikalisch begleitet vom Jagdhornbläsercorps aus Rheydt. Ab 12.00 Uhr startet auf der Burgwiese und im Innenhof der Burg Brüggen dann ein abwechslungsreiches Programm: Mit dabei sind Falkner\, Bogenschützen\, Jagdhunde und die „Rollende Waldschule“. \nEintritt auf dem Burggelände und im Museum sind jeweils frei.
URL:https://bewusst-brueggen.de/kalender/hubertusfest/
LOCATION:Burg Brüggen\, Burgwall 4\, Brüggen\, 41379
CATEGORIES:Feste / Märkte
ORGANIZER;CN="Museum Mensch und Jagd - B%C3%A4rbel Weinmann":MAILTO:baerbel.weinmann@brueggen.de
END:VEVENT
END:VCALENDAR