BEGIN:VCALENDAR
VERSION:2.0
PRODID:-//Bewusst Brüggen - ECPv6.15.20//NONSGML v1.0//EN
CALSCALE:GREGORIAN
METHOD:PUBLISH
X-WR-CALNAME:Bewusst Brüggen
X-ORIGINAL-URL:https://bewusst-brueggen.de
X-WR-CALDESC:Veranstaltungen für Bewusst Brüggen
REFRESH-INTERVAL;VALUE=DURATION:PT1H
X-Robots-Tag:noindex
X-PUBLISHED-TTL:PT1H
BEGIN:VTIMEZONE
TZID:Europe/Berlin
BEGIN:DAYLIGHT
TZOFFSETFROM:+0100
TZOFFSETTO:+0200
TZNAME:CEST
DTSTART:20250330T010000
END:DAYLIGHT
BEGIN:STANDARD
TZOFFSETFROM:+0200
TZOFFSETTO:+0100
TZNAME:CET
DTSTART:20251026T010000
END:STANDARD
BEGIN:DAYLIGHT
TZOFFSETFROM:+0100
TZOFFSETTO:+0200
TZNAME:CEST
DTSTART:20260329T010000
END:DAYLIGHT
BEGIN:STANDARD
TZOFFSETFROM:+0200
TZOFFSETTO:+0100
TZNAME:CET
DTSTART:20261025T010000
END:STANDARD
BEGIN:DAYLIGHT
TZOFFSETFROM:+0100
TZOFFSETTO:+0200
TZNAME:CEST
DTSTART:20270328T010000
END:DAYLIGHT
BEGIN:STANDARD
TZOFFSETFROM:+0200
TZOFFSETTO:+0100
TZNAME:CET
DTSTART:20271031T010000
END:STANDARD
END:VTIMEZONE
BEGIN:VEVENT
DTSTART;TZID=Europe/Berlin:20260517T100000
DTEND;TZID=Europe/Berlin:20260517T160000
DTSTAMP:20260423T141407
CREATED:20250409T085754Z
LAST-MODIFIED:20260123T101803Z
UID:10005347-1779012000-1779033600@bewusst-brueggen.de
SUMMARY:Internationaler Museumstag im Museum Mensch und Jagd in der Burg Brüggen
DESCRIPTION:Internationaler Museumstag im Museum Mensch und Jagd \nDer Internationale Museumstag findet im Jahr 2026 bereits zum 49. Mal statt. Er wird jährlich vom Internationalen Museumsrat ICOM ausgerufen. Ziel des Museumstages ist es\, auf die Museen in Deutschland und weltweit aufmerksam zu machen und Besucherinnen und Besucher einzuladen\, die Vielfalt der Museen zu entdecken. \nMit dabei ist auch in diesem Jahr wieder das Museum Mensch und Jagd in der Burg Brüggen\, Burgwall 4\, 41379 Brüggen. Am Sonntag\, 17.05.2026 von 10.00 bis 16.00 Uhr ist der Eintritt frei und die Museumsleiterin\, Bärbel Weinmann\, hat für Familien eine Museumsrallye vorbereitet\, bei der es für Groß und Klein viel zu entdecken gibt. \nFoto: Niederrhein Tourismus – Patrick Gawandtka
URL:https://bewusst-brueggen.de/kalender/internationaler-museumstag-im-museum-mensch-und-jagd-in-der-burg-brueggen/
LOCATION:Burg Brüggen\, Burgwall 4\, Brüggen\, 41379
CATEGORIES:Verschiedenes
ATTACH;FMTTYPE=image/jpeg:https://bewusst-brueggen.de/wp-content/uploads/2023/06/bewusst-brueggen-museumsfuehrung.jpg
ORGANIZER;CN="Museum Mensch und Jagd - B%C3%A4rbel Weinmann":MAILTO:baerbel.weinmann@brueggen.de
END:VEVENT
END:VCALENDAR