BEGIN:VCALENDAR
VERSION:2.0
PRODID:-//Bewusst Brüggen - ECPv6.15.20//NONSGML v1.0//EN
CALSCALE:GREGORIAN
METHOD:PUBLISH
X-WR-CALNAME:Bewusst Brüggen
X-ORIGINAL-URL:https://bewusst-brueggen.de
X-WR-CALDESC:Veranstaltungen für Bewusst Brüggen
REFRESH-INTERVAL;VALUE=DURATION:PT1H
X-Robots-Tag:noindex
X-PUBLISHED-TTL:PT1H
BEGIN:VTIMEZONE
TZID:Europe/Berlin
BEGIN:DAYLIGHT
TZOFFSETFROM:+0100
TZOFFSETTO:+0200
TZNAME:CEST
DTSTART:20220327T010000
END:DAYLIGHT
BEGIN:STANDARD
TZOFFSETFROM:+0200
TZOFFSETTO:+0100
TZNAME:CET
DTSTART:20221030T010000
END:STANDARD
BEGIN:DAYLIGHT
TZOFFSETFROM:+0100
TZOFFSETTO:+0200
TZNAME:CEST
DTSTART:20230326T010000
END:DAYLIGHT
BEGIN:STANDARD
TZOFFSETFROM:+0200
TZOFFSETTO:+0100
TZNAME:CET
DTSTART:20231029T010000
END:STANDARD
BEGIN:DAYLIGHT
TZOFFSETFROM:+0100
TZOFFSETTO:+0200
TZNAME:CEST
DTSTART:20240331T010000
END:DAYLIGHT
BEGIN:STANDARD
TZOFFSETFROM:+0200
TZOFFSETTO:+0100
TZNAME:CET
DTSTART:20241027T010000
END:STANDARD
END:VTIMEZONE
BEGIN:VEVENT
DTSTART;TZID=Europe/Berlin:20230603T210000
DTEND;TZID=Europe/Berlin:20230603T210000
DTSTAMP:20260423T024229
CREATED:20230328T172923Z
LAST-MODIFIED:20231213T145602Z
UID:10000393-1685826000-1685826000@bewusst-brueggen.de
SUMMARY:Ziegenmelker-Wanderung im Naturschutzgebiet Brachter Wald
DESCRIPTION:Bitte Fernglas und Mückenschutz mitbringen! \nTreffpunkt: Haupteingang am Ende der Sankt Barbarastraße
URL:https://bewusst-brueggen.de/kalender/ziegenmelker-wanderung-im-naturschutzgebiet-brachter-wald/
LOCATION:Parkplatz Brachter Wald\, Sankt Barbarastraße\, Brüggen\, 41379
CATEGORIES:Führung
ATTACH;FMTTYPE=:
END:VEVENT
END:VCALENDAR