BEGIN:VCALENDAR
VERSION:2.0
PRODID:-//Bewusst Brüggen - ECPv6.15.20//NONSGML v1.0//EN
CALSCALE:GREGORIAN
METHOD:PUBLISH
X-WR-CALNAME:Bewusst Brüggen
X-ORIGINAL-URL:https://bewusst-brueggen.de
X-WR-CALDESC:Veranstaltungen für Bewusst Brüggen
REFRESH-INTERVAL;VALUE=DURATION:PT1H
X-Robots-Tag:noindex
X-PUBLISHED-TTL:PT1H
BEGIN:VTIMEZONE
TZID:Europe/Berlin
BEGIN:DAYLIGHT
TZOFFSETFROM:+0100
TZOFFSETTO:+0200
TZNAME:CEST
DTSTART:20220327T010000
END:DAYLIGHT
BEGIN:STANDARD
TZOFFSETFROM:+0200
TZOFFSETTO:+0100
TZNAME:CET
DTSTART:20221030T010000
END:STANDARD
BEGIN:DAYLIGHT
TZOFFSETFROM:+0100
TZOFFSETTO:+0200
TZNAME:CEST
DTSTART:20230326T010000
END:DAYLIGHT
BEGIN:STANDARD
TZOFFSETFROM:+0200
TZOFFSETTO:+0100
TZNAME:CET
DTSTART:20231029T010000
END:STANDARD
BEGIN:DAYLIGHT
TZOFFSETFROM:+0100
TZOFFSETTO:+0200
TZNAME:CEST
DTSTART:20240331T010000
END:DAYLIGHT
BEGIN:STANDARD
TZOFFSETFROM:+0200
TZOFFSETTO:+0100
TZNAME:CET
DTSTART:20241027T010000
END:STANDARD
END:VTIMEZONE
BEGIN:VEVENT
DTSTART;TZID=Europe/Berlin:20230525T180000
DTEND;TZID=Europe/Berlin:20230525T200000
DTSTAMP:20260420T100616
CREATED:20230330T120703Z
LAST-MODIFIED:20231213T145607Z
UID:10000401-1685037600-1685044800@bewusst-brueggen.de
SUMMARY:Aktionen zum Weltottertag
DESCRIPTION:Wanderung / sonstige Fauna\nDonnerstag\, 25.05.2023\, Uhrzeit: von 18:00 bis 20:00\nDie Fischotter sind wieder da! Mit einem Bollerwagen voller Inhalt erkunden wir ihren Lebensraum. Während der Wanderung hören wir allerlei Interessantes über diese Tiere und erfahren\, wie diese Marderart geschützt werden kann. Feiern wir zusammen den Weltottertag 2023! Eine Veranstaltung für Groß und Klein.\nTreffpunkt: 41379 Brüggen\, Parkplatz südlich der Burg\, Burgwall\n>Treffpunkt (Karte)\nLeitung: Markus Heines\, Spurensucher Fischotterschutz e.V. in Hankensbüttel\, und Heidy Davis\, Otterexpertin\nFür Kinder geeignet
URL:https://bewusst-brueggen.de/kalender/aktionen-zum-weltottertag/
LOCATION:Kapellen & Wegekreuze
CATEGORIES:Führung
ATTACH;FMTTYPE=:
END:VEVENT
BEGIN:VEVENT
DTSTART;TZID=Europe/Berlin:20230519T211500
DTEND;TZID=Europe/Berlin:20230519T233000
DTSTAMP:20260420T100616
CREATED:20230330T103639Z
LAST-MODIFIED:20231213T145609Z
UID:10000397-1684530900-1684539000@bewusst-brueggen.de
SUMMARY:Tierische Gesellen der Nacht
DESCRIPTION:Im alten Gemäuer der Burg erwacht das nächtliche Leben genauso wie draußen im Wald. Im Bereich vom Schloss Dilborn im alten Wald leben einige Eulen und Fledermäuse. Durch die nächtliche Flusslandschaft\, wo unter anderem Biber und Fischotter leben\, erreichen wir im Finstern wieder unser Ziel\, hoffentlich!\nTreffpunkt: 41379 Brüggen\, Burgwall 4\, an der Burg Brüggen\n>Treffpunkt (Karte)\nLeitung: Markus Heines/NABU Brüggen\nFür Kinder geeignet\nSprache: DE\nSonstiges: Bitte keine Leuchtsohlenschuhe tragen und keine Taschenlampe mitbringen. Bitte angemessene Kleidung tragen.
URL:https://bewusst-brueggen.de/kalender/tierische-gesellen-der-nacht/
LOCATION:Kapellen & Wegekreuze
CATEGORIES:Führung
ATTACH;FMTTYPE=:
END:VEVENT
BEGIN:VEVENT
DTSTART;TZID=Europe/Berlin:20230516T100000
DTEND;TZID=Europe/Berlin:20230516T160000
DTSTAMP:20260420T100616
CREATED:20230330T102829Z
LAST-MODIFIED:20231213T145611Z
UID:10000396-1684231200-1684252800@bewusst-brueggen.de
SUMMARY:Fahrradtour durch die "Big Five"
DESCRIPTION:Diese Tour führt durch die fünf wertvollsten Naturschutzgebiete im Südwesten des Kreises Viersen. Sie sind bedeutender Lebensraum für Ziegenmelker\, Heidelerche\, Blaukehlchen\, Biber\, Knoblauchkröte und Reptilien. Im Gebiet leben zwei Schlangenarten. Hier erfahren Sie vieles zu den jeweiligen Arten und zu deren Schutz.\nTreffpunkt: 41379 Brüggen-Genholt\, Naturschutzgebiet Brachter Wald\, Haupteingang am Ende der St.-Barbara-Straße \nLeitung: Markus Heines/NABU Brüggen
URL:https://bewusst-brueggen.de/kalender/fahrradtour-durch-die-big-five/
LOCATION:Kapellen & Wegekreuze
CATEGORIES:Führung
ATTACH;FMTTYPE=:
END:VEVENT
BEGIN:VEVENT
DTSTART;TZID=Europe/Berlin:20230505T203000
DTEND;TZID=Europe/Berlin:20230505T203000
DTSTAMP:20260420T100616
CREATED:20230328T113859Z
LAST-MODIFIED:20231213T145614Z
UID:10000346-1683318600-1683318600@bewusst-brueggen.de
SUMMARY:Wanderung "Schnepfenbalz bei Vollmond"
DESCRIPTION:Die Waldschnepfe. Kaum jemand kennt sie aufgrund ihrer verborgenen Lebensweise. Nur zur Balzzeit im Frühjahr lassen sich mit Glück ihre Balzflüge in der Dämmerung beobachten. Zur gleichen Zeit sind weitere Tiere der Nacht im Gebiet zu hören und zu sehen\, wie Breitflügelfledermäuse oder die ersten Ziegenmelker. \nTreffpunkt: 41379 Brüggen\, Naturschutzgebiet Brachter Wald\, Parkplatz nördlich der L 373 \nAnmeldung erforderlich – bitte per E-Mail an markus.heines@web.de.
URL:https://bewusst-brueggen.de/kalender/wanderung-schnepfenbalz-bei-vollmond/
LOCATION:Kapellen & Wegekreuze
CATEGORIES:Führung
ATTACH;FMTTYPE=:
END:VEVENT
BEGIN:VEVENT
DTSTART;TZID=Europe/Berlin:20230427T083000
DTEND;TZID=Europe/Berlin:20230427T083000
DTSTAMP:20260420T100616
CREATED:20230328T101233Z
LAST-MODIFIED:20231213T145616Z
UID:10000340-1682584200-1682584200@bewusst-brueggen.de
SUMMARY:Wanderung "Im wilden Tal der Schwalm"
DESCRIPTION:Treffpunkt am Grenzübergang Brüggen/Swalmen an der L373 Cafe „An de Grens“
URL:https://bewusst-brueggen.de/kalender/wanderung-im-wilden-tal-der-schwalm/
LOCATION:Kapellen & Wegekreuze
CATEGORIES:Führung
ATTACH;FMTTYPE=:
END:VEVENT
BEGIN:VEVENT
DTSTART;TZID=Europe/Berlin:20230401T110000
DTEND;TZID=Europe/Berlin:20230401T110000
DTSTAMP:20260420T100616
CREATED:20230328T063132Z
LAST-MODIFIED:20231213T145624Z
UID:10000298-1680346800-1680346800@bewusst-brueggen.de
SUMMARY:Wandern mit Hund: Baggersee\, Schwalmbruch und Venekotensee
DESCRIPTION:Viel Freilauf möglich aber\, in Naturschutzgebieten gilt Leinenpflicht. \nUrsula Prigge\n4PfotenTouren\nTelefon: 02222-9770025
URL:https://bewusst-brueggen.de/kalender/wandern-mit-hund-baggersee-schwalmbruch-und-venekotensee/
LOCATION:Kapellen & Wegekreuze
CATEGORIES:Führung
ATTACH;FMTTYPE=:
END:VEVENT
BEGIN:VEVENT
DTSTART;TZID=Europe/Berlin:20230325T110000
DTEND;TZID=Europe/Berlin:20230325T110000
DTSTAMP:20260420T100616
CREATED:20230317T100212Z
LAST-MODIFIED:20231213T145627Z
UID:10000294-1679742000-1679742000@bewusst-brueggen.de
SUMMARY:Hundewanderung: Naturerlebnis Borner See und Laarer Bruch
DESCRIPTION:Freilaufmöglichkeit für Hunde..
URL:https://bewusst-brueggen.de/kalender/hundewanderung-naturerlebnis-borner-see-und-laarer-bruch/
LOCATION:Kapellen & Wegekreuze
CATEGORIES:Sport / Aktivität
ATTACH;FMTTYPE=:
END:VEVENT
END:VCALENDAR