BEGIN:VCALENDAR
VERSION:2.0
PRODID:-//Bewusst Brüggen - ECPv6.15.20//NONSGML v1.0//EN
CALSCALE:GREGORIAN
METHOD:PUBLISH
X-ORIGINAL-URL:https://bewusst-brueggen.de
X-WR-CALDESC:Veranstaltungen für Bewusst Brüggen
REFRESH-INTERVAL;VALUE=DURATION:PT1H
X-Robots-Tag:noindex
X-PUBLISHED-TTL:PT1H
BEGIN:VTIMEZONE
TZID:Europe/Berlin
BEGIN:DAYLIGHT
TZOFFSETFROM:+0100
TZOFFSETTO:+0200
TZNAME:CEST
DTSTART:20240331T010000
END:DAYLIGHT
BEGIN:STANDARD
TZOFFSETFROM:+0200
TZOFFSETTO:+0100
TZNAME:CET
DTSTART:20241027T010000
END:STANDARD
BEGIN:DAYLIGHT
TZOFFSETFROM:+0100
TZOFFSETTO:+0200
TZNAME:CEST
DTSTART:20250330T010000
END:DAYLIGHT
BEGIN:STANDARD
TZOFFSETFROM:+0200
TZOFFSETTO:+0100
TZNAME:CET
DTSTART:20251026T010000
END:STANDARD
BEGIN:DAYLIGHT
TZOFFSETFROM:+0100
TZOFFSETTO:+0200
TZNAME:CEST
DTSTART:20260329T010000
END:DAYLIGHT
BEGIN:STANDARD
TZOFFSETFROM:+0200
TZOFFSETTO:+0100
TZNAME:CET
DTSTART:20261025T010000
END:STANDARD
END:VTIMEZONE
BEGIN:VEVENT
DTSTART;TZID=Europe/Berlin:20251213T120000
DTEND;TZID=Europe/Berlin:20251214T190000
DTSTAMP:20260420T010004
CREATED:20251212T114403Z
LAST-MODIFIED:20251213T121821Z
UID:10006078-1765627200-1765738800@bewusst-brueggen.de
SUMMARY:Ninis glutenfreie Weihnachtswelt
DESCRIPTION:100% gluten- und laktosefreier Weihnachtsmarkt.\nDer Markt ist geöffnet  am 13. und 14.12.2025\, jeweils von 12.00 bis 19.00 Uhr
URL:https://bewusst-brueggen.de/kalender/ninis-glutenfreie-weihnachtswelt/
LOCATION:Klosterstraße\, Klosterstraße 22\, Brüggen\, Nordrhein-Westfalen\, 41379\, Deutschland
CATEGORIES:Feste / Märkte
ATTACH;FMTTYPE=image/jpeg:https://bewusst-brueggen.de/wp-content/uploads/2024/09/bewusst-brueggen-gastronomie-ninis-cafe-2.jpg
END:VEVENT
END:VCALENDAR