BEGIN:VCALENDAR
VERSION:2.0
PRODID:-//Bewusst Brüggen - ECPv6.15.20//NONSGML v1.0//EN
CALSCALE:GREGORIAN
METHOD:PUBLISH
X-ORIGINAL-URL:https://bewusst-brueggen.de
X-WR-CALDESC:Veranstaltungen für Bewusst Brüggen
REFRESH-INTERVAL;VALUE=DURATION:PT1H
X-Robots-Tag:noindex
X-PUBLISHED-TTL:PT1H
BEGIN:VTIMEZONE
TZID:Europe/Berlin
BEGIN:DAYLIGHT
TZOFFSETFROM:+0100
TZOFFSETTO:+0200
TZNAME:CEST
DTSTART:20220327T010000
END:DAYLIGHT
BEGIN:STANDARD
TZOFFSETFROM:+0200
TZOFFSETTO:+0100
TZNAME:CET
DTSTART:20221030T010000
END:STANDARD
BEGIN:DAYLIGHT
TZOFFSETFROM:+0100
TZOFFSETTO:+0200
TZNAME:CEST
DTSTART:20230326T010000
END:DAYLIGHT
BEGIN:STANDARD
TZOFFSETFROM:+0200
TZOFFSETTO:+0100
TZNAME:CET
DTSTART:20231029T010000
END:STANDARD
BEGIN:DAYLIGHT
TZOFFSETFROM:+0100
TZOFFSETTO:+0200
TZNAME:CEST
DTSTART:20240331T010000
END:DAYLIGHT
BEGIN:STANDARD
TZOFFSETFROM:+0200
TZOFFSETTO:+0100
TZNAME:CET
DTSTART:20241027T010000
END:STANDARD
BEGIN:DAYLIGHT
TZOFFSETFROM:+0100
TZOFFSETTO:+0200
TZNAME:CEST
DTSTART:20250330T010000
END:DAYLIGHT
BEGIN:STANDARD
TZOFFSETFROM:+0200
TZOFFSETTO:+0100
TZNAME:CET
DTSTART:20251026T010000
END:STANDARD
BEGIN:DAYLIGHT
TZOFFSETFROM:+0100
TZOFFSETTO:+0200
TZNAME:CEST
DTSTART:20260329T010000
END:DAYLIGHT
BEGIN:STANDARD
TZOFFSETFROM:+0200
TZOFFSETTO:+0100
TZNAME:CET
DTSTART:20261025T010000
END:STANDARD
END:VTIMEZONE
BEGIN:VEVENT
DTSTART;TZID=Europe/Berlin:20250622T180000
DTEND;TZID=Europe/Berlin:20250622T193000
DTSTAMP:20260422T193637
CREATED:20250624T090236Z
LAST-MODIFIED:20250624T090236Z
UID:10005398-1750615200-1750620600@bewusst-brueggen.de
SUMMARY:Benefizkonzert „Du bist ein Wunder“ zugunsten der SOS-Kinderdörfer
DESCRIPTION:Hast du dir heute schon bewusst gemacht\, dass du ein Wunder bist?\nUnter dem Titel „Du bist ein Wunder“ tourt Tobias „Tobi“ Levenig durch Deutschlands Kirchen und singt ermutigende Songs von bekannten Künstlern wie Herbert Grönemeyer\, PUR oder Max Giesinger und lädt das Publikum auch zum Mitsingen ein. Das Vokalensemble Ars cantandi wird das Programm mit weiteren Stücken bereichern. \nWeitere Infos:\nTobi\, der seinen Beruf als Gymnasiallehrer für diese Benefiztour pausiert\, blickt als Sänger auf über 500 Konzerte in zahlreichen Konstellationen\, Bands und Ensembles zurück: von Auftritten vor über 70.000 Menschen im Fußballstadion über TV-Übertragungen bis hin zu Musical- und Orchesterprojekten. Mit seiner warmen Bariton-Stimme verleiht er den Songs einen individuellen Charme\, irgendwo zwischen Singer-Songwriter-Pop\, Gospel- und Soulmusik. Das abwechslungsreiche Programm des Konzertes spannt mehrfach den Bogen zum knapp 800 Kilometer langen Jakobsweg\, den Tobi im Sommer 2021 bis nach Santiago de Compostela gepilgert ist. Durch Impulse und Moderationen zwischen den Liedern möchte der Sänger die Anwesenden an dieser Reise und den damit verbundenen Emotionen teilhaben lassen\, nicht zuletzt durch das gemeinsame Singen einiger ausgewählter Stücke. Das Ziel dieser Konzertreihe: Menschen mit Musik inspirieren\, die Welt reicher an Erfahrung machen und 100.000 Euro für die SOS-Kinderdörfer sammeln. Sie sind herzlich eingeladen!
URL:https://bewusst-brueggen.de/kalender/benefizkonzert-du-bist-ein-wunder-zugunsten-der-sos-kinderdoerfer/
LOCATION:Kirche St. Nikolaus Brüggen\, Klosterstraße 40\, Brüggen\, 41379
CATEGORIES:Kultur
ORGANIZER;CN="Pfarrb%C3%BCro St. Nikolaus":MAILTO:ingrid.graw@freenet.de
END:VEVENT
BEGIN:VEVENT
DTSTART;VALUE=DATE:20231215
DTEND;VALUE=DATE:20231218
DTSTAMP:20260422T193637
CREATED:20231201T124150Z
LAST-MODIFIED:20231213T145442Z
UID:10000923-1702598400-1702857599@bewusst-brueggen.de
SUMMARY:Einladung zur Stille und Einkehr\, abseits von Trubel und Hektik
DESCRIPTION:Schenke dir einen Moment der Stille\, einen Moment allein sein mit den eigenen Gedanken? Beten oder in einer Zeit der Stille neue Kraft schöpfen? \nDer Raum der Stille\, in Farben getaucht\, möchte eine Einladung sein\, zu Geschwisterlichkeit und Toleranz unter den Menschen\, zwischen den Nationalitäten\, Religionen und Weltanschauungen. Der Raum der Stille ist ein wertvolles gut. Dies ist Gottes Haus. Kommen Sie herein\, machen Sie es zu Ihrem! Wir laden Sie ein\, hier zu verweilen\, um zu beten und nachzudenken. Frei von Hektik\, frei von allem Lärm der Welt finden wir zu uns selbst. Stille ist ein wertvolles Gut. Schenk dir einen Moment der Stille! \nVeranstaltungszeiten:\n15.12. 17:00-20:00 Uhr\n16.12. 19:00-21:00 Uhr\n17.12. 16:00-19:00 Uhr
URL:https://bewusst-brueggen.de/kalender/einladung-zur-stille-und-einkehr-abseits-von-trubel-und-hektik/
LOCATION:Kirche St. Nikolaus Brüggen\, Klosterstraße 40\, Brüggen\, 41379
CATEGORIES:Kultur
ATTACH;FMTTYPE=image/jpeg:https://bewusst-brueggen.de/wp-content/uploads/2023/12/bewusst-brueggen-veranstaltungsbild-altarraum.jpg
ORGANIZER;CN="Pfarrb%C3%BCro St. Nikolaus":MAILTO:ingrid.graw@freenet.de
END:VEVENT
BEGIN:VEVENT
DTSTART;TZID=Europe/Berlin:20230825T180000
DTEND;TZID=Europe/Berlin:20230825T180000
DTSTAMP:20260422T193637
CREATED:20230807T065821Z
LAST-MODIFIED:20231213T145525Z
UID:10000431-1692986400-1692986400@bewusst-brueggen.de
SUMMARY:Ausstellungseröffnung "Als Brüggen noch ein Krankenhaus hatte"
DESCRIPTION:Ausstellung der ehemaligen Krankenhausfenster der Rochus-Kapelle des Hospitals. \nLerne mit einem Vortrag von Ina Germes-Dohmen mehr über die Geschichte des Krankenhauses\, der Heiligen-Fenster und der medizinischen Versorgung in Brüggen.
URL:https://bewusst-brueggen.de/kalender/ausstellungseroeffnung-als-brueggen-noch-ein-krankenhaus-hatte/
LOCATION:Kirche St. Nikolaus Brüggen\, Klosterstraße 40\, Brüggen\, 41379
CATEGORIES:Kultur
ATTACH;FMTTYPE=:
ORGANIZER;CN="Pfarrb%C3%BCro St. Nikolaus":MAILTO:ingrid.graw@freenet.de
END:VEVENT
BEGIN:VEVENT
DTSTART;VALUE=DATE:20230825
DTEND;VALUE=DATE:20230926
DTSTAMP:20260422T193637
CREATED:20230807T083643Z
LAST-MODIFIED:20231213T145526Z
UID:10000432-1692921600-1695686399@bewusst-brueggen.de
SUMMARY:Ausstellung „Als Brüggen noch ein Krankenhaus hatte“
DESCRIPTION:Ausstellung der ehemaligen Krankenhausfenster der Rochus-Kapelle des Hospitals.\nGeschichte des Krankenhauses und der Heiligen-Fenster. \nÖffnungszeiten:\nDienstag-Freitag 15:00-17:00 Uhr\nSonntags 15:00-17:00 Uhr
URL:https://bewusst-brueggen.de/kalender/ausstellung-als-brueggen-noch-ein-krankenhaus-hatte/
LOCATION:Kirche St. Nikolaus Brüggen\, Klosterstraße 40\, Brüggen\, 41379
CATEGORIES:Kultur
ORGANIZER;CN="Pfarrb%C3%BCro St. Nikolaus":MAILTO:ingrid.graw@freenet.de
END:VEVENT
BEGIN:VEVENT
DTSTART;TZID=Europe/Berlin:20230820T140000
DTEND;TZID=Europe/Berlin:20230820T140000
DTSTAMP:20260422T193637
CREATED:20230804T115658Z
LAST-MODIFIED:20231213T145526Z
UID:10000430-1692540000-1692540000@bewusst-brueggen.de
SUMMARY:Mittagsmusik in der Kirche St. Nikolaus
DESCRIPTION:Orgelmusik mit Texten und Impulsen mit Sr. Vera Noel Hyun
URL:https://bewusst-brueggen.de/kalender/mittagsmusik-in-der-kirche-st-nikolaus-2/
LOCATION:Kirche St. Nikolaus Brüggen\, Klosterstraße 40\, Brüggen\, 41379
CATEGORIES:Kultur
ATTACH;FMTTYPE=:
ORGANIZER;CN="Pfarrb%C3%BCro St. Nikolaus":MAILTO:ingrid.graw@freenet.de
END:VEVENT
BEGIN:VEVENT
DTSTART;TZID=Europe/Berlin:20230813T140000
DTEND;TZID=Europe/Berlin:20230813T140000
DTSTAMP:20260422T193637
CREATED:20230804T115522Z
LAST-MODIFIED:20231213T145528Z
UID:10000429-1691935200-1691935200@bewusst-brueggen.de
SUMMARY:Mittagsmusik in der Kirche St. Nikolaus
DESCRIPTION:Orgelmusik mit Texten und Impulsen mit Sr. Vera Noel Hyun \nWeitere Termine:\nSonntag\, 20. August 2023 um 14.00 Uhr\nOrgelmusik mit Texten und Impulsen mit Sr. Vera Noel Hyun
URL:https://bewusst-brueggen.de/kalender/mittagsmusik-in-der-kirche-st-nikolaus/
LOCATION:Kirche St. Nikolaus Brüggen\, Klosterstraße 40\, Brüggen\, 41379
CATEGORIES:Kultur
ATTACH;FMTTYPE=:
ORGANIZER;CN="Pfarrb%C3%BCro St. Nikolaus":MAILTO:ingrid.graw@freenet.de
END:VEVENT
BEGIN:VEVENT
DTSTART;TZID=Europe/Berlin:20230806T140000
DTEND;TZID=Europe/Berlin:20230806T140000
DTSTAMP:20260422T193637
CREATED:20230804T115817Z
LAST-MODIFIED:20231213T145531Z
UID:10000428-1691330400-1691330400@bewusst-brueggen.de
SUMMARY:Mittagsmusik in der Kirche St. Nikolaus
DESCRIPTION:Mittagsmusik in der Kirche St. Nikolaus\, Brüggen. \nKonzert mit Floris van Gils an der Orgel \nWeitere Termine:\nSonntag\, 13. August 2023 um 14.00 Uhr\nOrgelmusik mit Texten und Impulsen mit Sr. Vera Noel Hyun\nSonntag\, 20. August 2023 um 14.00 Uhr\nOrgelmusik mit Texten und Impulsen mit Sr. Vera Noel Hyun
URL:https://bewusst-brueggen.de/kalender/mittagsmusik-in-der-kirche-st-nikolaus-3/
LOCATION:Kirche St. Nikolaus Brüggen\, Klosterstraße 40\, Brüggen\, 41379
CATEGORIES:Kultur
ATTACH;FMTTYPE=:
ORGANIZER;CN="Pfarrb%C3%BCro St. Nikolaus":MAILTO:ingrid.graw@freenet.de
END:VEVENT
END:VCALENDAR