BEGIN:VCALENDAR
VERSION:2.0
PRODID:-//Bewusst Brüggen - ECPv6.15.20//NONSGML v1.0//EN
CALSCALE:GREGORIAN
METHOD:PUBLISH
X-WR-CALNAME:Bewusst Brüggen
X-ORIGINAL-URL:https://bewusst-brueggen.de
X-WR-CALDESC:Veranstaltungen für Bewusst Brüggen
REFRESH-INTERVAL;VALUE=DURATION:PT1H
X-Robots-Tag:noindex
X-PUBLISHED-TTL:PT1H
BEGIN:VTIMEZONE
TZID:Europe/Berlin
BEGIN:DAYLIGHT
TZOFFSETFROM:+0100
TZOFFSETTO:+0200
TZNAME:CEST
DTSTART:20220327T010000
END:DAYLIGHT
BEGIN:STANDARD
TZOFFSETFROM:+0200
TZOFFSETTO:+0100
TZNAME:CET
DTSTART:20221030T010000
END:STANDARD
BEGIN:DAYLIGHT
TZOFFSETFROM:+0100
TZOFFSETTO:+0200
TZNAME:CEST
DTSTART:20230326T010000
END:DAYLIGHT
BEGIN:STANDARD
TZOFFSETFROM:+0200
TZOFFSETTO:+0100
TZNAME:CET
DTSTART:20231029T010000
END:STANDARD
BEGIN:DAYLIGHT
TZOFFSETFROM:+0100
TZOFFSETTO:+0200
TZNAME:CEST
DTSTART:20240331T010000
END:DAYLIGHT
BEGIN:STANDARD
TZOFFSETFROM:+0200
TZOFFSETTO:+0100
TZNAME:CET
DTSTART:20241027T010000
END:STANDARD
END:VTIMEZONE
BEGIN:VEVENT
DTSTART;TZID=Europe/Berlin:20230423T110000
DTEND;TZID=Europe/Berlin:20230423T170000
DTSTAMP:20260420T090607
CREATED:20230328T093509Z
LAST-MODIFIED:20231213T145618Z
UID:10000329-1682247600-1682269200@bewusst-brueggen.de
SUMMARY:Kunstroute Brüggen-Bracht-Born
DESCRIPTION:1. Kunstroute Brüggen – Bracht – Born \nDie Kunsttour Brüggen-Bracht-Born ist eine Veranstaltung in Kooperation mit der Burggemeinde Brüggen mit informellem Charakter\, bei der die Besucherinnen und Besucher die Gelegenheit haben\, zeitgenössische Kunst in einzigartiger Umgebung sowie an ungewöhnlichen Kunstorten erleben zu können. Zu den Orten gehören unter anderem eine Mühle\, Burg\, Fotostudio\, Ateliers\, ein Café\, Tattoostudio\, Reiterhof\, Pfarrhaus\, Skulpturengarten\, etc. Von aufstrebenden Talenten bis hin zu etablierten Namen sind Künstlerinnen und Künstler aus Brüggen\, den Niederlanden und aus den umliegenden Gemeinden und Städten am Niederrhein vertreten. \nDie Strecke können Sie auf der Internetseite des Niederrhein Tourismus unter Kunstroute Brüggen einsehen. \nHier geht es zum Flyer. \nIn Kooperation mit der Burggemeinde Brüggen.
URL:https://bewusst-brueggen.de/kalender/kunstroute-brueggen-bracht-born/
CATEGORIES:Kultur
ATTACH;FMTTYPE=:
ORGANIZER;CN="Photo Loft 60":MAILTO:photoloft60@web.de
END:VEVENT
END:VCALENDAR