BEGIN:VCALENDAR
VERSION:2.0
PRODID:-//Bewusst Brüggen - ECPv6.15.20//NONSGML v1.0//EN
CALSCALE:GREGORIAN
METHOD:PUBLISH
X-WR-CALNAME:Bewusst Brüggen
X-ORIGINAL-URL:https://bewusst-brueggen.de
X-WR-CALDESC:Veranstaltungen für Bewusst Brüggen
REFRESH-INTERVAL;VALUE=DURATION:PT1H
X-Robots-Tag:noindex
X-PUBLISHED-TTL:PT1H
BEGIN:VTIMEZONE
TZID:Europe/Berlin
BEGIN:DAYLIGHT
TZOFFSETFROM:+0100
TZOFFSETTO:+0200
TZNAME:CEST
DTSTART:20240331T010000
END:DAYLIGHT
BEGIN:STANDARD
TZOFFSETFROM:+0200
TZOFFSETTO:+0100
TZNAME:CET
DTSTART:20241027T010000
END:STANDARD
BEGIN:DAYLIGHT
TZOFFSETFROM:+0100
TZOFFSETTO:+0200
TZNAME:CEST
DTSTART:20250330T010000
END:DAYLIGHT
BEGIN:STANDARD
TZOFFSETFROM:+0200
TZOFFSETTO:+0100
TZNAME:CET
DTSTART:20251026T010000
END:STANDARD
BEGIN:DAYLIGHT
TZOFFSETFROM:+0100
TZOFFSETTO:+0200
TZNAME:CEST
DTSTART:20260329T010000
END:DAYLIGHT
BEGIN:STANDARD
TZOFFSETFROM:+0200
TZOFFSETTO:+0100
TZNAME:CET
DTSTART:20261025T010000
END:STANDARD
END:VTIMEZONE
BEGIN:VEVENT
DTSTART;TZID=Europe/Berlin:20250831T100000
DTEND;TZID=Europe/Berlin:20250831T170000
DTSTAMP:20260420T100852
CREATED:20250514T074906Z
LAST-MODIFIED:20250514T074906Z
UID:10005381-1756634400-1756659600@bewusst-brueggen.de
SUMMARY:35. Renault Oldtimer & Youngtimer Treffen auf dem Kreuzherrenplatz
DESCRIPTION:Bereits zum 35. Mal veranstaltet der Renault Oldie Club Viersen / Deutschland e.V. sein jährliches Clubtreffen.\nZusätzlich zu den den Fahrzeugen der Clubmitglieder werden auch wieder zahlreiche Besucher mit Ihren Autos erwartet.\nWie in den letzten Jahren findet die Veranstaltung auf dem Kreuzherrenplatz statt.\nFür das leibliche Wohl wird mit Würstchen\, Kaffee\, Kuchen und belgischen Waffeln\, sowie mit kalten Getränken gesorgt.
URL:https://bewusst-brueggen.de/kalender/35-renault-oldtimer-youngtimer-treffen-auf-dem-kreuzherrenplatz/
LOCATION:Kreuzherrenplatz\, Kreuzherrenplatz\, Brüggen\, 41379\, Germany
CATEGORIES:Verschiedenes
ATTACH;FMTTYPE=image/jpeg:https://bewusst-brueggen.de/wp-content/uploads/2025/05/Plakat-Renault-Oldi-Club.jpg
ORGANIZER;CN="Renault Oldie-Club Viersen/Deutschland e. V.":MAILTO:roc-rainer@myshrall.de
END:VEVENT
END:VCALENDAR