BEGIN:VCALENDAR
VERSION:2.0
PRODID:-//Bewusst Brüggen - ECPv6.15.20//NONSGML v1.0//EN
CALSCALE:GREGORIAN
METHOD:PUBLISH
X-ORIGINAL-URL:https://bewusst-brueggen.de
X-WR-CALDESC:Veranstaltungen für Bewusst Brüggen
REFRESH-INTERVAL;VALUE=DURATION:PT1H
X-Robots-Tag:noindex
X-PUBLISHED-TTL:PT1H
BEGIN:VTIMEZONE
TZID:Europe/Berlin
BEGIN:DAYLIGHT
TZOFFSETFROM:+0100
TZOFFSETTO:+0200
TZNAME:CEST
DTSTART:20240331T010000
END:DAYLIGHT
BEGIN:STANDARD
TZOFFSETFROM:+0200
TZOFFSETTO:+0100
TZNAME:CET
DTSTART:20241027T010000
END:STANDARD
BEGIN:DAYLIGHT
TZOFFSETFROM:+0100
TZOFFSETTO:+0200
TZNAME:CEST
DTSTART:20250330T010000
END:DAYLIGHT
BEGIN:STANDARD
TZOFFSETFROM:+0200
TZOFFSETTO:+0100
TZNAME:CET
DTSTART:20251026T010000
END:STANDARD
BEGIN:DAYLIGHT
TZOFFSETFROM:+0100
TZOFFSETTO:+0200
TZNAME:CEST
DTSTART:20260329T010000
END:DAYLIGHT
BEGIN:STANDARD
TZOFFSETFROM:+0200
TZOFFSETTO:+0100
TZNAME:CET
DTSTART:20261025T010000
END:STANDARD
END:VTIMEZONE
BEGIN:VEVENT
DTSTART;TZID=Europe/Berlin:20251011T200000
DTEND;TZID=Europe/Berlin:20251011T220000
DTSTAMP:20260420T052616
CREATED:20250703T072320Z
LAST-MODIFIED:20250703T072320Z
UID:10005462-1760212800-1760220000@bewusst-brueggen.de
SUMMARY:Akustikkonzert JULIKA
DESCRIPTION:Wir freuen uns riesig\, dass es gelungen ist\, die Sängerin JULIKA erneut in unser schönes Dohlendorf zu bekommen.\nSie spiele bereits im letzten Jahr auf der Mühlenweihnacht und war sehr angetan von der Idee ein Konzert in unserer wunderschönen Mühle zu spielen. Der ein oder andere kennt JULIKA eventuelle auch aus Funk und Fernseh. Zuletzt war Sie\, mit Ihrem Song „Empress“\, Finalistin beim Vorentscheid zum ESC in Basel.\nAusgestattet mit einer grandiosen Stimme\, komponiert und performt Sie am Keyboard musikalische Bilder\, die immer ein wenig filmisch wirken. Ihre Texte korrespondieren mit Grenzerfahrungen des Lebens. Emotionales Überleben in einer sich in Schablonen verlierenden Welt.\nDas alles kombiniert mit der wundervollen historischen Brachter Mühle\, verspricht schon jetzt einen wundervollen Abend in unserem Dohlendorf. \nKarten können im Vorkauf ganz einfach für 15\,00€ (Abendkasse 18\,00€) bestellt werden\, entweder per E-Mail an alikaevent@gmail.com oder per Telefon/WhatsApp an 01522-9290348
URL:https://bewusst-brueggen.de/kalender/akustikkonzert-julika/
LOCATION:Brachter Mühle\, Brüggener Straße 13\, Brüggen\, 41379
CATEGORIES:Feste / Märkte
ATTACH;FMTTYPE=image/jpeg:https://bewusst-brueggen.de/wp-content/uploads/2025/07/Konzert-11.10.2025.jpg
ORGANIZER;CN="Ren%C3%A9 R%C3%B6mer":MAILTO:alikaevent@gmail.com
END:VEVENT
END:VCALENDAR