BEGIN:VCALENDAR
VERSION:2.0
PRODID:-//Bewusst Brüggen - ECPv6.15.20//NONSGML v1.0//EN
CALSCALE:GREGORIAN
METHOD:PUBLISH
X-WR-CALNAME:Bewusst Brüggen
X-ORIGINAL-URL:https://bewusst-brueggen.de
X-WR-CALDESC:Veranstaltungen für Bewusst Brüggen
REFRESH-INTERVAL;VALUE=DURATION:PT1H
X-Robots-Tag:noindex
X-PUBLISHED-TTL:PT1H
BEGIN:VTIMEZONE
TZID:Europe/Berlin
BEGIN:DAYLIGHT
TZOFFSETFROM:+0100
TZOFFSETTO:+0200
TZNAME:CEST
DTSTART:20220327T010000
END:DAYLIGHT
BEGIN:STANDARD
TZOFFSETFROM:+0200
TZOFFSETTO:+0100
TZNAME:CET
DTSTART:20221030T010000
END:STANDARD
BEGIN:DAYLIGHT
TZOFFSETFROM:+0100
TZOFFSETTO:+0200
TZNAME:CEST
DTSTART:20230326T010000
END:DAYLIGHT
BEGIN:STANDARD
TZOFFSETFROM:+0200
TZOFFSETTO:+0100
TZNAME:CET
DTSTART:20231029T010000
END:STANDARD
BEGIN:DAYLIGHT
TZOFFSETFROM:+0100
TZOFFSETTO:+0200
TZNAME:CEST
DTSTART:20240331T010000
END:DAYLIGHT
BEGIN:STANDARD
TZOFFSETFROM:+0200
TZOFFSETTO:+0100
TZNAME:CET
DTSTART:20241027T010000
END:STANDARD
END:VTIMEZONE
BEGIN:VEVENT
DTSTART;TZID=Europe/Berlin:20230923T180000
DTEND;TZID=Europe/Berlin:20230923T180000
DTSTAMP:20260420T023620
CREATED:20230328T120206Z
LAST-MODIFIED:20231213T145514Z
UID:10000441-1695492000-1695492000@bewusst-brueggen.de
SUMMARY:Borner Wiesn 2023
DESCRIPTION:
URL:https://bewusst-brueggen.de/kalender/borner-wiesn-2023/
LOCATION:Festwiese in Born\, Stapp\, Brüggen\, 41379
CATEGORIES:Brauchtum/ Heimatkunde
END:VEVENT
BEGIN:VEVENT
DTSTART;VALUE=DATE:20230528
DTEND;VALUE=DATE:20230529
DTSTAMP:20260420T023620
CREATED:20230328T153148Z
LAST-MODIFIED:20231213T145606Z
UID:10000352-1685232000-1685318399@bewusst-brueggen.de
SUMMARY:Vogelschuss in Born
DESCRIPTION:
URL:https://bewusst-brueggen.de/kalender/vogelschuss-in-born/
LOCATION:Festwiese in Born\, Stapp\, Brüggen\, 41379
CATEGORIES:Brauchtum/ Heimatkunde
ATTACH;FMTTYPE=:
END:VEVENT
END:VCALENDAR