BEGIN:VCALENDAR
VERSION:2.0
PRODID:-//Bewusst Brüggen - ECPv6.15.20//NONSGML v1.0//EN
CALSCALE:GREGORIAN
METHOD:PUBLISH
X-ORIGINAL-URL:https://bewusst-brueggen.de
X-WR-CALDESC:Veranstaltungen für Bewusst Brüggen
REFRESH-INTERVAL;VALUE=DURATION:PT1H
X-Robots-Tag:noindex
X-PUBLISHED-TTL:PT1H
BEGIN:VTIMEZONE
TZID:Europe/Berlin
BEGIN:DAYLIGHT
TZOFFSETFROM:+0100
TZOFFSETTO:+0200
TZNAME:CEST
DTSTART:20230326T010000
END:DAYLIGHT
BEGIN:STANDARD
TZOFFSETFROM:+0200
TZOFFSETTO:+0100
TZNAME:CET
DTSTART:20231029T010000
END:STANDARD
BEGIN:DAYLIGHT
TZOFFSETFROM:+0100
TZOFFSETTO:+0200
TZNAME:CEST
DTSTART:20240331T010000
END:DAYLIGHT
BEGIN:STANDARD
TZOFFSETFROM:+0200
TZOFFSETTO:+0100
TZNAME:CET
DTSTART:20241027T010000
END:STANDARD
BEGIN:DAYLIGHT
TZOFFSETFROM:+0100
TZOFFSETTO:+0200
TZNAME:CEST
DTSTART:20250330T010000
END:DAYLIGHT
BEGIN:STANDARD
TZOFFSETFROM:+0200
TZOFFSETTO:+0100
TZNAME:CET
DTSTART:20251026T010000
END:STANDARD
BEGIN:DAYLIGHT
TZOFFSETFROM:+0100
TZOFFSETTO:+0200
TZNAME:CEST
DTSTART:20260329T010000
END:DAYLIGHT
BEGIN:STANDARD
TZOFFSETFROM:+0200
TZOFFSETTO:+0100
TZNAME:CET
DTSTART:20261025T010000
END:STANDARD
BEGIN:DAYLIGHT
TZOFFSETFROM:+0100
TZOFFSETTO:+0200
TZNAME:CEST
DTSTART:20270328T010000
END:DAYLIGHT
BEGIN:STANDARD
TZOFFSETFROM:+0200
TZOFFSETTO:+0100
TZNAME:CET
DTSTART:20271031T010000
END:STANDARD
END:VTIMEZONE
BEGIN:VEVENT
DTSTART;TZID=Europe/Berlin:20260411T110000
DTEND;TZID=Europe/Berlin:20260411T233000
DTSTAMP:20260421T142848
CREATED:20260305T074800Z
LAST-MODIFIED:20260305T081022Z
UID:10006593-1775905200-1775950200@bewusst-brueggen.de
SUMMARY:Vogelschuss St. Nikolaus  Bruderschaft Brüggen 1861 e.V.
DESCRIPTION:Vogelschuss der St. Nikolaus Bruderschaft Brüggen 1861 e.V. am 11. April 2026 ab 11 Uhr auf der Wiese an der Burg Brüggen.
URL:https://bewusst-brueggen.de/kalender/vogelschuss-st-nikolaus-bruderschaft-brueggen-1861-e-v/
LOCATION:Burgwiese\, Burgwall\, Brüggen\, 41379
CATEGORIES:Brauchtum/ Heimatkunde
ATTACH;FMTTYPE=image/png:https://bewusst-brueggen.de/wp-content/uploads/2026/03/IMG_6959.png
ORGANIZER;CN="Sankt Nikolaus Bruderschaft Br%C3%BCggen 1861 e. V. - Dirk Th%C3%B6ni%C3%9Fen":MAILTO:d.thoenissen@bruderschaft-brueggen.de
END:VEVENT
BEGIN:VEVENT
DTSTART;TZID=Europe/Berlin:20250613T200000
DTEND;TZID=Europe/Berlin:20250614T020000
DTSTAMP:20260421T142848
CREATED:20250129T070442Z
LAST-MODIFIED:20250506T143912Z
UID:10004629-1749844800-1749866400@bewusst-brueggen.de
SUMMARY:1. Dorfparty - Feiern bis zum Zapfenstreich mit DJ Wombel
DESCRIPTION:Zum Start des Schützenfestes 2025 lädt die St. Nikolaus Bruderschaft Brüggen 1861 e. V. zur ersten Dorfparty im Festzelt an der Feuerwehr ein. Der bekannte Brüggener DJ Wombel wird den Feierwütigen mit feinster Partymusik einheizen\, kalte Getränke werden bereitstehen und gute Stimmung ist garantiert. \nKarten gibt es im Vorverkauf für 8\,-€ und für 10\,-€ an der Abendkasse. \nDie St. Nikolaus Bruderschaft 1861 e. V. freut sich auf viele Besucher\, um gemeinsam eine tolle und unbeschwerte Zeit zu haben.
URL:https://bewusst-brueggen.de/kalender/1-dorfparty-feiern-bis-zum-zapfenstreich-mit-dj-wombel/
LOCATION:Feuerwache Brüggen\, Nauenweg 2\, Brüggen\, NRW\, 41379\, Deutschland
CATEGORIES:Feste / Märkte
ATTACH;FMTTYPE=image/jpeg:https://bewusst-brueggen.de/wp-content/uploads/2023/03/bewusst-brueggen-events-feste.jpg
ORGANIZER;CN="Sankt Nikolaus Bruderschaft Br%C3%BCggen 1861 e. V. - Dirk Th%C3%B6ni%C3%9Fen":MAILTO:d.thoenissen@bruderschaft-brueggen.de
END:VEVENT
BEGIN:VEVENT
DTSTART;TZID=Europe/Berlin:20240406T110000
DTEND;TZID=Europe/Berlin:20240407T020000
DTSTAMP:20260421T142848
CREATED:20240227T093908Z
LAST-MODIFIED:20240227T093908Z
UID:10002900-1712401200-1712455200@bewusst-brueggen.de
SUMMARY:Vogelschuss 2024
DESCRIPTION:Die St. Nikolaus Bruderschaft Brüggen 1861 e. V. sucht in diesem Wettbewerb\, der im zweijährigen Rhythmus durchgeführt wird\, ihren neuen Schützenkönig.\nEs gibt ein breites Rahmenprogramm\, zu dem alle Interessierten herzlich eingeladen sind.\nDer Eintritt ist selbstverständlich frei!
URL:https://bewusst-brueggen.de/kalender/vogelschuss-2024-2/
LOCATION:Burg Brüggen\, Burgwall 4\, Brüggen\, 41379
CATEGORIES:Brauchtum/ Heimatkunde
ORGANIZER;CN="Sankt Nikolaus Bruderschaft Br%C3%BCggen 1861 e. V. - Dirk Th%C3%B6ni%C3%9Fen":MAILTO:d.thoenissen@bruderschaft-brueggen.de
END:VEVENT
END:VCALENDAR