BEGIN:VCALENDAR
VERSION:2.0
PRODID:-//Bewusst Brüggen - ECPv6.15.20//NONSGML v1.0//EN
CALSCALE:GREGORIAN
METHOD:PUBLISH
X-WR-CALNAME:Bewusst Brüggen
X-ORIGINAL-URL:https://bewusst-brueggen.de
X-WR-CALDESC:Veranstaltungen für Bewusst Brüggen
REFRESH-INTERVAL;VALUE=DURATION:PT1H
X-Robots-Tag:noindex
X-PUBLISHED-TTL:PT1H
BEGIN:VTIMEZONE
TZID:Europe/Berlin
BEGIN:DAYLIGHT
TZOFFSETFROM:+0100
TZOFFSETTO:+0200
TZNAME:CEST
DTSTART:20230326T010000
END:DAYLIGHT
BEGIN:STANDARD
TZOFFSETFROM:+0200
TZOFFSETTO:+0100
TZNAME:CET
DTSTART:20231029T010000
END:STANDARD
BEGIN:DAYLIGHT
TZOFFSETFROM:+0100
TZOFFSETTO:+0200
TZNAME:CEST
DTSTART:20240331T010000
END:DAYLIGHT
BEGIN:STANDARD
TZOFFSETFROM:+0200
TZOFFSETTO:+0100
TZNAME:CET
DTSTART:20241027T010000
END:STANDARD
BEGIN:DAYLIGHT
TZOFFSETFROM:+0100
TZOFFSETTO:+0200
TZNAME:CEST
DTSTART:20250330T010000
END:DAYLIGHT
BEGIN:STANDARD
TZOFFSETFROM:+0200
TZOFFSETTO:+0100
TZNAME:CET
DTSTART:20251026T010000
END:STANDARD
END:VTIMEZONE
BEGIN:VEVENT
DTSTART;TZID=Europe/Berlin:20240527T180000
DTEND;TZID=Europe/Berlin:20240527T220000
DTSTAMP:20260422T211555
CREATED:20240202T092507Z
LAST-MODIFIED:20260127T134333Z
UID:10002581-1716832800-1716847200@bewusst-brueggen.de
SUMMARY:Training für Jedermann im Schachspiel
DESCRIPTION:Training für Jedermann beim Schachklub Turm Brüggen
URL:https://bewusst-brueggen.de/kalender/training-fuer-jedermann-im-schachspiel/2024-05-27/
LOCATION:Haus Mesterom\, Borner Straße 34\, Brüggen\, Nordrhein Westfalen\, 41379\, Deutschland
CATEGORIES:Vereine & Ehrenamt
ATTACH;FMTTYPE=image/jpeg:https://bewusst-brueggen.de/wp-content/uploads/2024/01/turm.jpg
ORGANIZER;CN="Schachklub Turm Br%C3%BCggen":MAILTO:wi-thiel@t-online.de
END:VEVENT
BEGIN:VEVENT
DTSTART;TZID=Europe/Berlin:20240520T180000
DTEND;TZID=Europe/Berlin:20240520T220000
DTSTAMP:20260422T211555
CREATED:20240202T092507Z
LAST-MODIFIED:20260127T134333Z
UID:10002580-1716228000-1716242400@bewusst-brueggen.de
SUMMARY:Training für Jedermann im Schachspiel
DESCRIPTION:Training für Jedermann beim Schachklub Turm Brüggen
URL:https://bewusst-brueggen.de/kalender/training-fuer-jedermann-im-schachspiel/2024-05-20/
LOCATION:Haus Mesterom\, Borner Straße 34\, Brüggen\, Nordrhein Westfalen\, 41379\, Deutschland
CATEGORIES:Vereine & Ehrenamt
ATTACH;FMTTYPE=image/jpeg:https://bewusst-brueggen.de/wp-content/uploads/2024/01/turm.jpg
ORGANIZER;CN="Schachklub Turm Br%C3%BCggen":MAILTO:wi-thiel@t-online.de
END:VEVENT
BEGIN:VEVENT
DTSTART;TZID=Europe/Berlin:20240513T180000
DTEND;TZID=Europe/Berlin:20240513T220000
DTSTAMP:20260422T211555
CREATED:20240202T092507Z
LAST-MODIFIED:20260127T134333Z
UID:10002579-1715623200-1715637600@bewusst-brueggen.de
SUMMARY:Training für Jedermann im Schachspiel
DESCRIPTION:Training für Jedermann beim Schachklub Turm Brüggen
URL:https://bewusst-brueggen.de/kalender/training-fuer-jedermann-im-schachspiel/2024-05-13/
LOCATION:Haus Mesterom\, Borner Straße 34\, Brüggen\, Nordrhein Westfalen\, 41379\, Deutschland
CATEGORIES:Vereine & Ehrenamt
ATTACH;FMTTYPE=image/jpeg:https://bewusst-brueggen.de/wp-content/uploads/2024/01/turm.jpg
ORGANIZER;CN="Schachklub Turm Br%C3%BCggen":MAILTO:wi-thiel@t-online.de
END:VEVENT
BEGIN:VEVENT
DTSTART;TZID=Europe/Berlin:20240506T180000
DTEND;TZID=Europe/Berlin:20240506T220000
DTSTAMP:20260422T211555
CREATED:20240202T092507Z
LAST-MODIFIED:20260127T134333Z
UID:10002578-1715018400-1715032800@bewusst-brueggen.de
SUMMARY:Training für Jedermann im Schachspiel
DESCRIPTION:Training für Jedermann beim Schachklub Turm Brüggen
URL:https://bewusst-brueggen.de/kalender/training-fuer-jedermann-im-schachspiel/2024-05-06/
LOCATION:Haus Mesterom\, Borner Straße 34\, Brüggen\, Nordrhein Westfalen\, 41379\, Deutschland
CATEGORIES:Vereine & Ehrenamt
ATTACH;FMTTYPE=image/jpeg:https://bewusst-brueggen.de/wp-content/uploads/2024/01/turm.jpg
ORGANIZER;CN="Schachklub Turm Br%C3%BCggen":MAILTO:wi-thiel@t-online.de
END:VEVENT
BEGIN:VEVENT
DTSTART;TZID=Europe/Berlin:20240429T180000
DTEND;TZID=Europe/Berlin:20240429T220000
DTSTAMP:20260422T211555
CREATED:20240202T092507Z
LAST-MODIFIED:20260127T134333Z
UID:10002577-1714413600-1714428000@bewusst-brueggen.de
SUMMARY:Training für Jedermann im Schachspiel
DESCRIPTION:Training für Jedermann beim Schachklub Turm Brüggen
URL:https://bewusst-brueggen.de/kalender/training-fuer-jedermann-im-schachspiel/2024-04-29/
LOCATION:Haus Mesterom\, Borner Straße 34\, Brüggen\, Nordrhein Westfalen\, 41379\, Deutschland
CATEGORIES:Vereine & Ehrenamt
ATTACH;FMTTYPE=image/jpeg:https://bewusst-brueggen.de/wp-content/uploads/2024/01/turm.jpg
ORGANIZER;CN="Schachklub Turm Br%C3%BCggen":MAILTO:wi-thiel@t-online.de
END:VEVENT
BEGIN:VEVENT
DTSTART;TZID=Europe/Berlin:20240422T180000
DTEND;TZID=Europe/Berlin:20240422T220000
DTSTAMP:20260422T211555
CREATED:20240202T092507Z
LAST-MODIFIED:20260127T134333Z
UID:10002576-1713808800-1713823200@bewusst-brueggen.de
SUMMARY:Training für Jedermann im Schachspiel
DESCRIPTION:Training für Jedermann beim Schachklub Turm Brüggen
URL:https://bewusst-brueggen.de/kalender/training-fuer-jedermann-im-schachspiel/2024-04-22/
LOCATION:Haus Mesterom\, Borner Straße 34\, Brüggen\, Nordrhein Westfalen\, 41379\, Deutschland
CATEGORIES:Vereine & Ehrenamt
ATTACH;FMTTYPE=image/jpeg:https://bewusst-brueggen.de/wp-content/uploads/2024/01/turm.jpg
ORGANIZER;CN="Schachklub Turm Br%C3%BCggen":MAILTO:wi-thiel@t-online.de
END:VEVENT
BEGIN:VEVENT
DTSTART;TZID=Europe/Berlin:20240415T180000
DTEND;TZID=Europe/Berlin:20240415T220000
DTSTAMP:20260422T211555
CREATED:20240202T092507Z
LAST-MODIFIED:20260127T134333Z
UID:10002575-1713204000-1713218400@bewusst-brueggen.de
SUMMARY:Training für Jedermann im Schachspiel
DESCRIPTION:Training für Jedermann beim Schachklub Turm Brüggen
URL:https://bewusst-brueggen.de/kalender/training-fuer-jedermann-im-schachspiel/2024-04-15/
LOCATION:Haus Mesterom\, Borner Straße 34\, Brüggen\, Nordrhein Westfalen\, 41379\, Deutschland
CATEGORIES:Vereine & Ehrenamt
ATTACH;FMTTYPE=image/jpeg:https://bewusst-brueggen.de/wp-content/uploads/2024/01/turm.jpg
ORGANIZER;CN="Schachklub Turm Br%C3%BCggen":MAILTO:wi-thiel@t-online.de
END:VEVENT
BEGIN:VEVENT
DTSTART;TZID=Europe/Berlin:20240408T180000
DTEND;TZID=Europe/Berlin:20240408T220000
DTSTAMP:20260422T211555
CREATED:20240202T092507Z
LAST-MODIFIED:20260127T134333Z
UID:10002574-1712599200-1712613600@bewusst-brueggen.de
SUMMARY:Training für Jedermann im Schachspiel
DESCRIPTION:Training für Jedermann beim Schachklub Turm Brüggen
URL:https://bewusst-brueggen.de/kalender/training-fuer-jedermann-im-schachspiel/2024-04-08/
LOCATION:Haus Mesterom\, Borner Straße 34\, Brüggen\, Nordrhein Westfalen\, 41379\, Deutschland
CATEGORIES:Vereine & Ehrenamt
ATTACH;FMTTYPE=image/jpeg:https://bewusst-brueggen.de/wp-content/uploads/2024/01/turm.jpg
ORGANIZER;CN="Schachklub Turm Br%C3%BCggen":MAILTO:wi-thiel@t-online.de
END:VEVENT
BEGIN:VEVENT
DTSTART;TZID=Europe/Berlin:20240401T180000
DTEND;TZID=Europe/Berlin:20240401T220000
DTSTAMP:20260422T211555
CREATED:20240202T092507Z
LAST-MODIFIED:20260127T134333Z
UID:10002573-1711994400-1712008800@bewusst-brueggen.de
SUMMARY:Training für Jedermann im Schachspiel
DESCRIPTION:Training für Jedermann beim Schachklub Turm Brüggen
URL:https://bewusst-brueggen.de/kalender/training-fuer-jedermann-im-schachspiel/2024-04-01/
LOCATION:Haus Mesterom\, Borner Straße 34\, Brüggen\, Nordrhein Westfalen\, 41379\, Deutschland
CATEGORIES:Vereine & Ehrenamt
ATTACH;FMTTYPE=image/jpeg:https://bewusst-brueggen.de/wp-content/uploads/2024/01/turm.jpg
ORGANIZER;CN="Schachklub Turm Br%C3%BCggen":MAILTO:wi-thiel@t-online.de
END:VEVENT
BEGIN:VEVENT
DTSTART;TZID=Europe/Berlin:20240325T180000
DTEND;TZID=Europe/Berlin:20240325T220000
DTSTAMP:20260422T211555
CREATED:20240202T092507Z
LAST-MODIFIED:20260127T134333Z
UID:10002572-1711389600-1711404000@bewusst-brueggen.de
SUMMARY:Training für Jedermann im Schachspiel
DESCRIPTION:Training für Jedermann beim Schachklub Turm Brüggen
URL:https://bewusst-brueggen.de/kalender/training-fuer-jedermann-im-schachspiel/2024-03-25/
LOCATION:Haus Mesterom\, Borner Straße 34\, Brüggen\, Nordrhein Westfalen\, 41379\, Deutschland
CATEGORIES:Vereine & Ehrenamt
ATTACH;FMTTYPE=image/jpeg:https://bewusst-brueggen.de/wp-content/uploads/2024/01/turm.jpg
ORGANIZER;CN="Schachklub Turm Br%C3%BCggen":MAILTO:wi-thiel@t-online.de
END:VEVENT
BEGIN:VEVENT
DTSTART;TZID=Europe/Berlin:20240318T180000
DTEND;TZID=Europe/Berlin:20240318T220000
DTSTAMP:20260422T211555
CREATED:20240202T092507Z
LAST-MODIFIED:20260127T134333Z
UID:10002571-1710784800-1710799200@bewusst-brueggen.de
SUMMARY:Training für Jedermann im Schachspiel
DESCRIPTION:Training für Jedermann beim Schachklub Turm Brüggen
URL:https://bewusst-brueggen.de/kalender/training-fuer-jedermann-im-schachspiel/2024-03-18/
LOCATION:Haus Mesterom\, Borner Straße 34\, Brüggen\, Nordrhein Westfalen\, 41379\, Deutschland
CATEGORIES:Vereine & Ehrenamt
ATTACH;FMTTYPE=image/jpeg:https://bewusst-brueggen.de/wp-content/uploads/2024/01/turm.jpg
ORGANIZER;CN="Schachklub Turm Br%C3%BCggen":MAILTO:wi-thiel@t-online.de
END:VEVENT
BEGIN:VEVENT
DTSTART;TZID=Europe/Berlin:20240311T180000
DTEND;TZID=Europe/Berlin:20240311T220000
DTSTAMP:20260422T211555
CREATED:20240202T092507Z
LAST-MODIFIED:20260127T134333Z
UID:10002570-1710180000-1710194400@bewusst-brueggen.de
SUMMARY:Training für Jedermann im Schachspiel
DESCRIPTION:Training für Jedermann beim Schachklub Turm Brüggen
URL:https://bewusst-brueggen.de/kalender/training-fuer-jedermann-im-schachspiel/2024-03-11/
LOCATION:Haus Mesterom\, Borner Straße 34\, Brüggen\, Nordrhein Westfalen\, 41379\, Deutschland
CATEGORIES:Vereine & Ehrenamt
ATTACH;FMTTYPE=image/jpeg:https://bewusst-brueggen.de/wp-content/uploads/2024/01/turm.jpg
ORGANIZER;CN="Schachklub Turm Br%C3%BCggen":MAILTO:wi-thiel@t-online.de
END:VEVENT
BEGIN:VEVENT
DTSTART;TZID=Europe/Berlin:20240304T180000
DTEND;TZID=Europe/Berlin:20240304T220000
DTSTAMP:20260422T211555
CREATED:20240202T092507Z
LAST-MODIFIED:20260127T134333Z
UID:10002569-1709575200-1709589600@bewusst-brueggen.de
SUMMARY:Training für Jedermann im Schachspiel
DESCRIPTION:Training für Jedermann beim Schachklub Turm Brüggen
URL:https://bewusst-brueggen.de/kalender/training-fuer-jedermann-im-schachspiel/2024-03-04/
LOCATION:Haus Mesterom\, Borner Straße 34\, Brüggen\, Nordrhein Westfalen\, 41379\, Deutschland
CATEGORIES:Vereine & Ehrenamt
ATTACH;FMTTYPE=image/jpeg:https://bewusst-brueggen.de/wp-content/uploads/2024/01/turm.jpg
ORGANIZER;CN="Schachklub Turm Br%C3%BCggen":MAILTO:wi-thiel@t-online.de
END:VEVENT
BEGIN:VEVENT
DTSTART;TZID=Europe/Berlin:20240226T180000
DTEND;TZID=Europe/Berlin:20240226T220000
DTSTAMP:20260422T211555
CREATED:20240202T092507Z
LAST-MODIFIED:20260127T134333Z
UID:10002568-1708970400-1708984800@bewusst-brueggen.de
SUMMARY:Training für Jedermann im Schachspiel
DESCRIPTION:Training für Jedermann beim Schachklub Turm Brüggen
URL:https://bewusst-brueggen.de/kalender/training-fuer-jedermann-im-schachspiel/2024-02-26/
LOCATION:Haus Mesterom\, Borner Straße 34\, Brüggen\, Nordrhein Westfalen\, 41379\, Deutschland
CATEGORIES:Vereine & Ehrenamt
ATTACH;FMTTYPE=image/jpeg:https://bewusst-brueggen.de/wp-content/uploads/2024/01/turm.jpg
ORGANIZER;CN="Schachklub Turm Br%C3%BCggen":MAILTO:wi-thiel@t-online.de
END:VEVENT
BEGIN:VEVENT
DTSTART;TZID=Europe/Berlin:20240219T180000
DTEND;TZID=Europe/Berlin:20240219T220000
DTSTAMP:20260422T211555
CREATED:20240202T092507Z
LAST-MODIFIED:20260127T134333Z
UID:10002567-1708365600-1708380000@bewusst-brueggen.de
SUMMARY:Training für Jedermann im Schachspiel
DESCRIPTION:Training für Jedermann beim Schachklub Turm Brüggen
URL:https://bewusst-brueggen.de/kalender/training-fuer-jedermann-im-schachspiel/2024-02-19/
LOCATION:Haus Mesterom\, Borner Straße 34\, Brüggen\, Nordrhein Westfalen\, 41379\, Deutschland
CATEGORIES:Vereine & Ehrenamt
ATTACH;FMTTYPE=image/jpeg:https://bewusst-brueggen.de/wp-content/uploads/2024/01/turm.jpg
ORGANIZER;CN="Schachklub Turm Br%C3%BCggen":MAILTO:wi-thiel@t-online.de
END:VEVENT
BEGIN:VEVENT
DTSTART;TZID=Europe/Berlin:20240212T180000
DTEND;TZID=Europe/Berlin:20240212T220000
DTSTAMP:20260422T211555
CREATED:20240202T092507Z
LAST-MODIFIED:20260127T134333Z
UID:10002566-1707760800-1707775200@bewusst-brueggen.de
SUMMARY:Training für Jedermann im Schachspiel
DESCRIPTION:Training für Jedermann beim Schachklub Turm Brüggen
URL:https://bewusst-brueggen.de/kalender/training-fuer-jedermann-im-schachspiel/2024-02-12/
LOCATION:Haus Mesterom\, Borner Straße 34\, Brüggen\, Nordrhein Westfalen\, 41379\, Deutschland
CATEGORIES:Vereine & Ehrenamt
ATTACH;FMTTYPE=image/jpeg:https://bewusst-brueggen.de/wp-content/uploads/2024/01/turm.jpg
ORGANIZER;CN="Schachklub Turm Br%C3%BCggen":MAILTO:wi-thiel@t-online.de
END:VEVENT
BEGIN:VEVENT
DTSTART;TZID=Europe/Berlin:20240205T180000
DTEND;TZID=Europe/Berlin:20240205T220000
DTSTAMP:20260422T211555
CREATED:20240202T092507Z
LAST-MODIFIED:20260127T134333Z
UID:10002565-1707156000-1707170400@bewusst-brueggen.de
SUMMARY:Training für Jedermann im Schachspiel
DESCRIPTION:Training für Jedermann beim Schachklub Turm Brüggen
URL:https://bewusst-brueggen.de/kalender/training-fuer-jedermann-im-schachspiel/2024-02-05/2/
LOCATION:Haus Mesterom\, Borner Straße 34\, Brüggen\, Nordrhein Westfalen\, 41379\, Deutschland
CATEGORIES:Vereine & Ehrenamt
ATTACH;FMTTYPE=image/jpeg:https://bewusst-brueggen.de/wp-content/uploads/2024/01/turm.jpg
ORGANIZER;CN="Schachklub Turm Br%C3%BCggen":MAILTO:wi-thiel@t-online.de
END:VEVENT
BEGIN:VEVENT
DTSTART;TZID=Europe/Berlin:20240205T080000
DTEND;TZID=Europe/Berlin:20240205T170000
DTSTAMP:20260422T211555
CREATED:20240202T092507Z
LAST-MODIFIED:20260127T134333Z
UID:10002564-1707120000-1707152400@bewusst-brueggen.de
SUMMARY:Training für Jedermann im Schachspiel
DESCRIPTION:Training für Jedermann beim Schachklub Turm Brüggen
URL:https://bewusst-brueggen.de/kalender/training-fuer-jedermann-im-schachspiel/2024-02-05/1/
LOCATION:Haus Mesterom\, Borner Straße 34\, Brüggen\, Nordrhein Westfalen\, 41379\, Deutschland
CATEGORIES:Vereine & Ehrenamt
ATTACH;FMTTYPE=image/jpeg:https://bewusst-brueggen.de/wp-content/uploads/2024/01/turm.jpg
ORGANIZER;CN="Schachklub Turm Br%C3%BCggen":MAILTO:wi-thiel@t-online.de
END:VEVENT
END:VCALENDAR