BEGIN:VCALENDAR
VERSION:2.0
PRODID:-//Bewusst Brüggen - ECPv6.15.20//NONSGML v1.0//EN
CALSCALE:GREGORIAN
METHOD:PUBLISH
X-WR-CALNAME:Bewusst Brüggen
X-ORIGINAL-URL:https://bewusst-brueggen.de
X-WR-CALDESC:Veranstaltungen für Bewusst Brüggen
REFRESH-INTERVAL;VALUE=DURATION:PT1H
X-Robots-Tag:noindex
X-PUBLISHED-TTL:PT1H
BEGIN:VTIMEZONE
TZID:Europe/Berlin
BEGIN:DAYLIGHT
TZOFFSETFROM:+0100
TZOFFSETTO:+0200
TZNAME:CEST
DTSTART:20250330T010000
END:DAYLIGHT
BEGIN:STANDARD
TZOFFSETFROM:+0200
TZOFFSETTO:+0100
TZNAME:CET
DTSTART:20251026T010000
END:STANDARD
BEGIN:DAYLIGHT
TZOFFSETFROM:+0100
TZOFFSETTO:+0200
TZNAME:CEST
DTSTART:20260329T010000
END:DAYLIGHT
BEGIN:STANDARD
TZOFFSETFROM:+0200
TZOFFSETTO:+0100
TZNAME:CET
DTSTART:20261025T010000
END:STANDARD
BEGIN:DAYLIGHT
TZOFFSETFROM:+0100
TZOFFSETTO:+0200
TZNAME:CEST
DTSTART:20270328T010000
END:DAYLIGHT
BEGIN:STANDARD
TZOFFSETFROM:+0200
TZOFFSETTO:+0100
TZNAME:CET
DTSTART:20271031T010000
END:STANDARD
BEGIN:DAYLIGHT
TZOFFSETFROM:+0100
TZOFFSETTO:+0200
TZNAME:CEST
DTSTART:20280326T010000
END:DAYLIGHT
BEGIN:STANDARD
TZOFFSETFROM:+0200
TZOFFSETTO:+0100
TZNAME:CET
DTSTART:20281029T010000
END:STANDARD
END:VTIMEZONE
BEGIN:VEVENT
DTSTART;TZID=Europe/Berlin:20260622T180000
DTEND;TZID=Europe/Berlin:20260622T220000
DTSTAMP:20260419T165343
CREATED:20240202T092507Z
LAST-MODIFIED:20260127T134333Z
UID:10002689-1782151200-1782165600@bewusst-brueggen.de
SUMMARY:Training für Jedermann im Schachspiel
DESCRIPTION:Training für Jedermann beim Schachklub Turm Brüggen
URL:https://bewusst-brueggen.de/kalender/training-fuer-jedermann-im-schachspiel/2026-06-22/
LOCATION:Haus Mesterom\, Borner Straße 34\, Brüggen\, Nordrhein Westfalen\, 41379\, Deutschland
CATEGORIES:Vereine & Ehrenamt
ATTACH;FMTTYPE=image/jpeg:https://bewusst-brueggen.de/wp-content/uploads/2024/01/turm.jpg
ORGANIZER;CN="Schachklub Turm Br%C3%BCggen":MAILTO:wi-thiel@t-online.de
END:VEVENT
BEGIN:VEVENT
DTSTART;TZID=Europe/Berlin:20260629T180000
DTEND;TZID=Europe/Berlin:20260629T220000
DTSTAMP:20260419T165343
CREATED:20240202T092507Z
LAST-MODIFIED:20260127T134333Z
UID:10002690-1782756000-1782770400@bewusst-brueggen.de
SUMMARY:Training für Jedermann im Schachspiel
DESCRIPTION:Training für Jedermann beim Schachklub Turm Brüggen
URL:https://bewusst-brueggen.de/kalender/training-fuer-jedermann-im-schachspiel/2026-06-29/
LOCATION:Haus Mesterom\, Borner Straße 34\, Brüggen\, Nordrhein Westfalen\, 41379\, Deutschland
CATEGORIES:Vereine & Ehrenamt
ATTACH;FMTTYPE=image/jpeg:https://bewusst-brueggen.de/wp-content/uploads/2024/01/turm.jpg
ORGANIZER;CN="Schachklub Turm Br%C3%BCggen":MAILTO:wi-thiel@t-online.de
END:VEVENT
BEGIN:VEVENT
DTSTART;TZID=Europe/Berlin:20260706T180000
DTEND;TZID=Europe/Berlin:20260706T220000
DTSTAMP:20260419T165343
CREATED:20240202T092507Z
LAST-MODIFIED:20260127T134333Z
UID:10002691-1783360800-1783375200@bewusst-brueggen.de
SUMMARY:Training für Jedermann im Schachspiel
DESCRIPTION:Training für Jedermann beim Schachklub Turm Brüggen
URL:https://bewusst-brueggen.de/kalender/training-fuer-jedermann-im-schachspiel/2026-07-06/
LOCATION:Haus Mesterom\, Borner Straße 34\, Brüggen\, Nordrhein Westfalen\, 41379\, Deutschland
CATEGORIES:Vereine & Ehrenamt
ATTACH;FMTTYPE=image/jpeg:https://bewusst-brueggen.de/wp-content/uploads/2024/01/turm.jpg
ORGANIZER;CN="Schachklub Turm Br%C3%BCggen":MAILTO:wi-thiel@t-online.de
END:VEVENT
BEGIN:VEVENT
DTSTART;TZID=Europe/Berlin:20260713T180000
DTEND;TZID=Europe/Berlin:20260713T220000
DTSTAMP:20260419T165343
CREATED:20240202T092507Z
LAST-MODIFIED:20260127T134333Z
UID:10002692-1783965600-1783980000@bewusst-brueggen.de
SUMMARY:Training für Jedermann im Schachspiel
DESCRIPTION:Training für Jedermann beim Schachklub Turm Brüggen
URL:https://bewusst-brueggen.de/kalender/training-fuer-jedermann-im-schachspiel/2026-07-13/
LOCATION:Haus Mesterom\, Borner Straße 34\, Brüggen\, Nordrhein Westfalen\, 41379\, Deutschland
CATEGORIES:Vereine & Ehrenamt
ATTACH;FMTTYPE=image/jpeg:https://bewusst-brueggen.de/wp-content/uploads/2024/01/turm.jpg
ORGANIZER;CN="Schachklub Turm Br%C3%BCggen":MAILTO:wi-thiel@t-online.de
END:VEVENT
BEGIN:VEVENT
DTSTART;TZID=Europe/Berlin:20260720T180000
DTEND;TZID=Europe/Berlin:20260720T220000
DTSTAMP:20260419T165343
CREATED:20240202T092507Z
LAST-MODIFIED:20260127T134333Z
UID:10002693-1784570400-1784584800@bewusst-brueggen.de
SUMMARY:Training für Jedermann im Schachspiel
DESCRIPTION:Training für Jedermann beim Schachklub Turm Brüggen
URL:https://bewusst-brueggen.de/kalender/training-fuer-jedermann-im-schachspiel/2026-07-20/
LOCATION:Haus Mesterom\, Borner Straße 34\, Brüggen\, Nordrhein Westfalen\, 41379\, Deutschland
CATEGORIES:Vereine & Ehrenamt
ATTACH;FMTTYPE=image/jpeg:https://bewusst-brueggen.de/wp-content/uploads/2024/01/turm.jpg
ORGANIZER;CN="Schachklub Turm Br%C3%BCggen":MAILTO:wi-thiel@t-online.de
END:VEVENT
BEGIN:VEVENT
DTSTART;TZID=Europe/Berlin:20260727T180000
DTEND;TZID=Europe/Berlin:20260727T220000
DTSTAMP:20260419T165343
CREATED:20240202T092507Z
LAST-MODIFIED:20260127T134333Z
UID:10002694-1785175200-1785189600@bewusst-brueggen.de
SUMMARY:Training für Jedermann im Schachspiel
DESCRIPTION:Training für Jedermann beim Schachklub Turm Brüggen
URL:https://bewusst-brueggen.de/kalender/training-fuer-jedermann-im-schachspiel/2026-07-27/
LOCATION:Haus Mesterom\, Borner Straße 34\, Brüggen\, Nordrhein Westfalen\, 41379\, Deutschland
CATEGORIES:Vereine & Ehrenamt
ATTACH;FMTTYPE=image/jpeg:https://bewusst-brueggen.de/wp-content/uploads/2024/01/turm.jpg
ORGANIZER;CN="Schachklub Turm Br%C3%BCggen":MAILTO:wi-thiel@t-online.de
END:VEVENT
BEGIN:VEVENT
DTSTART;TZID=Europe/Berlin:20260803T180000
DTEND;TZID=Europe/Berlin:20260803T220000
DTSTAMP:20260419T165343
CREATED:20240202T092507Z
LAST-MODIFIED:20260127T134333Z
UID:10002695-1785780000-1785794400@bewusst-brueggen.de
SUMMARY:Training für Jedermann im Schachspiel
DESCRIPTION:Training für Jedermann beim Schachklub Turm Brüggen
URL:https://bewusst-brueggen.de/kalender/training-fuer-jedermann-im-schachspiel/2026-08-03/
LOCATION:Haus Mesterom\, Borner Straße 34\, Brüggen\, Nordrhein Westfalen\, 41379\, Deutschland
CATEGORIES:Vereine & Ehrenamt
ATTACH;FMTTYPE=image/jpeg:https://bewusst-brueggen.de/wp-content/uploads/2024/01/turm.jpg
ORGANIZER;CN="Schachklub Turm Br%C3%BCggen":MAILTO:wi-thiel@t-online.de
END:VEVENT
BEGIN:VEVENT
DTSTART;TZID=Europe/Berlin:20260810T180000
DTEND;TZID=Europe/Berlin:20260810T220000
DTSTAMP:20260419T165343
CREATED:20240202T092507Z
LAST-MODIFIED:20260127T134333Z
UID:10002696-1786384800-1786399200@bewusst-brueggen.de
SUMMARY:Training für Jedermann im Schachspiel
DESCRIPTION:Training für Jedermann beim Schachklub Turm Brüggen
URL:https://bewusst-brueggen.de/kalender/training-fuer-jedermann-im-schachspiel/2026-08-10/
LOCATION:Haus Mesterom\, Borner Straße 34\, Brüggen\, Nordrhein Westfalen\, 41379\, Deutschland
CATEGORIES:Vereine & Ehrenamt
ATTACH;FMTTYPE=image/jpeg:https://bewusst-brueggen.de/wp-content/uploads/2024/01/turm.jpg
ORGANIZER;CN="Schachklub Turm Br%C3%BCggen":MAILTO:wi-thiel@t-online.de
END:VEVENT
BEGIN:VEVENT
DTSTART;TZID=Europe/Berlin:20260817T180000
DTEND;TZID=Europe/Berlin:20260817T220000
DTSTAMP:20260419T165343
CREATED:20240202T092507Z
LAST-MODIFIED:20260127T134333Z
UID:10002697-1786989600-1787004000@bewusst-brueggen.de
SUMMARY:Training für Jedermann im Schachspiel
DESCRIPTION:Training für Jedermann beim Schachklub Turm Brüggen
URL:https://bewusst-brueggen.de/kalender/training-fuer-jedermann-im-schachspiel/2026-08-17/
LOCATION:Haus Mesterom\, Borner Straße 34\, Brüggen\, Nordrhein Westfalen\, 41379\, Deutschland
CATEGORIES:Vereine & Ehrenamt
ATTACH;FMTTYPE=image/jpeg:https://bewusst-brueggen.de/wp-content/uploads/2024/01/turm.jpg
ORGANIZER;CN="Schachklub Turm Br%C3%BCggen":MAILTO:wi-thiel@t-online.de
END:VEVENT
BEGIN:VEVENT
DTSTART;TZID=Europe/Berlin:20260824T180000
DTEND;TZID=Europe/Berlin:20260824T220000
DTSTAMP:20260419T165343
CREATED:20240202T092507Z
LAST-MODIFIED:20260127T134333Z
UID:10002698-1787594400-1787608800@bewusst-brueggen.de
SUMMARY:Training für Jedermann im Schachspiel
DESCRIPTION:Training für Jedermann beim Schachklub Turm Brüggen
URL:https://bewusst-brueggen.de/kalender/training-fuer-jedermann-im-schachspiel/2026-08-24/
LOCATION:Haus Mesterom\, Borner Straße 34\, Brüggen\, Nordrhein Westfalen\, 41379\, Deutschland
CATEGORIES:Vereine & Ehrenamt
ATTACH;FMTTYPE=image/jpeg:https://bewusst-brueggen.de/wp-content/uploads/2024/01/turm.jpg
ORGANIZER;CN="Schachklub Turm Br%C3%BCggen":MAILTO:wi-thiel@t-online.de
END:VEVENT
BEGIN:VEVENT
DTSTART;TZID=Europe/Berlin:20260831T180000
DTEND;TZID=Europe/Berlin:20260831T220000
DTSTAMP:20260419T165343
CREATED:20240202T092507Z
LAST-MODIFIED:20260127T134333Z
UID:10002699-1788199200-1788213600@bewusst-brueggen.de
SUMMARY:Training für Jedermann im Schachspiel
DESCRIPTION:Training für Jedermann beim Schachklub Turm Brüggen
URL:https://bewusst-brueggen.de/kalender/training-fuer-jedermann-im-schachspiel/2026-08-31/
LOCATION:Haus Mesterom\, Borner Straße 34\, Brüggen\, Nordrhein Westfalen\, 41379\, Deutschland
CATEGORIES:Vereine & Ehrenamt
ATTACH;FMTTYPE=image/jpeg:https://bewusst-brueggen.de/wp-content/uploads/2024/01/turm.jpg
ORGANIZER;CN="Schachklub Turm Br%C3%BCggen":MAILTO:wi-thiel@t-online.de
END:VEVENT
BEGIN:VEVENT
DTSTART;TZID=Europe/Berlin:20260907T180000
DTEND;TZID=Europe/Berlin:20260907T220000
DTSTAMP:20260419T165343
CREATED:20240202T092507Z
LAST-MODIFIED:20260127T134333Z
UID:10002700-1788804000-1788818400@bewusst-brueggen.de
SUMMARY:Training für Jedermann im Schachspiel
DESCRIPTION:Training für Jedermann beim Schachklub Turm Brüggen
URL:https://bewusst-brueggen.de/kalender/training-fuer-jedermann-im-schachspiel/2026-09-07/
LOCATION:Haus Mesterom\, Borner Straße 34\, Brüggen\, Nordrhein Westfalen\, 41379\, Deutschland
CATEGORIES:Vereine & Ehrenamt
ATTACH;FMTTYPE=image/jpeg:https://bewusst-brueggen.de/wp-content/uploads/2024/01/turm.jpg
ORGANIZER;CN="Schachklub Turm Br%C3%BCggen":MAILTO:wi-thiel@t-online.de
END:VEVENT
BEGIN:VEVENT
DTSTART;TZID=Europe/Berlin:20260914T180000
DTEND;TZID=Europe/Berlin:20260914T220000
DTSTAMP:20260419T165343
CREATED:20240202T092507Z
LAST-MODIFIED:20260127T134333Z
UID:10002701-1789408800-1789423200@bewusst-brueggen.de
SUMMARY:Training für Jedermann im Schachspiel
DESCRIPTION:Training für Jedermann beim Schachklub Turm Brüggen
URL:https://bewusst-brueggen.de/kalender/training-fuer-jedermann-im-schachspiel/2026-09-14/
LOCATION:Haus Mesterom\, Borner Straße 34\, Brüggen\, Nordrhein Westfalen\, 41379\, Deutschland
CATEGORIES:Vereine & Ehrenamt
ATTACH;FMTTYPE=image/jpeg:https://bewusst-brueggen.de/wp-content/uploads/2024/01/turm.jpg
ORGANIZER;CN="Schachklub Turm Br%C3%BCggen":MAILTO:wi-thiel@t-online.de
END:VEVENT
BEGIN:VEVENT
DTSTART;TZID=Europe/Berlin:20260921T180000
DTEND;TZID=Europe/Berlin:20260921T220000
DTSTAMP:20260419T165343
CREATED:20240202T092507Z
LAST-MODIFIED:20260127T134333Z
UID:10002702-1790013600-1790028000@bewusst-brueggen.de
SUMMARY:Training für Jedermann im Schachspiel
DESCRIPTION:Training für Jedermann beim Schachklub Turm Brüggen
URL:https://bewusst-brueggen.de/kalender/training-fuer-jedermann-im-schachspiel/2026-09-21/
LOCATION:Haus Mesterom\, Borner Straße 34\, Brüggen\, Nordrhein Westfalen\, 41379\, Deutschland
CATEGORIES:Vereine & Ehrenamt
ATTACH;FMTTYPE=image/jpeg:https://bewusst-brueggen.de/wp-content/uploads/2024/01/turm.jpg
ORGANIZER;CN="Schachklub Turm Br%C3%BCggen":MAILTO:wi-thiel@t-online.de
END:VEVENT
BEGIN:VEVENT
DTSTART;TZID=Europe/Berlin:20260928T180000
DTEND;TZID=Europe/Berlin:20260928T220000
DTSTAMP:20260419T165343
CREATED:20240202T092507Z
LAST-MODIFIED:20260127T134333Z
UID:10002703-1790618400-1790632800@bewusst-brueggen.de
SUMMARY:Training für Jedermann im Schachspiel
DESCRIPTION:Training für Jedermann beim Schachklub Turm Brüggen
URL:https://bewusst-brueggen.de/kalender/training-fuer-jedermann-im-schachspiel/2026-09-28/
LOCATION:Haus Mesterom\, Borner Straße 34\, Brüggen\, Nordrhein Westfalen\, 41379\, Deutschland
CATEGORIES:Vereine & Ehrenamt
ATTACH;FMTTYPE=image/jpeg:https://bewusst-brueggen.de/wp-content/uploads/2024/01/turm.jpg
ORGANIZER;CN="Schachklub Turm Br%C3%BCggen":MAILTO:wi-thiel@t-online.de
END:VEVENT
BEGIN:VEVENT
DTSTART;TZID=Europe/Berlin:20261005T180000
DTEND;TZID=Europe/Berlin:20261005T220000
DTSTAMP:20260419T165343
CREATED:20240202T092507Z
LAST-MODIFIED:20260127T134333Z
UID:10002704-1791223200-1791237600@bewusst-brueggen.de
SUMMARY:Training für Jedermann im Schachspiel
DESCRIPTION:Training für Jedermann beim Schachklub Turm Brüggen
URL:https://bewusst-brueggen.de/kalender/training-fuer-jedermann-im-schachspiel/2026-10-05/
LOCATION:Haus Mesterom\, Borner Straße 34\, Brüggen\, Nordrhein Westfalen\, 41379\, Deutschland
CATEGORIES:Vereine & Ehrenamt
ATTACH;FMTTYPE=image/jpeg:https://bewusst-brueggen.de/wp-content/uploads/2024/01/turm.jpg
ORGANIZER;CN="Schachklub Turm Br%C3%BCggen":MAILTO:wi-thiel@t-online.de
END:VEVENT
BEGIN:VEVENT
DTSTART;TZID=Europe/Berlin:20261012T180000
DTEND;TZID=Europe/Berlin:20261012T220000
DTSTAMP:20260419T165343
CREATED:20240202T092507Z
LAST-MODIFIED:20260127T134333Z
UID:10002705-1791828000-1791842400@bewusst-brueggen.de
SUMMARY:Training für Jedermann im Schachspiel
DESCRIPTION:Training für Jedermann beim Schachklub Turm Brüggen
URL:https://bewusst-brueggen.de/kalender/training-fuer-jedermann-im-schachspiel/2026-10-12/
LOCATION:Haus Mesterom\, Borner Straße 34\, Brüggen\, Nordrhein Westfalen\, 41379\, Deutschland
CATEGORIES:Vereine & Ehrenamt
ATTACH;FMTTYPE=image/jpeg:https://bewusst-brueggen.de/wp-content/uploads/2024/01/turm.jpg
ORGANIZER;CN="Schachklub Turm Br%C3%BCggen":MAILTO:wi-thiel@t-online.de
END:VEVENT
BEGIN:VEVENT
DTSTART;TZID=Europe/Berlin:20261019T180000
DTEND;TZID=Europe/Berlin:20261019T220000
DTSTAMP:20260419T165343
CREATED:20240202T092507Z
LAST-MODIFIED:20260127T134333Z
UID:10002706-1792432800-1792447200@bewusst-brueggen.de
SUMMARY:Training für Jedermann im Schachspiel
DESCRIPTION:Training für Jedermann beim Schachklub Turm Brüggen
URL:https://bewusst-brueggen.de/kalender/training-fuer-jedermann-im-schachspiel/2026-10-19/
LOCATION:Haus Mesterom\, Borner Straße 34\, Brüggen\, Nordrhein Westfalen\, 41379\, Deutschland
CATEGORIES:Vereine & Ehrenamt
ATTACH;FMTTYPE=image/jpeg:https://bewusst-brueggen.de/wp-content/uploads/2024/01/turm.jpg
ORGANIZER;CN="Schachklub Turm Br%C3%BCggen":MAILTO:wi-thiel@t-online.de
END:VEVENT
BEGIN:VEVENT
DTSTART;TZID=Europe/Berlin:20261026T180000
DTEND;TZID=Europe/Berlin:20261026T220000
DTSTAMP:20260419T165343
CREATED:20240202T092507Z
LAST-MODIFIED:20260127T134333Z
UID:10002707-1793037600-1793052000@bewusst-brueggen.de
SUMMARY:Training für Jedermann im Schachspiel
DESCRIPTION:Training für Jedermann beim Schachklub Turm Brüggen
URL:https://bewusst-brueggen.de/kalender/training-fuer-jedermann-im-schachspiel/2026-10-26/
LOCATION:Haus Mesterom\, Borner Straße 34\, Brüggen\, Nordrhein Westfalen\, 41379\, Deutschland
CATEGORIES:Vereine & Ehrenamt
ATTACH;FMTTYPE=image/jpeg:https://bewusst-brueggen.de/wp-content/uploads/2024/01/turm.jpg
ORGANIZER;CN="Schachklub Turm Br%C3%BCggen":MAILTO:wi-thiel@t-online.de
END:VEVENT
BEGIN:VEVENT
DTSTART;TZID=Europe/Berlin:20261102T180000
DTEND;TZID=Europe/Berlin:20261102T220000
DTSTAMP:20260419T165343
CREATED:20240202T092507Z
LAST-MODIFIED:20260127T134333Z
UID:10002708-1793642400-1793656800@bewusst-brueggen.de
SUMMARY:Training für Jedermann im Schachspiel
DESCRIPTION:Training für Jedermann beim Schachklub Turm Brüggen
URL:https://bewusst-brueggen.de/kalender/training-fuer-jedermann-im-schachspiel/2026-11-02/
LOCATION:Haus Mesterom\, Borner Straße 34\, Brüggen\, Nordrhein Westfalen\, 41379\, Deutschland
CATEGORIES:Vereine & Ehrenamt
ATTACH;FMTTYPE=image/jpeg:https://bewusst-brueggen.de/wp-content/uploads/2024/01/turm.jpg
ORGANIZER;CN="Schachklub Turm Br%C3%BCggen":MAILTO:wi-thiel@t-online.de
END:VEVENT
BEGIN:VEVENT
DTSTART;TZID=Europe/Berlin:20261109T180000
DTEND;TZID=Europe/Berlin:20261109T220000
DTSTAMP:20260419T165343
CREATED:20240202T092507Z
LAST-MODIFIED:20260127T134333Z
UID:10002709-1794247200-1794261600@bewusst-brueggen.de
SUMMARY:Training für Jedermann im Schachspiel
DESCRIPTION:Training für Jedermann beim Schachklub Turm Brüggen
URL:https://bewusst-brueggen.de/kalender/training-fuer-jedermann-im-schachspiel/2026-11-09/
LOCATION:Haus Mesterom\, Borner Straße 34\, Brüggen\, Nordrhein Westfalen\, 41379\, Deutschland
CATEGORIES:Vereine & Ehrenamt
ATTACH;FMTTYPE=image/jpeg:https://bewusst-brueggen.de/wp-content/uploads/2024/01/turm.jpg
ORGANIZER;CN="Schachklub Turm Br%C3%BCggen":MAILTO:wi-thiel@t-online.de
END:VEVENT
BEGIN:VEVENT
DTSTART;TZID=Europe/Berlin:20261116T180000
DTEND;TZID=Europe/Berlin:20261116T220000
DTSTAMP:20260419T165343
CREATED:20240202T092507Z
LAST-MODIFIED:20260127T134333Z
UID:10002710-1794852000-1794866400@bewusst-brueggen.de
SUMMARY:Training für Jedermann im Schachspiel
DESCRIPTION:Training für Jedermann beim Schachklub Turm Brüggen
URL:https://bewusst-brueggen.de/kalender/training-fuer-jedermann-im-schachspiel/2026-11-16/
LOCATION:Haus Mesterom\, Borner Straße 34\, Brüggen\, Nordrhein Westfalen\, 41379\, Deutschland
CATEGORIES:Vereine & Ehrenamt
ATTACH;FMTTYPE=image/jpeg:https://bewusst-brueggen.de/wp-content/uploads/2024/01/turm.jpg
ORGANIZER;CN="Schachklub Turm Br%C3%BCggen":MAILTO:wi-thiel@t-online.de
END:VEVENT
BEGIN:VEVENT
DTSTART;TZID=Europe/Berlin:20261123T180000
DTEND;TZID=Europe/Berlin:20261123T220000
DTSTAMP:20260419T165343
CREATED:20240202T092507Z
LAST-MODIFIED:20260127T134333Z
UID:10002711-1795456800-1795471200@bewusst-brueggen.de
SUMMARY:Training für Jedermann im Schachspiel
DESCRIPTION:Training für Jedermann beim Schachklub Turm Brüggen
URL:https://bewusst-brueggen.de/kalender/training-fuer-jedermann-im-schachspiel/2026-11-23/
LOCATION:Haus Mesterom\, Borner Straße 34\, Brüggen\, Nordrhein Westfalen\, 41379\, Deutschland
CATEGORIES:Vereine & Ehrenamt
ATTACH;FMTTYPE=image/jpeg:https://bewusst-brueggen.de/wp-content/uploads/2024/01/turm.jpg
ORGANIZER;CN="Schachklub Turm Br%C3%BCggen":MAILTO:wi-thiel@t-online.de
END:VEVENT
BEGIN:VEVENT
DTSTART;TZID=Europe/Berlin:20261130T180000
DTEND;TZID=Europe/Berlin:20261130T220000
DTSTAMP:20260419T165343
CREATED:20240202T092507Z
LAST-MODIFIED:20260127T134333Z
UID:10002712-1796061600-1796076000@bewusst-brueggen.de
SUMMARY:Training für Jedermann im Schachspiel
DESCRIPTION:Training für Jedermann beim Schachklub Turm Brüggen
URL:https://bewusst-brueggen.de/kalender/training-fuer-jedermann-im-schachspiel/2026-11-30/
LOCATION:Haus Mesterom\, Borner Straße 34\, Brüggen\, Nordrhein Westfalen\, 41379\, Deutschland
CATEGORIES:Vereine & Ehrenamt
ATTACH;FMTTYPE=image/jpeg:https://bewusst-brueggen.de/wp-content/uploads/2024/01/turm.jpg
ORGANIZER;CN="Schachklub Turm Br%C3%BCggen":MAILTO:wi-thiel@t-online.de
END:VEVENT
BEGIN:VEVENT
DTSTART;TZID=Europe/Berlin:20261207T180000
DTEND;TZID=Europe/Berlin:20261207T220000
DTSTAMP:20260419T165343
CREATED:20240202T092507Z
LAST-MODIFIED:20260127T134333Z
UID:10002713-1796666400-1796680800@bewusst-brueggen.de
SUMMARY:Training für Jedermann im Schachspiel
DESCRIPTION:Training für Jedermann beim Schachklub Turm Brüggen
URL:https://bewusst-brueggen.de/kalender/training-fuer-jedermann-im-schachspiel/2026-12-07/
LOCATION:Haus Mesterom\, Borner Straße 34\, Brüggen\, Nordrhein Westfalen\, 41379\, Deutschland
CATEGORIES:Vereine & Ehrenamt
ATTACH;FMTTYPE=image/jpeg:https://bewusst-brueggen.de/wp-content/uploads/2024/01/turm.jpg
ORGANIZER;CN="Schachklub Turm Br%C3%BCggen":MAILTO:wi-thiel@t-online.de
END:VEVENT
BEGIN:VEVENT
DTSTART;TZID=Europe/Berlin:20261214T180000
DTEND;TZID=Europe/Berlin:20261214T220000
DTSTAMP:20260419T165343
CREATED:20240202T092507Z
LAST-MODIFIED:20260127T134333Z
UID:10002714-1797271200-1797285600@bewusst-brueggen.de
SUMMARY:Training für Jedermann im Schachspiel
DESCRIPTION:Training für Jedermann beim Schachklub Turm Brüggen
URL:https://bewusst-brueggen.de/kalender/training-fuer-jedermann-im-schachspiel/2026-12-14/
LOCATION:Haus Mesterom\, Borner Straße 34\, Brüggen\, Nordrhein Westfalen\, 41379\, Deutschland
CATEGORIES:Vereine & Ehrenamt
ATTACH;FMTTYPE=image/jpeg:https://bewusst-brueggen.de/wp-content/uploads/2024/01/turm.jpg
ORGANIZER;CN="Schachklub Turm Br%C3%BCggen":MAILTO:wi-thiel@t-online.de
END:VEVENT
BEGIN:VEVENT
DTSTART;TZID=Europe/Berlin:20261221T180000
DTEND;TZID=Europe/Berlin:20261221T220000
DTSTAMP:20260419T165343
CREATED:20240202T092507Z
LAST-MODIFIED:20260127T134333Z
UID:10002715-1797876000-1797890400@bewusst-brueggen.de
SUMMARY:Training für Jedermann im Schachspiel
DESCRIPTION:Training für Jedermann beim Schachklub Turm Brüggen
URL:https://bewusst-brueggen.de/kalender/training-fuer-jedermann-im-schachspiel/2026-12-21/
LOCATION:Haus Mesterom\, Borner Straße 34\, Brüggen\, Nordrhein Westfalen\, 41379\, Deutschland
CATEGORIES:Vereine & Ehrenamt
ATTACH;FMTTYPE=image/jpeg:https://bewusst-brueggen.de/wp-content/uploads/2024/01/turm.jpg
ORGANIZER;CN="Schachklub Turm Br%C3%BCggen":MAILTO:wi-thiel@t-online.de
END:VEVENT
BEGIN:VEVENT
DTSTART;TZID=Europe/Berlin:20261228T180000
DTEND;TZID=Europe/Berlin:20261228T220000
DTSTAMP:20260419T165343
CREATED:20240202T092507Z
LAST-MODIFIED:20260127T134333Z
UID:10002716-1798480800-1798495200@bewusst-brueggen.de
SUMMARY:Training für Jedermann im Schachspiel
DESCRIPTION:Training für Jedermann beim Schachklub Turm Brüggen
URL:https://bewusst-brueggen.de/kalender/training-fuer-jedermann-im-schachspiel/2026-12-28/
LOCATION:Haus Mesterom\, Borner Straße 34\, Brüggen\, Nordrhein Westfalen\, 41379\, Deutschland
CATEGORIES:Vereine & Ehrenamt
ATTACH;FMTTYPE=image/jpeg:https://bewusst-brueggen.de/wp-content/uploads/2024/01/turm.jpg
ORGANIZER;CN="Schachklub Turm Br%C3%BCggen":MAILTO:wi-thiel@t-online.de
END:VEVENT
BEGIN:VEVENT
DTSTART;TZID=Europe/Berlin:20270104T180000
DTEND;TZID=Europe/Berlin:20270104T220000
DTSTAMP:20260419T165343
CREATED:20240202T092507Z
LAST-MODIFIED:20260127T134333Z
UID:10002717-1799085600-1799100000@bewusst-brueggen.de
SUMMARY:Training für Jedermann im Schachspiel
DESCRIPTION:Training für Jedermann beim Schachklub Turm Brüggen
URL:https://bewusst-brueggen.de/kalender/training-fuer-jedermann-im-schachspiel/2027-01-04/
LOCATION:Haus Mesterom\, Borner Straße 34\, Brüggen\, Nordrhein Westfalen\, 41379\, Deutschland
CATEGORIES:Vereine & Ehrenamt
ATTACH;FMTTYPE=image/jpeg:https://bewusst-brueggen.de/wp-content/uploads/2024/01/turm.jpg
ORGANIZER;CN="Schachklub Turm Br%C3%BCggen":MAILTO:wi-thiel@t-online.de
END:VEVENT
BEGIN:VEVENT
DTSTART;TZID=Europe/Berlin:20270111T180000
DTEND;TZID=Europe/Berlin:20270111T220000
DTSTAMP:20260419T165343
CREATED:20240202T092507Z
LAST-MODIFIED:20260127T134333Z
UID:10002718-1799690400-1799704800@bewusst-brueggen.de
SUMMARY:Training für Jedermann im Schachspiel
DESCRIPTION:Training für Jedermann beim Schachklub Turm Brüggen
URL:https://bewusst-brueggen.de/kalender/training-fuer-jedermann-im-schachspiel/2027-01-11/
LOCATION:Haus Mesterom\, Borner Straße 34\, Brüggen\, Nordrhein Westfalen\, 41379\, Deutschland
CATEGORIES:Vereine & Ehrenamt
ATTACH;FMTTYPE=image/jpeg:https://bewusst-brueggen.de/wp-content/uploads/2024/01/turm.jpg
ORGANIZER;CN="Schachklub Turm Br%C3%BCggen":MAILTO:wi-thiel@t-online.de
END:VEVENT
END:VCALENDAR