BEGIN:VCALENDAR
VERSION:2.0
PRODID:-//Bewusst Brüggen - ECPv6.15.20//NONSGML v1.0//EN
CALSCALE:GREGORIAN
METHOD:PUBLISH
X-WR-CALNAME:Bewusst Brüggen
X-ORIGINAL-URL:https://bewusst-brueggen.de
X-WR-CALDESC:Veranstaltungen für Bewusst Brüggen
REFRESH-INTERVAL;VALUE=DURATION:PT1H
X-Robots-Tag:noindex
X-PUBLISHED-TTL:PT1H
BEGIN:VTIMEZONE
TZID:Europe/Berlin
BEGIN:DAYLIGHT
TZOFFSETFROM:+0100
TZOFFSETTO:+0200
TZNAME:CEST
DTSTART:20240331T010000
END:DAYLIGHT
BEGIN:STANDARD
TZOFFSETFROM:+0200
TZOFFSETTO:+0100
TZNAME:CET
DTSTART:20241027T010000
END:STANDARD
BEGIN:DAYLIGHT
TZOFFSETFROM:+0100
TZOFFSETTO:+0200
TZNAME:CEST
DTSTART:20250330T010000
END:DAYLIGHT
BEGIN:STANDARD
TZOFFSETFROM:+0200
TZOFFSETTO:+0100
TZNAME:CET
DTSTART:20251026T010000
END:STANDARD
BEGIN:DAYLIGHT
TZOFFSETFROM:+0100
TZOFFSETTO:+0200
TZNAME:CEST
DTSTART:20260329T010000
END:DAYLIGHT
BEGIN:STANDARD
TZOFFSETFROM:+0200
TZOFFSETTO:+0100
TZNAME:CET
DTSTART:20261025T010000
END:STANDARD
END:VTIMEZONE
BEGIN:VEVENT
DTSTART;TZID=Europe/Berlin:20251006T180000
DTEND;TZID=Europe/Berlin:20251006T220000
DTSTAMP:20260419T232251
CREATED:20240202T092507Z
LAST-MODIFIED:20260127T134333Z
UID:10002652-1759773600-1759788000@bewusst-brueggen.de
SUMMARY:Training für Jedermann im Schachspiel
DESCRIPTION:Training für Jedermann beim Schachklub Turm Brüggen
URL:https://bewusst-brueggen.de/kalender/training-fuer-jedermann-im-schachspiel/2025-10-06/
LOCATION:Haus Mesterom\, Borner Straße 34\, Brüggen\, Nordrhein Westfalen\, 41379\, Deutschland
CATEGORIES:Vereine & Ehrenamt
ATTACH;FMTTYPE=image/jpeg:https://bewusst-brueggen.de/wp-content/uploads/2024/01/turm.jpg
ORGANIZER;CN="Schachklub Turm Br%C3%BCggen":MAILTO:wi-thiel@t-online.de
END:VEVENT
BEGIN:VEVENT
DTSTART;TZID=Europe/Berlin:20250929T180000
DTEND;TZID=Europe/Berlin:20250929T220000
DTSTAMP:20260419T232251
CREATED:20240202T092507Z
LAST-MODIFIED:20260127T134333Z
UID:10002651-1759168800-1759183200@bewusst-brueggen.de
SUMMARY:Training für Jedermann im Schachspiel
DESCRIPTION:Training für Jedermann beim Schachklub Turm Brüggen
URL:https://bewusst-brueggen.de/kalender/training-fuer-jedermann-im-schachspiel/2025-09-29/
LOCATION:Haus Mesterom\, Borner Straße 34\, Brüggen\, Nordrhein Westfalen\, 41379\, Deutschland
CATEGORIES:Vereine & Ehrenamt
ATTACH;FMTTYPE=image/jpeg:https://bewusst-brueggen.de/wp-content/uploads/2024/01/turm.jpg
ORGANIZER;CN="Schachklub Turm Br%C3%BCggen":MAILTO:wi-thiel@t-online.de
END:VEVENT
BEGIN:VEVENT
DTSTART;TZID=Europe/Berlin:20250922T180000
DTEND;TZID=Europe/Berlin:20250922T220000
DTSTAMP:20260419T232251
CREATED:20240202T092507Z
LAST-MODIFIED:20260127T134333Z
UID:10002650-1758564000-1758578400@bewusst-brueggen.de
SUMMARY:Training für Jedermann im Schachspiel
DESCRIPTION:Training für Jedermann beim Schachklub Turm Brüggen
URL:https://bewusst-brueggen.de/kalender/training-fuer-jedermann-im-schachspiel/2025-09-22/
LOCATION:Haus Mesterom\, Borner Straße 34\, Brüggen\, Nordrhein Westfalen\, 41379\, Deutschland
CATEGORIES:Vereine & Ehrenamt
ATTACH;FMTTYPE=image/jpeg:https://bewusst-brueggen.de/wp-content/uploads/2024/01/turm.jpg
ORGANIZER;CN="Schachklub Turm Br%C3%BCggen":MAILTO:wi-thiel@t-online.de
END:VEVENT
BEGIN:VEVENT
DTSTART;TZID=Europe/Berlin:20250915T180000
DTEND;TZID=Europe/Berlin:20250915T220000
DTSTAMP:20260419T232251
CREATED:20240202T092507Z
LAST-MODIFIED:20260127T134333Z
UID:10002649-1757959200-1757973600@bewusst-brueggen.de
SUMMARY:Training für Jedermann im Schachspiel
DESCRIPTION:Training für Jedermann beim Schachklub Turm Brüggen
URL:https://bewusst-brueggen.de/kalender/training-fuer-jedermann-im-schachspiel/2025-09-15/
LOCATION:Haus Mesterom\, Borner Straße 34\, Brüggen\, Nordrhein Westfalen\, 41379\, Deutschland
CATEGORIES:Vereine & Ehrenamt
ATTACH;FMTTYPE=image/jpeg:https://bewusst-brueggen.de/wp-content/uploads/2024/01/turm.jpg
ORGANIZER;CN="Schachklub Turm Br%C3%BCggen":MAILTO:wi-thiel@t-online.de
END:VEVENT
BEGIN:VEVENT
DTSTART;TZID=Europe/Berlin:20250908T180000
DTEND;TZID=Europe/Berlin:20250908T220000
DTSTAMP:20260419T232251
CREATED:20240202T092507Z
LAST-MODIFIED:20260127T134333Z
UID:10002648-1757354400-1757368800@bewusst-brueggen.de
SUMMARY:Training für Jedermann im Schachspiel
DESCRIPTION:Training für Jedermann beim Schachklub Turm Brüggen
URL:https://bewusst-brueggen.de/kalender/training-fuer-jedermann-im-schachspiel/2025-09-08/
LOCATION:Haus Mesterom\, Borner Straße 34\, Brüggen\, Nordrhein Westfalen\, 41379\, Deutschland
CATEGORIES:Vereine & Ehrenamt
ATTACH;FMTTYPE=image/jpeg:https://bewusst-brueggen.de/wp-content/uploads/2024/01/turm.jpg
ORGANIZER;CN="Schachklub Turm Br%C3%BCggen":MAILTO:wi-thiel@t-online.de
END:VEVENT
BEGIN:VEVENT
DTSTART;TZID=Europe/Berlin:20250901T180000
DTEND;TZID=Europe/Berlin:20250901T220000
DTSTAMP:20260419T232251
CREATED:20240202T092507Z
LAST-MODIFIED:20260127T134333Z
UID:10002647-1756749600-1756764000@bewusst-brueggen.de
SUMMARY:Training für Jedermann im Schachspiel
DESCRIPTION:Training für Jedermann beim Schachklub Turm Brüggen
URL:https://bewusst-brueggen.de/kalender/training-fuer-jedermann-im-schachspiel/2025-09-01/
LOCATION:Haus Mesterom\, Borner Straße 34\, Brüggen\, Nordrhein Westfalen\, 41379\, Deutschland
CATEGORIES:Vereine & Ehrenamt
ATTACH;FMTTYPE=image/jpeg:https://bewusst-brueggen.de/wp-content/uploads/2024/01/turm.jpg
ORGANIZER;CN="Schachklub Turm Br%C3%BCggen":MAILTO:wi-thiel@t-online.de
END:VEVENT
BEGIN:VEVENT
DTSTART;TZID=Europe/Berlin:20250825T180000
DTEND;TZID=Europe/Berlin:20250825T220000
DTSTAMP:20260419T232251
CREATED:20240202T092507Z
LAST-MODIFIED:20260127T134333Z
UID:10002646-1756144800-1756159200@bewusst-brueggen.de
SUMMARY:Training für Jedermann im Schachspiel
DESCRIPTION:Training für Jedermann beim Schachklub Turm Brüggen
URL:https://bewusst-brueggen.de/kalender/training-fuer-jedermann-im-schachspiel/2025-08-25/
LOCATION:Haus Mesterom\, Borner Straße 34\, Brüggen\, Nordrhein Westfalen\, 41379\, Deutschland
CATEGORIES:Vereine & Ehrenamt
ATTACH;FMTTYPE=image/jpeg:https://bewusst-brueggen.de/wp-content/uploads/2024/01/turm.jpg
ORGANIZER;CN="Schachklub Turm Br%C3%BCggen":MAILTO:wi-thiel@t-online.de
END:VEVENT
BEGIN:VEVENT
DTSTART;TZID=Europe/Berlin:20250818T180000
DTEND;TZID=Europe/Berlin:20250818T220000
DTSTAMP:20260419T232251
CREATED:20240202T092507Z
LAST-MODIFIED:20260127T134333Z
UID:10002645-1755540000-1755554400@bewusst-brueggen.de
SUMMARY:Training für Jedermann im Schachspiel
DESCRIPTION:Training für Jedermann beim Schachklub Turm Brüggen
URL:https://bewusst-brueggen.de/kalender/training-fuer-jedermann-im-schachspiel/2025-08-18/
LOCATION:Haus Mesterom\, Borner Straße 34\, Brüggen\, Nordrhein Westfalen\, 41379\, Deutschland
CATEGORIES:Vereine & Ehrenamt
ATTACH;FMTTYPE=image/jpeg:https://bewusst-brueggen.de/wp-content/uploads/2024/01/turm.jpg
ORGANIZER;CN="Schachklub Turm Br%C3%BCggen":MAILTO:wi-thiel@t-online.de
END:VEVENT
BEGIN:VEVENT
DTSTART;TZID=Europe/Berlin:20250811T180000
DTEND;TZID=Europe/Berlin:20250811T220000
DTSTAMP:20260419T232251
CREATED:20240202T092507Z
LAST-MODIFIED:20260127T134333Z
UID:10002644-1754935200-1754949600@bewusst-brueggen.de
SUMMARY:Training für Jedermann im Schachspiel
DESCRIPTION:Training für Jedermann beim Schachklub Turm Brüggen
URL:https://bewusst-brueggen.de/kalender/training-fuer-jedermann-im-schachspiel/2025-08-11/
LOCATION:Haus Mesterom\, Borner Straße 34\, Brüggen\, Nordrhein Westfalen\, 41379\, Deutschland
CATEGORIES:Vereine & Ehrenamt
ATTACH;FMTTYPE=image/jpeg:https://bewusst-brueggen.de/wp-content/uploads/2024/01/turm.jpg
ORGANIZER;CN="Schachklub Turm Br%C3%BCggen":MAILTO:wi-thiel@t-online.de
END:VEVENT
BEGIN:VEVENT
DTSTART;TZID=Europe/Berlin:20250804T180000
DTEND;TZID=Europe/Berlin:20250804T220000
DTSTAMP:20260419T232251
CREATED:20240202T092507Z
LAST-MODIFIED:20260127T134333Z
UID:10002643-1754330400-1754344800@bewusst-brueggen.de
SUMMARY:Training für Jedermann im Schachspiel
DESCRIPTION:Training für Jedermann beim Schachklub Turm Brüggen
URL:https://bewusst-brueggen.de/kalender/training-fuer-jedermann-im-schachspiel/2025-08-04/
LOCATION:Haus Mesterom\, Borner Straße 34\, Brüggen\, Nordrhein Westfalen\, 41379\, Deutschland
CATEGORIES:Vereine & Ehrenamt
ATTACH;FMTTYPE=image/jpeg:https://bewusst-brueggen.de/wp-content/uploads/2024/01/turm.jpg
ORGANIZER;CN="Schachklub Turm Br%C3%BCggen":MAILTO:wi-thiel@t-online.de
END:VEVENT
BEGIN:VEVENT
DTSTART;TZID=Europe/Berlin:20250728T180000
DTEND;TZID=Europe/Berlin:20250728T220000
DTSTAMP:20260419T232251
CREATED:20240202T092507Z
LAST-MODIFIED:20260127T134333Z
UID:10002642-1753725600-1753740000@bewusst-brueggen.de
SUMMARY:Training für Jedermann im Schachspiel
DESCRIPTION:Training für Jedermann beim Schachklub Turm Brüggen
URL:https://bewusst-brueggen.de/kalender/training-fuer-jedermann-im-schachspiel/2025-07-28/
LOCATION:Haus Mesterom\, Borner Straße 34\, Brüggen\, Nordrhein Westfalen\, 41379\, Deutschland
CATEGORIES:Vereine & Ehrenamt
ATTACH;FMTTYPE=image/jpeg:https://bewusst-brueggen.de/wp-content/uploads/2024/01/turm.jpg
ORGANIZER;CN="Schachklub Turm Br%C3%BCggen":MAILTO:wi-thiel@t-online.de
END:VEVENT
BEGIN:VEVENT
DTSTART;TZID=Europe/Berlin:20250721T180000
DTEND;TZID=Europe/Berlin:20250721T220000
DTSTAMP:20260419T232251
CREATED:20240202T092507Z
LAST-MODIFIED:20260127T134333Z
UID:10002641-1753120800-1753135200@bewusst-brueggen.de
SUMMARY:Training für Jedermann im Schachspiel
DESCRIPTION:Training für Jedermann beim Schachklub Turm Brüggen
URL:https://bewusst-brueggen.de/kalender/training-fuer-jedermann-im-schachspiel/2025-07-21/
LOCATION:Haus Mesterom\, Borner Straße 34\, Brüggen\, Nordrhein Westfalen\, 41379\, Deutschland
CATEGORIES:Vereine & Ehrenamt
ATTACH;FMTTYPE=image/jpeg:https://bewusst-brueggen.de/wp-content/uploads/2024/01/turm.jpg
ORGANIZER;CN="Schachklub Turm Br%C3%BCggen":MAILTO:wi-thiel@t-online.de
END:VEVENT
BEGIN:VEVENT
DTSTART;TZID=Europe/Berlin:20250714T180000
DTEND;TZID=Europe/Berlin:20250714T220000
DTSTAMP:20260419T232251
CREATED:20240202T092507Z
LAST-MODIFIED:20260127T134333Z
UID:10002640-1752516000-1752530400@bewusst-brueggen.de
SUMMARY:Training für Jedermann im Schachspiel
DESCRIPTION:Training für Jedermann beim Schachklub Turm Brüggen
URL:https://bewusst-brueggen.de/kalender/training-fuer-jedermann-im-schachspiel/2025-07-14/
LOCATION:Haus Mesterom\, Borner Straße 34\, Brüggen\, Nordrhein Westfalen\, 41379\, Deutschland
CATEGORIES:Vereine & Ehrenamt
ATTACH;FMTTYPE=image/jpeg:https://bewusst-brueggen.de/wp-content/uploads/2024/01/turm.jpg
ORGANIZER;CN="Schachklub Turm Br%C3%BCggen":MAILTO:wi-thiel@t-online.de
END:VEVENT
BEGIN:VEVENT
DTSTART;TZID=Europe/Berlin:20250707T180000
DTEND;TZID=Europe/Berlin:20250707T220000
DTSTAMP:20260419T232251
CREATED:20240202T092507Z
LAST-MODIFIED:20260127T134333Z
UID:10002639-1751911200-1751925600@bewusst-brueggen.de
SUMMARY:Training für Jedermann im Schachspiel
DESCRIPTION:Training für Jedermann beim Schachklub Turm Brüggen
URL:https://bewusst-brueggen.de/kalender/training-fuer-jedermann-im-schachspiel/2025-07-07/
LOCATION:Haus Mesterom\, Borner Straße 34\, Brüggen\, Nordrhein Westfalen\, 41379\, Deutschland
CATEGORIES:Vereine & Ehrenamt
ATTACH;FMTTYPE=image/jpeg:https://bewusst-brueggen.de/wp-content/uploads/2024/01/turm.jpg
ORGANIZER;CN="Schachklub Turm Br%C3%BCggen":MAILTO:wi-thiel@t-online.de
END:VEVENT
BEGIN:VEVENT
DTSTART;TZID=Europe/Berlin:20250630T180000
DTEND;TZID=Europe/Berlin:20250630T220000
DTSTAMP:20260419T232251
CREATED:20240202T092507Z
LAST-MODIFIED:20260127T134333Z
UID:10002638-1751306400-1751320800@bewusst-brueggen.de
SUMMARY:Training für Jedermann im Schachspiel
DESCRIPTION:Training für Jedermann beim Schachklub Turm Brüggen
URL:https://bewusst-brueggen.de/kalender/training-fuer-jedermann-im-schachspiel/2025-06-30/
LOCATION:Haus Mesterom\, Borner Straße 34\, Brüggen\, Nordrhein Westfalen\, 41379\, Deutschland
CATEGORIES:Vereine & Ehrenamt
ATTACH;FMTTYPE=image/jpeg:https://bewusst-brueggen.de/wp-content/uploads/2024/01/turm.jpg
ORGANIZER;CN="Schachklub Turm Br%C3%BCggen":MAILTO:wi-thiel@t-online.de
END:VEVENT
BEGIN:VEVENT
DTSTART;TZID=Europe/Berlin:20250623T180000
DTEND;TZID=Europe/Berlin:20250623T220000
DTSTAMP:20260419T232251
CREATED:20240202T092507Z
LAST-MODIFIED:20260127T134333Z
UID:10002637-1750701600-1750716000@bewusst-brueggen.de
SUMMARY:Training für Jedermann im Schachspiel
DESCRIPTION:Training für Jedermann beim Schachklub Turm Brüggen
URL:https://bewusst-brueggen.de/kalender/training-fuer-jedermann-im-schachspiel/2025-06-23/
LOCATION:Haus Mesterom\, Borner Straße 34\, Brüggen\, Nordrhein Westfalen\, 41379\, Deutschland
CATEGORIES:Vereine & Ehrenamt
ATTACH;FMTTYPE=image/jpeg:https://bewusst-brueggen.de/wp-content/uploads/2024/01/turm.jpg
ORGANIZER;CN="Schachklub Turm Br%C3%BCggen":MAILTO:wi-thiel@t-online.de
END:VEVENT
BEGIN:VEVENT
DTSTART;TZID=Europe/Berlin:20250616T180000
DTEND;TZID=Europe/Berlin:20250616T220000
DTSTAMP:20260419T232251
CREATED:20240202T092507Z
LAST-MODIFIED:20260127T134333Z
UID:10002636-1750096800-1750111200@bewusst-brueggen.de
SUMMARY:Training für Jedermann im Schachspiel
DESCRIPTION:Training für Jedermann beim Schachklub Turm Brüggen
URL:https://bewusst-brueggen.de/kalender/training-fuer-jedermann-im-schachspiel/2025-06-16/
LOCATION:Haus Mesterom\, Borner Straße 34\, Brüggen\, Nordrhein Westfalen\, 41379\, Deutschland
CATEGORIES:Vereine & Ehrenamt
ATTACH;FMTTYPE=image/jpeg:https://bewusst-brueggen.de/wp-content/uploads/2024/01/turm.jpg
ORGANIZER;CN="Schachklub Turm Br%C3%BCggen":MAILTO:wi-thiel@t-online.de
END:VEVENT
BEGIN:VEVENT
DTSTART;TZID=Europe/Berlin:20250609T180000
DTEND;TZID=Europe/Berlin:20250609T220000
DTSTAMP:20260419T232251
CREATED:20240202T092507Z
LAST-MODIFIED:20260127T134333Z
UID:10002635-1749492000-1749506400@bewusst-brueggen.de
SUMMARY:Training für Jedermann im Schachspiel
DESCRIPTION:Training für Jedermann beim Schachklub Turm Brüggen
URL:https://bewusst-brueggen.de/kalender/training-fuer-jedermann-im-schachspiel/2025-06-09/
LOCATION:Haus Mesterom\, Borner Straße 34\, Brüggen\, Nordrhein Westfalen\, 41379\, Deutschland
CATEGORIES:Vereine & Ehrenamt
ATTACH;FMTTYPE=image/jpeg:https://bewusst-brueggen.de/wp-content/uploads/2024/01/turm.jpg
ORGANIZER;CN="Schachklub Turm Br%C3%BCggen":MAILTO:wi-thiel@t-online.de
END:VEVENT
BEGIN:VEVENT
DTSTART;TZID=Europe/Berlin:20250602T180000
DTEND;TZID=Europe/Berlin:20250602T220000
DTSTAMP:20260419T232251
CREATED:20240202T092507Z
LAST-MODIFIED:20260127T134333Z
UID:10002634-1748887200-1748901600@bewusst-brueggen.de
SUMMARY:Training für Jedermann im Schachspiel
DESCRIPTION:Training für Jedermann beim Schachklub Turm Brüggen
URL:https://bewusst-brueggen.de/kalender/training-fuer-jedermann-im-schachspiel/2025-06-02/
LOCATION:Haus Mesterom\, Borner Straße 34\, Brüggen\, Nordrhein Westfalen\, 41379\, Deutschland
CATEGORIES:Vereine & Ehrenamt
ATTACH;FMTTYPE=image/jpeg:https://bewusst-brueggen.de/wp-content/uploads/2024/01/turm.jpg
ORGANIZER;CN="Schachklub Turm Br%C3%BCggen":MAILTO:wi-thiel@t-online.de
END:VEVENT
BEGIN:VEVENT
DTSTART;TZID=Europe/Berlin:20250526T180000
DTEND;TZID=Europe/Berlin:20250526T220000
DTSTAMP:20260419T232251
CREATED:20240202T092507Z
LAST-MODIFIED:20260127T134333Z
UID:10002633-1748282400-1748296800@bewusst-brueggen.de
SUMMARY:Training für Jedermann im Schachspiel
DESCRIPTION:Training für Jedermann beim Schachklub Turm Brüggen
URL:https://bewusst-brueggen.de/kalender/training-fuer-jedermann-im-schachspiel/2025-05-26/
LOCATION:Haus Mesterom\, Borner Straße 34\, Brüggen\, Nordrhein Westfalen\, 41379\, Deutschland
CATEGORIES:Vereine & Ehrenamt
ATTACH;FMTTYPE=image/jpeg:https://bewusst-brueggen.de/wp-content/uploads/2024/01/turm.jpg
ORGANIZER;CN="Schachklub Turm Br%C3%BCggen":MAILTO:wi-thiel@t-online.de
END:VEVENT
BEGIN:VEVENT
DTSTART;TZID=Europe/Berlin:20250519T180000
DTEND;TZID=Europe/Berlin:20250519T220000
DTSTAMP:20260419T232251
CREATED:20240202T092507Z
LAST-MODIFIED:20260127T134333Z
UID:10002632-1747677600-1747692000@bewusst-brueggen.de
SUMMARY:Training für Jedermann im Schachspiel
DESCRIPTION:Training für Jedermann beim Schachklub Turm Brüggen
URL:https://bewusst-brueggen.de/kalender/training-fuer-jedermann-im-schachspiel/2025-05-19/
LOCATION:Haus Mesterom\, Borner Straße 34\, Brüggen\, Nordrhein Westfalen\, 41379\, Deutschland
CATEGORIES:Vereine & Ehrenamt
ATTACH;FMTTYPE=image/jpeg:https://bewusst-brueggen.de/wp-content/uploads/2024/01/turm.jpg
ORGANIZER;CN="Schachklub Turm Br%C3%BCggen":MAILTO:wi-thiel@t-online.de
END:VEVENT
BEGIN:VEVENT
DTSTART;TZID=Europe/Berlin:20250512T180000
DTEND;TZID=Europe/Berlin:20250512T220000
DTSTAMP:20260419T232251
CREATED:20240202T092507Z
LAST-MODIFIED:20260127T134333Z
UID:10002631-1747072800-1747087200@bewusst-brueggen.de
SUMMARY:Training für Jedermann im Schachspiel
DESCRIPTION:Training für Jedermann beim Schachklub Turm Brüggen
URL:https://bewusst-brueggen.de/kalender/training-fuer-jedermann-im-schachspiel/2025-05-12/
LOCATION:Haus Mesterom\, Borner Straße 34\, Brüggen\, Nordrhein Westfalen\, 41379\, Deutschland
CATEGORIES:Vereine & Ehrenamt
ATTACH;FMTTYPE=image/jpeg:https://bewusst-brueggen.de/wp-content/uploads/2024/01/turm.jpg
ORGANIZER;CN="Schachklub Turm Br%C3%BCggen":MAILTO:wi-thiel@t-online.de
END:VEVENT
BEGIN:VEVENT
DTSTART;TZID=Europe/Berlin:20250505T180000
DTEND;TZID=Europe/Berlin:20250505T220000
DTSTAMP:20260419T232251
CREATED:20240202T092507Z
LAST-MODIFIED:20260127T134333Z
UID:10002630-1746468000-1746482400@bewusst-brueggen.de
SUMMARY:Training für Jedermann im Schachspiel
DESCRIPTION:Training für Jedermann beim Schachklub Turm Brüggen
URL:https://bewusst-brueggen.de/kalender/training-fuer-jedermann-im-schachspiel/2025-05-05/
LOCATION:Haus Mesterom\, Borner Straße 34\, Brüggen\, Nordrhein Westfalen\, 41379\, Deutschland
CATEGORIES:Vereine & Ehrenamt
ATTACH;FMTTYPE=image/jpeg:https://bewusst-brueggen.de/wp-content/uploads/2024/01/turm.jpg
ORGANIZER;CN="Schachklub Turm Br%C3%BCggen":MAILTO:wi-thiel@t-online.de
END:VEVENT
BEGIN:VEVENT
DTSTART;TZID=Europe/Berlin:20250428T180000
DTEND;TZID=Europe/Berlin:20250428T220000
DTSTAMP:20260419T232251
CREATED:20240202T092507Z
LAST-MODIFIED:20260127T134333Z
UID:10002629-1745863200-1745877600@bewusst-brueggen.de
SUMMARY:Training für Jedermann im Schachspiel
DESCRIPTION:Training für Jedermann beim Schachklub Turm Brüggen
URL:https://bewusst-brueggen.de/kalender/training-fuer-jedermann-im-schachspiel/2025-04-28/
LOCATION:Haus Mesterom\, Borner Straße 34\, Brüggen\, Nordrhein Westfalen\, 41379\, Deutschland
CATEGORIES:Vereine & Ehrenamt
ATTACH;FMTTYPE=image/jpeg:https://bewusst-brueggen.de/wp-content/uploads/2024/01/turm.jpg
ORGANIZER;CN="Schachklub Turm Br%C3%BCggen":MAILTO:wi-thiel@t-online.de
END:VEVENT
BEGIN:VEVENT
DTSTART;TZID=Europe/Berlin:20250421T180000
DTEND;TZID=Europe/Berlin:20250421T220000
DTSTAMP:20260419T232251
CREATED:20240202T092507Z
LAST-MODIFIED:20260127T134333Z
UID:10002628-1745258400-1745272800@bewusst-brueggen.de
SUMMARY:Training für Jedermann im Schachspiel
DESCRIPTION:Training für Jedermann beim Schachklub Turm Brüggen
URL:https://bewusst-brueggen.de/kalender/training-fuer-jedermann-im-schachspiel/2025-04-21/
LOCATION:Haus Mesterom\, Borner Straße 34\, Brüggen\, Nordrhein Westfalen\, 41379\, Deutschland
CATEGORIES:Vereine & Ehrenamt
ATTACH;FMTTYPE=image/jpeg:https://bewusst-brueggen.de/wp-content/uploads/2024/01/turm.jpg
ORGANIZER;CN="Schachklub Turm Br%C3%BCggen":MAILTO:wi-thiel@t-online.de
END:VEVENT
BEGIN:VEVENT
DTSTART;TZID=Europe/Berlin:20250414T180000
DTEND;TZID=Europe/Berlin:20250414T220000
DTSTAMP:20260419T232251
CREATED:20240202T092507Z
LAST-MODIFIED:20260127T134333Z
UID:10002627-1744653600-1744668000@bewusst-brueggen.de
SUMMARY:Training für Jedermann im Schachspiel
DESCRIPTION:Training für Jedermann beim Schachklub Turm Brüggen
URL:https://bewusst-brueggen.de/kalender/training-fuer-jedermann-im-schachspiel/2025-04-14/
LOCATION:Haus Mesterom\, Borner Straße 34\, Brüggen\, Nordrhein Westfalen\, 41379\, Deutschland
CATEGORIES:Vereine & Ehrenamt
ATTACH;FMTTYPE=image/jpeg:https://bewusst-brueggen.de/wp-content/uploads/2024/01/turm.jpg
ORGANIZER;CN="Schachklub Turm Br%C3%BCggen":MAILTO:wi-thiel@t-online.de
END:VEVENT
BEGIN:VEVENT
DTSTART;TZID=Europe/Berlin:20250407T180000
DTEND;TZID=Europe/Berlin:20250407T220000
DTSTAMP:20260419T232251
CREATED:20240202T092507Z
LAST-MODIFIED:20260127T134333Z
UID:10002626-1744048800-1744063200@bewusst-brueggen.de
SUMMARY:Training für Jedermann im Schachspiel
DESCRIPTION:Training für Jedermann beim Schachklub Turm Brüggen
URL:https://bewusst-brueggen.de/kalender/training-fuer-jedermann-im-schachspiel/2025-04-07/
LOCATION:Haus Mesterom\, Borner Straße 34\, Brüggen\, Nordrhein Westfalen\, 41379\, Deutschland
CATEGORIES:Vereine & Ehrenamt
ATTACH;FMTTYPE=image/jpeg:https://bewusst-brueggen.de/wp-content/uploads/2024/01/turm.jpg
ORGANIZER;CN="Schachklub Turm Br%C3%BCggen":MAILTO:wi-thiel@t-online.de
END:VEVENT
BEGIN:VEVENT
DTSTART;TZID=Europe/Berlin:20250331T180000
DTEND;TZID=Europe/Berlin:20250331T220000
DTSTAMP:20260419T232251
CREATED:20240202T092507Z
LAST-MODIFIED:20260127T134333Z
UID:10002625-1743444000-1743458400@bewusst-brueggen.de
SUMMARY:Training für Jedermann im Schachspiel
DESCRIPTION:Training für Jedermann beim Schachklub Turm Brüggen
URL:https://bewusst-brueggen.de/kalender/training-fuer-jedermann-im-schachspiel/2025-03-31/
LOCATION:Haus Mesterom\, Borner Straße 34\, Brüggen\, Nordrhein Westfalen\, 41379\, Deutschland
CATEGORIES:Vereine & Ehrenamt
ATTACH;FMTTYPE=image/jpeg:https://bewusst-brueggen.de/wp-content/uploads/2024/01/turm.jpg
ORGANIZER;CN="Schachklub Turm Br%C3%BCggen":MAILTO:wi-thiel@t-online.de
END:VEVENT
BEGIN:VEVENT
DTSTART;TZID=Europe/Berlin:20250324T180000
DTEND;TZID=Europe/Berlin:20250324T220000
DTSTAMP:20260419T232251
CREATED:20240202T092507Z
LAST-MODIFIED:20260127T134333Z
UID:10002624-1742839200-1742853600@bewusst-brueggen.de
SUMMARY:Training für Jedermann im Schachspiel
DESCRIPTION:Training für Jedermann beim Schachklub Turm Brüggen
URL:https://bewusst-brueggen.de/kalender/training-fuer-jedermann-im-schachspiel/2025-03-24/
LOCATION:Haus Mesterom\, Borner Straße 34\, Brüggen\, Nordrhein Westfalen\, 41379\, Deutschland
CATEGORIES:Vereine & Ehrenamt
ATTACH;FMTTYPE=image/jpeg:https://bewusst-brueggen.de/wp-content/uploads/2024/01/turm.jpg
ORGANIZER;CN="Schachklub Turm Br%C3%BCggen":MAILTO:wi-thiel@t-online.de
END:VEVENT
BEGIN:VEVENT
DTSTART;TZID=Europe/Berlin:20250317T180000
DTEND;TZID=Europe/Berlin:20250317T220000
DTSTAMP:20260419T232251
CREATED:20240202T092507Z
LAST-MODIFIED:20260127T134333Z
UID:10002623-1742234400-1742248800@bewusst-brueggen.de
SUMMARY:Training für Jedermann im Schachspiel
DESCRIPTION:Training für Jedermann beim Schachklub Turm Brüggen
URL:https://bewusst-brueggen.de/kalender/training-fuer-jedermann-im-schachspiel/2025-03-17/
LOCATION:Haus Mesterom\, Borner Straße 34\, Brüggen\, Nordrhein Westfalen\, 41379\, Deutschland
CATEGORIES:Vereine & Ehrenamt
ATTACH;FMTTYPE=image/jpeg:https://bewusst-brueggen.de/wp-content/uploads/2024/01/turm.jpg
ORGANIZER;CN="Schachklub Turm Br%C3%BCggen":MAILTO:wi-thiel@t-online.de
END:VEVENT
END:VCALENDAR