BEGIN:VCALENDAR
VERSION:2.0
PRODID:-//Bewusst Brüggen - ECPv6.15.20//NONSGML v1.0//EN
CALSCALE:GREGORIAN
METHOD:PUBLISH
X-WR-CALNAME:Bewusst Brüggen
X-ORIGINAL-URL:https://bewusst-brueggen.de
X-WR-CALDESC:Veranstaltungen für Bewusst Brüggen
REFRESH-INTERVAL;VALUE=DURATION:PT1H
X-Robots-Tag:noindex
X-PUBLISHED-TTL:PT1H
BEGIN:VTIMEZONE
TZID:Europe/Berlin
BEGIN:DAYLIGHT
TZOFFSETFROM:+0100
TZOFFSETTO:+0200
TZNAME:CEST
DTSTART:20230326T010000
END:DAYLIGHT
BEGIN:STANDARD
TZOFFSETFROM:+0200
TZOFFSETTO:+0100
TZNAME:CET
DTSTART:20231029T010000
END:STANDARD
BEGIN:DAYLIGHT
TZOFFSETFROM:+0100
TZOFFSETTO:+0200
TZNAME:CEST
DTSTART:20240331T010000
END:DAYLIGHT
BEGIN:STANDARD
TZOFFSETFROM:+0200
TZOFFSETTO:+0100
TZNAME:CET
DTSTART:20241027T010000
END:STANDARD
BEGIN:DAYLIGHT
TZOFFSETFROM:+0100
TZOFFSETTO:+0200
TZNAME:CEST
DTSTART:20250330T010000
END:DAYLIGHT
BEGIN:STANDARD
TZOFFSETFROM:+0200
TZOFFSETTO:+0100
TZNAME:CET
DTSTART:20251026T010000
END:STANDARD
END:VTIMEZONE
BEGIN:VEVENT
DTSTART;TZID=Europe/Berlin:20241202T180000
DTEND;TZID=Europe/Berlin:20241202T220000
DTSTAMP:20260422T143238
CREATED:20240202T092507Z
LAST-MODIFIED:20260127T134333Z
UID:10002608-1733162400-1733176800@bewusst-brueggen.de
SUMMARY:Training für Jedermann im Schachspiel
DESCRIPTION:Training für Jedermann beim Schachklub Turm Brüggen
URL:https://bewusst-brueggen.de/kalender/training-fuer-jedermann-im-schachspiel/2024-12-02/
LOCATION:Haus Mesterom\, Borner Straße 34\, Brüggen\, Nordrhein Westfalen\, 41379\, Deutschland
CATEGORIES:Vereine & Ehrenamt
ATTACH;FMTTYPE=image/jpeg:https://bewusst-brueggen.de/wp-content/uploads/2024/01/turm.jpg
ORGANIZER;CN="Schachklub Turm Br%C3%BCggen":MAILTO:wi-thiel@t-online.de
END:VEVENT
BEGIN:VEVENT
DTSTART;TZID=Europe/Berlin:20241125T180000
DTEND;TZID=Europe/Berlin:20241125T220000
DTSTAMP:20260422T143238
CREATED:20240202T092507Z
LAST-MODIFIED:20260127T134333Z
UID:10002607-1732557600-1732572000@bewusst-brueggen.de
SUMMARY:Training für Jedermann im Schachspiel
DESCRIPTION:Training für Jedermann beim Schachklub Turm Brüggen
URL:https://bewusst-brueggen.de/kalender/training-fuer-jedermann-im-schachspiel/2024-11-25/
LOCATION:Haus Mesterom\, Borner Straße 34\, Brüggen\, Nordrhein Westfalen\, 41379\, Deutschland
CATEGORIES:Vereine & Ehrenamt
ATTACH;FMTTYPE=image/jpeg:https://bewusst-brueggen.de/wp-content/uploads/2024/01/turm.jpg
ORGANIZER;CN="Schachklub Turm Br%C3%BCggen":MAILTO:wi-thiel@t-online.de
END:VEVENT
BEGIN:VEVENT
DTSTART;TZID=Europe/Berlin:20241118T180000
DTEND;TZID=Europe/Berlin:20241118T220000
DTSTAMP:20260422T143238
CREATED:20240202T092507Z
LAST-MODIFIED:20260127T134333Z
UID:10002606-1731952800-1731967200@bewusst-brueggen.de
SUMMARY:Training für Jedermann im Schachspiel
DESCRIPTION:Training für Jedermann beim Schachklub Turm Brüggen
URL:https://bewusst-brueggen.de/kalender/training-fuer-jedermann-im-schachspiel/2024-11-18/
LOCATION:Haus Mesterom\, Borner Straße 34\, Brüggen\, Nordrhein Westfalen\, 41379\, Deutschland
CATEGORIES:Vereine & Ehrenamt
ATTACH;FMTTYPE=image/jpeg:https://bewusst-brueggen.de/wp-content/uploads/2024/01/turm.jpg
ORGANIZER;CN="Schachklub Turm Br%C3%BCggen":MAILTO:wi-thiel@t-online.de
END:VEVENT
BEGIN:VEVENT
DTSTART;TZID=Europe/Berlin:20241111T180000
DTEND;TZID=Europe/Berlin:20241111T220000
DTSTAMP:20260422T143238
CREATED:20240202T092507Z
LAST-MODIFIED:20260127T134333Z
UID:10002605-1731348000-1731362400@bewusst-brueggen.de
SUMMARY:Training für Jedermann im Schachspiel
DESCRIPTION:Training für Jedermann beim Schachklub Turm Brüggen
URL:https://bewusst-brueggen.de/kalender/training-fuer-jedermann-im-schachspiel/2024-11-11/
LOCATION:Haus Mesterom\, Borner Straße 34\, Brüggen\, Nordrhein Westfalen\, 41379\, Deutschland
CATEGORIES:Vereine & Ehrenamt
ATTACH;FMTTYPE=image/jpeg:https://bewusst-brueggen.de/wp-content/uploads/2024/01/turm.jpg
ORGANIZER;CN="Schachklub Turm Br%C3%BCggen":MAILTO:wi-thiel@t-online.de
END:VEVENT
BEGIN:VEVENT
DTSTART;TZID=Europe/Berlin:20241104T180000
DTEND;TZID=Europe/Berlin:20241104T220000
DTSTAMP:20260422T143238
CREATED:20240202T092507Z
LAST-MODIFIED:20260127T134333Z
UID:10002604-1730743200-1730757600@bewusst-brueggen.de
SUMMARY:Training für Jedermann im Schachspiel
DESCRIPTION:Training für Jedermann beim Schachklub Turm Brüggen
URL:https://bewusst-brueggen.de/kalender/training-fuer-jedermann-im-schachspiel/2024-11-04/
LOCATION:Haus Mesterom\, Borner Straße 34\, Brüggen\, Nordrhein Westfalen\, 41379\, Deutschland
CATEGORIES:Vereine & Ehrenamt
ATTACH;FMTTYPE=image/jpeg:https://bewusst-brueggen.de/wp-content/uploads/2024/01/turm.jpg
ORGANIZER;CN="Schachklub Turm Br%C3%BCggen":MAILTO:wi-thiel@t-online.de
END:VEVENT
BEGIN:VEVENT
DTSTART;TZID=Europe/Berlin:20241028T180000
DTEND;TZID=Europe/Berlin:20241028T220000
DTSTAMP:20260422T143238
CREATED:20240202T092507Z
LAST-MODIFIED:20260127T134333Z
UID:10002603-1730138400-1730152800@bewusst-brueggen.de
SUMMARY:Training für Jedermann im Schachspiel
DESCRIPTION:Training für Jedermann beim Schachklub Turm Brüggen
URL:https://bewusst-brueggen.de/kalender/training-fuer-jedermann-im-schachspiel/2024-10-28/
LOCATION:Haus Mesterom\, Borner Straße 34\, Brüggen\, Nordrhein Westfalen\, 41379\, Deutschland
CATEGORIES:Vereine & Ehrenamt
ATTACH;FMTTYPE=image/jpeg:https://bewusst-brueggen.de/wp-content/uploads/2024/01/turm.jpg
ORGANIZER;CN="Schachklub Turm Br%C3%BCggen":MAILTO:wi-thiel@t-online.de
END:VEVENT
BEGIN:VEVENT
DTSTART;TZID=Europe/Berlin:20241021T180000
DTEND;TZID=Europe/Berlin:20241021T220000
DTSTAMP:20260422T143239
CREATED:20240202T092507Z
LAST-MODIFIED:20260127T134333Z
UID:10002602-1729533600-1729548000@bewusst-brueggen.de
SUMMARY:Training für Jedermann im Schachspiel
DESCRIPTION:Training für Jedermann beim Schachklub Turm Brüggen
URL:https://bewusst-brueggen.de/kalender/training-fuer-jedermann-im-schachspiel/2024-10-21/
LOCATION:Haus Mesterom\, Borner Straße 34\, Brüggen\, Nordrhein Westfalen\, 41379\, Deutschland
CATEGORIES:Vereine & Ehrenamt
ATTACH;FMTTYPE=image/jpeg:https://bewusst-brueggen.de/wp-content/uploads/2024/01/turm.jpg
ORGANIZER;CN="Schachklub Turm Br%C3%BCggen":MAILTO:wi-thiel@t-online.de
END:VEVENT
BEGIN:VEVENT
DTSTART;TZID=Europe/Berlin:20241014T180000
DTEND;TZID=Europe/Berlin:20241014T220000
DTSTAMP:20260422T143239
CREATED:20240202T092507Z
LAST-MODIFIED:20260127T134333Z
UID:10002601-1728928800-1728943200@bewusst-brueggen.de
SUMMARY:Training für Jedermann im Schachspiel
DESCRIPTION:Training für Jedermann beim Schachklub Turm Brüggen
URL:https://bewusst-brueggen.de/kalender/training-fuer-jedermann-im-schachspiel/2024-10-14/
LOCATION:Haus Mesterom\, Borner Straße 34\, Brüggen\, Nordrhein Westfalen\, 41379\, Deutschland
CATEGORIES:Vereine & Ehrenamt
ATTACH;FMTTYPE=image/jpeg:https://bewusst-brueggen.de/wp-content/uploads/2024/01/turm.jpg
ORGANIZER;CN="Schachklub Turm Br%C3%BCggen":MAILTO:wi-thiel@t-online.de
END:VEVENT
BEGIN:VEVENT
DTSTART;TZID=Europe/Berlin:20241007T180000
DTEND;TZID=Europe/Berlin:20241007T220000
DTSTAMP:20260422T143239
CREATED:20240202T092507Z
LAST-MODIFIED:20260127T134333Z
UID:10002600-1728324000-1728338400@bewusst-brueggen.de
SUMMARY:Training für Jedermann im Schachspiel
DESCRIPTION:Training für Jedermann beim Schachklub Turm Brüggen
URL:https://bewusst-brueggen.de/kalender/training-fuer-jedermann-im-schachspiel/2024-10-07/
LOCATION:Haus Mesterom\, Borner Straße 34\, Brüggen\, Nordrhein Westfalen\, 41379\, Deutschland
CATEGORIES:Vereine & Ehrenamt
ATTACH;FMTTYPE=image/jpeg:https://bewusst-brueggen.de/wp-content/uploads/2024/01/turm.jpg
ORGANIZER;CN="Schachklub Turm Br%C3%BCggen":MAILTO:wi-thiel@t-online.de
END:VEVENT
BEGIN:VEVENT
DTSTART;TZID=Europe/Berlin:20240930T180000
DTEND;TZID=Europe/Berlin:20240930T220000
DTSTAMP:20260422T143239
CREATED:20240202T092507Z
LAST-MODIFIED:20260127T134333Z
UID:10002599-1727719200-1727733600@bewusst-brueggen.de
SUMMARY:Training für Jedermann im Schachspiel
DESCRIPTION:Training für Jedermann beim Schachklub Turm Brüggen
URL:https://bewusst-brueggen.de/kalender/training-fuer-jedermann-im-schachspiel/2024-09-30/
LOCATION:Haus Mesterom\, Borner Straße 34\, Brüggen\, Nordrhein Westfalen\, 41379\, Deutschland
CATEGORIES:Vereine & Ehrenamt
ATTACH;FMTTYPE=image/jpeg:https://bewusst-brueggen.de/wp-content/uploads/2024/01/turm.jpg
ORGANIZER;CN="Schachklub Turm Br%C3%BCggen":MAILTO:wi-thiel@t-online.de
END:VEVENT
BEGIN:VEVENT
DTSTART;TZID=Europe/Berlin:20240923T180000
DTEND;TZID=Europe/Berlin:20240923T220000
DTSTAMP:20260422T143239
CREATED:20240202T092507Z
LAST-MODIFIED:20260127T134333Z
UID:10002598-1727114400-1727128800@bewusst-brueggen.de
SUMMARY:Training für Jedermann im Schachspiel
DESCRIPTION:Training für Jedermann beim Schachklub Turm Brüggen
URL:https://bewusst-brueggen.de/kalender/training-fuer-jedermann-im-schachspiel/2024-09-23/
LOCATION:Haus Mesterom\, Borner Straße 34\, Brüggen\, Nordrhein Westfalen\, 41379\, Deutschland
CATEGORIES:Vereine & Ehrenamt
ATTACH;FMTTYPE=image/jpeg:https://bewusst-brueggen.de/wp-content/uploads/2024/01/turm.jpg
ORGANIZER;CN="Schachklub Turm Br%C3%BCggen":MAILTO:wi-thiel@t-online.de
END:VEVENT
BEGIN:VEVENT
DTSTART;TZID=Europe/Berlin:20240916T180000
DTEND;TZID=Europe/Berlin:20240916T220000
DTSTAMP:20260422T143239
CREATED:20240202T092507Z
LAST-MODIFIED:20260127T134333Z
UID:10002597-1726509600-1726524000@bewusst-brueggen.de
SUMMARY:Training für Jedermann im Schachspiel
DESCRIPTION:Training für Jedermann beim Schachklub Turm Brüggen
URL:https://bewusst-brueggen.de/kalender/training-fuer-jedermann-im-schachspiel/2024-09-16/
LOCATION:Haus Mesterom\, Borner Straße 34\, Brüggen\, Nordrhein Westfalen\, 41379\, Deutschland
CATEGORIES:Vereine & Ehrenamt
ATTACH;FMTTYPE=image/jpeg:https://bewusst-brueggen.de/wp-content/uploads/2024/01/turm.jpg
ORGANIZER;CN="Schachklub Turm Br%C3%BCggen":MAILTO:wi-thiel@t-online.de
END:VEVENT
BEGIN:VEVENT
DTSTART;TZID=Europe/Berlin:20240909T180000
DTEND;TZID=Europe/Berlin:20240909T220000
DTSTAMP:20260422T143239
CREATED:20240202T092507Z
LAST-MODIFIED:20260127T134333Z
UID:10002596-1725904800-1725919200@bewusst-brueggen.de
SUMMARY:Training für Jedermann im Schachspiel
DESCRIPTION:Training für Jedermann beim Schachklub Turm Brüggen
URL:https://bewusst-brueggen.de/kalender/training-fuer-jedermann-im-schachspiel/2024-09-09/
LOCATION:Haus Mesterom\, Borner Straße 34\, Brüggen\, Nordrhein Westfalen\, 41379\, Deutschland
CATEGORIES:Vereine & Ehrenamt
ATTACH;FMTTYPE=image/jpeg:https://bewusst-brueggen.de/wp-content/uploads/2024/01/turm.jpg
ORGANIZER;CN="Schachklub Turm Br%C3%BCggen":MAILTO:wi-thiel@t-online.de
END:VEVENT
BEGIN:VEVENT
DTSTART;TZID=Europe/Berlin:20240902T180000
DTEND;TZID=Europe/Berlin:20240902T220000
DTSTAMP:20260422T143239
CREATED:20240202T092507Z
LAST-MODIFIED:20260127T134333Z
UID:10002595-1725300000-1725314400@bewusst-brueggen.de
SUMMARY:Training für Jedermann im Schachspiel
DESCRIPTION:Training für Jedermann beim Schachklub Turm Brüggen
URL:https://bewusst-brueggen.de/kalender/training-fuer-jedermann-im-schachspiel/2024-09-02/
LOCATION:Haus Mesterom\, Borner Straße 34\, Brüggen\, Nordrhein Westfalen\, 41379\, Deutschland
CATEGORIES:Vereine & Ehrenamt
ATTACH;FMTTYPE=image/jpeg:https://bewusst-brueggen.de/wp-content/uploads/2024/01/turm.jpg
ORGANIZER;CN="Schachklub Turm Br%C3%BCggen":MAILTO:wi-thiel@t-online.de
END:VEVENT
BEGIN:VEVENT
DTSTART;TZID=Europe/Berlin:20240826T180000
DTEND;TZID=Europe/Berlin:20240826T220000
DTSTAMP:20260422T143239
CREATED:20240202T092507Z
LAST-MODIFIED:20260127T134333Z
UID:10002594-1724695200-1724709600@bewusst-brueggen.de
SUMMARY:Training für Jedermann im Schachspiel
DESCRIPTION:Training für Jedermann beim Schachklub Turm Brüggen
URL:https://bewusst-brueggen.de/kalender/training-fuer-jedermann-im-schachspiel/2024-08-26/
LOCATION:Haus Mesterom\, Borner Straße 34\, Brüggen\, Nordrhein Westfalen\, 41379\, Deutschland
CATEGORIES:Vereine & Ehrenamt
ATTACH;FMTTYPE=image/jpeg:https://bewusst-brueggen.de/wp-content/uploads/2024/01/turm.jpg
ORGANIZER;CN="Schachklub Turm Br%C3%BCggen":MAILTO:wi-thiel@t-online.de
END:VEVENT
BEGIN:VEVENT
DTSTART;TZID=Europe/Berlin:20240819T180000
DTEND;TZID=Europe/Berlin:20240819T220000
DTSTAMP:20260422T143239
CREATED:20240202T092507Z
LAST-MODIFIED:20260127T134333Z
UID:10002593-1724090400-1724104800@bewusst-brueggen.de
SUMMARY:Training für Jedermann im Schachspiel
DESCRIPTION:Training für Jedermann beim Schachklub Turm Brüggen
URL:https://bewusst-brueggen.de/kalender/training-fuer-jedermann-im-schachspiel/2024-08-19/
LOCATION:Haus Mesterom\, Borner Straße 34\, Brüggen\, Nordrhein Westfalen\, 41379\, Deutschland
CATEGORIES:Vereine & Ehrenamt
ATTACH;FMTTYPE=image/jpeg:https://bewusst-brueggen.de/wp-content/uploads/2024/01/turm.jpg
ORGANIZER;CN="Schachklub Turm Br%C3%BCggen":MAILTO:wi-thiel@t-online.de
END:VEVENT
BEGIN:VEVENT
DTSTART;TZID=Europe/Berlin:20240812T180000
DTEND;TZID=Europe/Berlin:20240812T220000
DTSTAMP:20260422T143239
CREATED:20240202T092507Z
LAST-MODIFIED:20260127T134333Z
UID:10002592-1723485600-1723500000@bewusst-brueggen.de
SUMMARY:Training für Jedermann im Schachspiel
DESCRIPTION:Training für Jedermann beim Schachklub Turm Brüggen
URL:https://bewusst-brueggen.de/kalender/training-fuer-jedermann-im-schachspiel/2024-08-12/
LOCATION:Haus Mesterom\, Borner Straße 34\, Brüggen\, Nordrhein Westfalen\, 41379\, Deutschland
CATEGORIES:Vereine & Ehrenamt
ATTACH;FMTTYPE=image/jpeg:https://bewusst-brueggen.de/wp-content/uploads/2024/01/turm.jpg
ORGANIZER;CN="Schachklub Turm Br%C3%BCggen":MAILTO:wi-thiel@t-online.de
END:VEVENT
BEGIN:VEVENT
DTSTART;TZID=Europe/Berlin:20240805T180000
DTEND;TZID=Europe/Berlin:20240805T220000
DTSTAMP:20260422T143239
CREATED:20240202T092507Z
LAST-MODIFIED:20260127T134333Z
UID:10002591-1722880800-1722895200@bewusst-brueggen.de
SUMMARY:Training für Jedermann im Schachspiel
DESCRIPTION:Training für Jedermann beim Schachklub Turm Brüggen
URL:https://bewusst-brueggen.de/kalender/training-fuer-jedermann-im-schachspiel/2024-08-05/
LOCATION:Haus Mesterom\, Borner Straße 34\, Brüggen\, Nordrhein Westfalen\, 41379\, Deutschland
CATEGORIES:Vereine & Ehrenamt
ATTACH;FMTTYPE=image/jpeg:https://bewusst-brueggen.de/wp-content/uploads/2024/01/turm.jpg
ORGANIZER;CN="Schachklub Turm Br%C3%BCggen":MAILTO:wi-thiel@t-online.de
END:VEVENT
BEGIN:VEVENT
DTSTART;TZID=Europe/Berlin:20240729T180000
DTEND;TZID=Europe/Berlin:20240729T220000
DTSTAMP:20260422T143239
CREATED:20240202T092507Z
LAST-MODIFIED:20260127T134333Z
UID:10002590-1722276000-1722290400@bewusst-brueggen.de
SUMMARY:Training für Jedermann im Schachspiel
DESCRIPTION:Training für Jedermann beim Schachklub Turm Brüggen
URL:https://bewusst-brueggen.de/kalender/training-fuer-jedermann-im-schachspiel/2024-07-29/
LOCATION:Haus Mesterom\, Borner Straße 34\, Brüggen\, Nordrhein Westfalen\, 41379\, Deutschland
CATEGORIES:Vereine & Ehrenamt
ATTACH;FMTTYPE=image/jpeg:https://bewusst-brueggen.de/wp-content/uploads/2024/01/turm.jpg
ORGANIZER;CN="Schachklub Turm Br%C3%BCggen":MAILTO:wi-thiel@t-online.de
END:VEVENT
BEGIN:VEVENT
DTSTART;TZID=Europe/Berlin:20240722T180000
DTEND;TZID=Europe/Berlin:20240722T220000
DTSTAMP:20260422T143239
CREATED:20240202T092507Z
LAST-MODIFIED:20260127T134333Z
UID:10002589-1721671200-1721685600@bewusst-brueggen.de
SUMMARY:Training für Jedermann im Schachspiel
DESCRIPTION:Training für Jedermann beim Schachklub Turm Brüggen
URL:https://bewusst-brueggen.de/kalender/training-fuer-jedermann-im-schachspiel/2024-07-22/
LOCATION:Haus Mesterom\, Borner Straße 34\, Brüggen\, Nordrhein Westfalen\, 41379\, Deutschland
CATEGORIES:Vereine & Ehrenamt
ATTACH;FMTTYPE=image/jpeg:https://bewusst-brueggen.de/wp-content/uploads/2024/01/turm.jpg
ORGANIZER;CN="Schachklub Turm Br%C3%BCggen":MAILTO:wi-thiel@t-online.de
END:VEVENT
BEGIN:VEVENT
DTSTART;TZID=Europe/Berlin:20240715T180000
DTEND;TZID=Europe/Berlin:20240715T220000
DTSTAMP:20260422T143239
CREATED:20240202T092507Z
LAST-MODIFIED:20260127T134333Z
UID:10002588-1721066400-1721080800@bewusst-brueggen.de
SUMMARY:Training für Jedermann im Schachspiel
DESCRIPTION:Training für Jedermann beim Schachklub Turm Brüggen
URL:https://bewusst-brueggen.de/kalender/training-fuer-jedermann-im-schachspiel/2024-07-15/
LOCATION:Haus Mesterom\, Borner Straße 34\, Brüggen\, Nordrhein Westfalen\, 41379\, Deutschland
CATEGORIES:Vereine & Ehrenamt
ATTACH;FMTTYPE=image/jpeg:https://bewusst-brueggen.de/wp-content/uploads/2024/01/turm.jpg
ORGANIZER;CN="Schachklub Turm Br%C3%BCggen":MAILTO:wi-thiel@t-online.de
END:VEVENT
BEGIN:VEVENT
DTSTART;TZID=Europe/Berlin:20240708T180000
DTEND;TZID=Europe/Berlin:20240708T220000
DTSTAMP:20260422T143239
CREATED:20240202T092507Z
LAST-MODIFIED:20260127T134333Z
UID:10002587-1720461600-1720476000@bewusst-brueggen.de
SUMMARY:Training für Jedermann im Schachspiel
DESCRIPTION:Training für Jedermann beim Schachklub Turm Brüggen
URL:https://bewusst-brueggen.de/kalender/training-fuer-jedermann-im-schachspiel/2024-07-08/
LOCATION:Haus Mesterom\, Borner Straße 34\, Brüggen\, Nordrhein Westfalen\, 41379\, Deutschland
CATEGORIES:Vereine & Ehrenamt
ATTACH;FMTTYPE=image/jpeg:https://bewusst-brueggen.de/wp-content/uploads/2024/01/turm.jpg
ORGANIZER;CN="Schachklub Turm Br%C3%BCggen":MAILTO:wi-thiel@t-online.de
END:VEVENT
BEGIN:VEVENT
DTSTART;TZID=Europe/Berlin:20240701T180000
DTEND;TZID=Europe/Berlin:20240701T220000
DTSTAMP:20260422T143239
CREATED:20240202T092507Z
LAST-MODIFIED:20260127T134333Z
UID:10002586-1719856800-1719871200@bewusst-brueggen.de
SUMMARY:Training für Jedermann im Schachspiel
DESCRIPTION:Training für Jedermann beim Schachklub Turm Brüggen
URL:https://bewusst-brueggen.de/kalender/training-fuer-jedermann-im-schachspiel/2024-07-01/
LOCATION:Haus Mesterom\, Borner Straße 34\, Brüggen\, Nordrhein Westfalen\, 41379\, Deutschland
CATEGORIES:Vereine & Ehrenamt
ATTACH;FMTTYPE=image/jpeg:https://bewusst-brueggen.de/wp-content/uploads/2024/01/turm.jpg
ORGANIZER;CN="Schachklub Turm Br%C3%BCggen":MAILTO:wi-thiel@t-online.de
END:VEVENT
BEGIN:VEVENT
DTSTART;TZID=Europe/Berlin:20240624T180000
DTEND;TZID=Europe/Berlin:20240624T220000
DTSTAMP:20260422T143239
CREATED:20240202T092507Z
LAST-MODIFIED:20260127T134333Z
UID:10002585-1719252000-1719266400@bewusst-brueggen.de
SUMMARY:Training für Jedermann im Schachspiel
DESCRIPTION:Training für Jedermann beim Schachklub Turm Brüggen
URL:https://bewusst-brueggen.de/kalender/training-fuer-jedermann-im-schachspiel/2024-06-24/
LOCATION:Haus Mesterom\, Borner Straße 34\, Brüggen\, Nordrhein Westfalen\, 41379\, Deutschland
CATEGORIES:Vereine & Ehrenamt
ATTACH;FMTTYPE=image/jpeg:https://bewusst-brueggen.de/wp-content/uploads/2024/01/turm.jpg
ORGANIZER;CN="Schachklub Turm Br%C3%BCggen":MAILTO:wi-thiel@t-online.de
END:VEVENT
BEGIN:VEVENT
DTSTART;TZID=Europe/Berlin:20240617T180000
DTEND;TZID=Europe/Berlin:20240617T220000
DTSTAMP:20260422T143239
CREATED:20240202T092507Z
LAST-MODIFIED:20260127T134333Z
UID:10002584-1718647200-1718661600@bewusst-brueggen.de
SUMMARY:Training für Jedermann im Schachspiel
DESCRIPTION:Training für Jedermann beim Schachklub Turm Brüggen
URL:https://bewusst-brueggen.de/kalender/training-fuer-jedermann-im-schachspiel/2024-06-17/
LOCATION:Haus Mesterom\, Borner Straße 34\, Brüggen\, Nordrhein Westfalen\, 41379\, Deutschland
CATEGORIES:Vereine & Ehrenamt
ATTACH;FMTTYPE=image/jpeg:https://bewusst-brueggen.de/wp-content/uploads/2024/01/turm.jpg
ORGANIZER;CN="Schachklub Turm Br%C3%BCggen":MAILTO:wi-thiel@t-online.de
END:VEVENT
BEGIN:VEVENT
DTSTART;TZID=Europe/Berlin:20240610T180000
DTEND;TZID=Europe/Berlin:20240610T220000
DTSTAMP:20260422T143239
CREATED:20240202T092507Z
LAST-MODIFIED:20260127T134333Z
UID:10002583-1718042400-1718056800@bewusst-brueggen.de
SUMMARY:Training für Jedermann im Schachspiel
DESCRIPTION:Training für Jedermann beim Schachklub Turm Brüggen
URL:https://bewusst-brueggen.de/kalender/training-fuer-jedermann-im-schachspiel/2024-06-10/
LOCATION:Haus Mesterom\, Borner Straße 34\, Brüggen\, Nordrhein Westfalen\, 41379\, Deutschland
CATEGORIES:Vereine & Ehrenamt
ATTACH;FMTTYPE=image/jpeg:https://bewusst-brueggen.de/wp-content/uploads/2024/01/turm.jpg
ORGANIZER;CN="Schachklub Turm Br%C3%BCggen":MAILTO:wi-thiel@t-online.de
END:VEVENT
BEGIN:VEVENT
DTSTART;TZID=Europe/Berlin:20240603T180000
DTEND;TZID=Europe/Berlin:20240603T220000
DTSTAMP:20260422T143239
CREATED:20240202T092507Z
LAST-MODIFIED:20260127T134333Z
UID:10002582-1717437600-1717452000@bewusst-brueggen.de
SUMMARY:Training für Jedermann im Schachspiel
DESCRIPTION:Training für Jedermann beim Schachklub Turm Brüggen
URL:https://bewusst-brueggen.de/kalender/training-fuer-jedermann-im-schachspiel/2024-06-03/
LOCATION:Haus Mesterom\, Borner Straße 34\, Brüggen\, Nordrhein Westfalen\, 41379\, Deutschland
CATEGORIES:Vereine & Ehrenamt
ATTACH;FMTTYPE=image/jpeg:https://bewusst-brueggen.de/wp-content/uploads/2024/01/turm.jpg
ORGANIZER;CN="Schachklub Turm Br%C3%BCggen":MAILTO:wi-thiel@t-online.de
END:VEVENT
BEGIN:VEVENT
DTSTART;TZID=Europe/Berlin:20240527T180000
DTEND;TZID=Europe/Berlin:20240527T220000
DTSTAMP:20260422T143239
CREATED:20240202T092507Z
LAST-MODIFIED:20260127T134333Z
UID:10002581-1716832800-1716847200@bewusst-brueggen.de
SUMMARY:Training für Jedermann im Schachspiel
DESCRIPTION:Training für Jedermann beim Schachklub Turm Brüggen
URL:https://bewusst-brueggen.de/kalender/training-fuer-jedermann-im-schachspiel/2024-05-27/
LOCATION:Haus Mesterom\, Borner Straße 34\, Brüggen\, Nordrhein Westfalen\, 41379\, Deutschland
CATEGORIES:Vereine & Ehrenamt
ATTACH;FMTTYPE=image/jpeg:https://bewusst-brueggen.de/wp-content/uploads/2024/01/turm.jpg
ORGANIZER;CN="Schachklub Turm Br%C3%BCggen":MAILTO:wi-thiel@t-online.de
END:VEVENT
BEGIN:VEVENT
DTSTART;TZID=Europe/Berlin:20240520T180000
DTEND;TZID=Europe/Berlin:20240520T220000
DTSTAMP:20260422T143239
CREATED:20240202T092507Z
LAST-MODIFIED:20260127T134333Z
UID:10002580-1716228000-1716242400@bewusst-brueggen.de
SUMMARY:Training für Jedermann im Schachspiel
DESCRIPTION:Training für Jedermann beim Schachklub Turm Brüggen
URL:https://bewusst-brueggen.de/kalender/training-fuer-jedermann-im-schachspiel/2024-05-20/
LOCATION:Haus Mesterom\, Borner Straße 34\, Brüggen\, Nordrhein Westfalen\, 41379\, Deutschland
CATEGORIES:Vereine & Ehrenamt
ATTACH;FMTTYPE=image/jpeg:https://bewusst-brueggen.de/wp-content/uploads/2024/01/turm.jpg
ORGANIZER;CN="Schachklub Turm Br%C3%BCggen":MAILTO:wi-thiel@t-online.de
END:VEVENT
BEGIN:VEVENT
DTSTART;TZID=Europe/Berlin:20240513T180000
DTEND;TZID=Europe/Berlin:20240513T220000
DTSTAMP:20260422T143239
CREATED:20240202T092507Z
LAST-MODIFIED:20260127T134333Z
UID:10002579-1715623200-1715637600@bewusst-brueggen.de
SUMMARY:Training für Jedermann im Schachspiel
DESCRIPTION:Training für Jedermann beim Schachklub Turm Brüggen
URL:https://bewusst-brueggen.de/kalender/training-fuer-jedermann-im-schachspiel/2024-05-13/
LOCATION:Haus Mesterom\, Borner Straße 34\, Brüggen\, Nordrhein Westfalen\, 41379\, Deutschland
CATEGORIES:Vereine & Ehrenamt
ATTACH;FMTTYPE=image/jpeg:https://bewusst-brueggen.de/wp-content/uploads/2024/01/turm.jpg
ORGANIZER;CN="Schachklub Turm Br%C3%BCggen":MAILTO:wi-thiel@t-online.de
END:VEVENT
END:VCALENDAR