BEGIN:VCALENDAR
VERSION:2.0
PRODID:-//Bewusst Brüggen - ECPv6.15.20//NONSGML v1.0//EN
CALSCALE:GREGORIAN
METHOD:PUBLISH
X-ORIGINAL-URL:https://bewusst-brueggen.de
X-WR-CALDESC:Veranstaltungen für Bewusst Brüggen
REFRESH-INTERVAL;VALUE=DURATION:PT1H
X-Robots-Tag:noindex
X-PUBLISHED-TTL:PT1H
BEGIN:VTIMEZONE
TZID:Europe/Berlin
BEGIN:DAYLIGHT
TZOFFSETFROM:+0100
TZOFFSETTO:+0200
TZNAME:CEST
DTSTART:20230326T010000
END:DAYLIGHT
BEGIN:STANDARD
TZOFFSETFROM:+0200
TZOFFSETTO:+0100
TZNAME:CET
DTSTART:20231029T010000
END:STANDARD
BEGIN:DAYLIGHT
TZOFFSETFROM:+0100
TZOFFSETTO:+0200
TZNAME:CEST
DTSTART:20240331T010000
END:DAYLIGHT
BEGIN:STANDARD
TZOFFSETFROM:+0200
TZOFFSETTO:+0100
TZNAME:CET
DTSTART:20241027T010000
END:STANDARD
BEGIN:DAYLIGHT
TZOFFSETFROM:+0100
TZOFFSETTO:+0200
TZNAME:CEST
DTSTART:20250330T010000
END:DAYLIGHT
BEGIN:STANDARD
TZOFFSETFROM:+0200
TZOFFSETTO:+0100
TZNAME:CET
DTSTART:20251026T010000
END:STANDARD
END:VTIMEZONE
BEGIN:VEVENT
DTSTART;TZID=Europe/Berlin:20240615T110000
DTEND;TZID=Europe/Berlin:20240615T140000
DTSTAMP:20260421T172943
CREATED:20240507T095555Z
LAST-MODIFIED:20240529T095451Z
UID:10002984-1718449200-1718460000@bewusst-brueggen.de
SUMMARY:Bunter Markt „Rund ums älter werden“
DESCRIPTION:Beim Auftakt der Aktionswoche „Rund ums Älter werden“ haben Sie die Möglichkeit\, sich über die verschiedenen Seiten des Alters zu informieren. Dazu bieten die Kooperationspartner Abendkreis der Frauen\, Agentur für Haushaltshilfe\, ASB Viersen\, BIS e.V. Brüggen\, Caritas Nettetal und Schwalmtal\, Einsatz Ehrenamt Stadt Nettetal\, JedermannHilfe Brüggen\, EUTB Kreis Viersen\, Gerhardts Immobilien\, Krankenhaus Nettetal\, NetteAssistenz Christian van Rieth\, Pflegedienst Kerstin Schwieger\, Sanitätshaus Lettermann\, TuRa Brüggen 1923 e.V. Wohnberatung der Stadt Nettetal und der Gemeinden Brüggen\, Schwalmtal und Niederkrüchten\, ZAPUH und ZWAR Brüggen an ihren Ständen Informationen und Angebote. \nDie Veranstaltung ist kostenlos und frei zugänglich. Alle Interessierten sind herzlich willkommen\, kommen Sie gerne vorbei! \nBei Rückfragen zu der Veranstaltung oder der gesamten Aktionswoche können Sie sich bei Frau Klerckx oder Herrn Hink unter 02153 898 5032\, -5020 melden oder per Mail an senioren@nettetal.de wenden. \nWir freuen uns auf zahlreiche Teilnehmende und wünschen Ihnen viel Spaß bei der Aktionswoche 2024!
URL:https://bewusst-brueggen.de/kalender/bunter-markt-rund-ums-aelter-werden/
LOCATION:Nikolausplatz\, Nikolausplatz\, Brüggen\, 41379
CATEGORIES:Feste / Märkte,Senioren,Soziales
ATTACH;FMTTYPE=image/jpeg:https://bewusst-brueggen.de/wp-content/uploads/2024/05/bewusst-brueggen-seniorenwoche-veranstaltung.jpg
ORGANIZER;CN="Seniorenberatung Br%C3%BCggen/Nettetal%2C Pflegest%C3%BCtzpunkt":MAILTO:sebastian.hink@nettetal.de
END:VEVENT
BEGIN:VEVENT
DTSTART;VALUE=DATE:20240615
DTEND;VALUE=DATE:20240624
DTSTAMP:20260421T172943
CREATED:20231219T090758Z
LAST-MODIFIED:20240529T094735Z
UID:10001019-1718409600-1719187199@bewusst-brueggen.de
SUMMARY:Aktionswoche "Rund ums älter werden" 2024
DESCRIPTION:15.-23.06.2024 Aktionswoche „Rund ums älter werden“ in und um Brüggen. In der Aktionswoche sollen verschiedene Angebote neue Perspektiven auf das Leben im Alter ermöglichen.\nEs besteht die Möglichkeit\, anhand der angebotenen Veranstaltungen Eindrücke für sich selbst oder die Angehörigen zu gewinnen.\nAlle Angebote sind für die Interessierten kostenlos. Das Programm wird demnächst bekannt gegeben.
URL:https://bewusst-brueggen.de/kalender/aktionswoche-rund-ums-aelter-werden-2024/
CATEGORIES:Kultur,Senioren,Soziales
ATTACH;FMTTYPE=image/jpeg:https://bewusst-brueggen.de/wp-content/uploads/2024/05/bewusst-brueggen-seniorenwoche-veranstaltung.jpg
ORGANIZER;CN="Seniorenberatung Br%C3%BCggen/Nettetal%2C Pflegest%C3%BCtzpunkt":MAILTO:sebastian.hink@nettetal.de
END:VEVENT
BEGIN:VEVENT
DTSTART;TZID=Europe/Berlin:20240615T000000
DTEND;TZID=Europe/Berlin:20240615T000000
DTSTAMP:20260421T172943
CREATED:20240503T104245Z
LAST-MODIFIED:20240605T114956Z
UID:10002985-1718409600-1718409600@bewusst-brueggen.de
SUMMARY:Aktionswoche: Boule-Spiel in Brüggen und Born
DESCRIPTION:Sie spielen gerne Boule oder wollten es schon immer einmal ausprobieren\, dann kommen Sie vorbei. Es handelt sich hierbei um eine Kooperationsveranstaltung im Rahmen der Aktionswoche „Rund um‘ älter werden“ 2024. Die Veranstaltung ist kostenlos und frei zugänglich. Bei Rückfragen zu der Veranstaltung oder der gesamten Aktionswoche können Sie sich bei Frau Klerckx oder Herrn Hink unter 02153 898 5032\, -5020 melden oder per Mail an senioren@nettetal.de wenden. Wir freuen uns auf zahlreiche Teilnehmende und wünschen Ihnen viel Spaß bei der Aktionswoche 2024! \nBoule-Kugeln sind in der Tourist-Information in der Burg Brüggen kostenlos gegen Vorlage des Personalausweises erhältlich. In Brüggen wird von 10.30 bis 12.45 Uhr gespielt und in Born von 13.00 bis 16.00 Uhr.
URL:https://bewusst-brueggen.de/kalender/aktionswoche-rund-ums-aelter-werden-boulespiel/
LOCATION:Bouleplatz Brüggen\, Burgwall 43\, Brüggen\, Nordrhein-Westfalen\, 41379\, Deutschland
CATEGORIES:Senioren,Sport / Aktivität
ATTACH;FMTTYPE=image/jpeg:https://bewusst-brueggen.de/wp-content/uploads/2024/05/bewusst-brueggen-seniorenwoche-veranstaltung.jpg
ORGANIZER;CN="Seniorenberatung Br%C3%BCggen/Nettetal%2C Pflegest%C3%BCtzpunkt":MAILTO:sebastian.hink@nettetal.de
END:VEVENT
END:VCALENDAR