BEGIN:VCALENDAR
VERSION:2.0
PRODID:-//Bewusst Brüggen - ECPv6.15.20//NONSGML v1.0//EN
CALSCALE:GREGORIAN
METHOD:PUBLISH
X-ORIGINAL-URL:https://bewusst-brueggen.de
X-WR-CALDESC:Veranstaltungen für Bewusst Brüggen
REFRESH-INTERVAL;VALUE=DURATION:PT1H
X-Robots-Tag:noindex
X-PUBLISHED-TTL:PT1H
BEGIN:VTIMEZONE
TZID:Europe/Berlin
BEGIN:DAYLIGHT
TZOFFSETFROM:+0100
TZOFFSETTO:+0200
TZNAME:CEST
DTSTART:20220327T010000
END:DAYLIGHT
BEGIN:STANDARD
TZOFFSETFROM:+0200
TZOFFSETTO:+0100
TZNAME:CET
DTSTART:20221030T010000
END:STANDARD
BEGIN:DAYLIGHT
TZOFFSETFROM:+0100
TZOFFSETTO:+0200
TZNAME:CEST
DTSTART:20230326T010000
END:DAYLIGHT
BEGIN:STANDARD
TZOFFSETFROM:+0200
TZOFFSETTO:+0100
TZNAME:CET
DTSTART:20231029T010000
END:STANDARD
BEGIN:DAYLIGHT
TZOFFSETFROM:+0100
TZOFFSETTO:+0200
TZNAME:CEST
DTSTART:20240331T010000
END:DAYLIGHT
BEGIN:STANDARD
TZOFFSETFROM:+0200
TZOFFSETTO:+0100
TZNAME:CET
DTSTART:20241027T010000
END:STANDARD
BEGIN:DAYLIGHT
TZOFFSETFROM:+0100
TZOFFSETTO:+0200
TZNAME:CEST
DTSTART:20250330T010000
END:DAYLIGHT
BEGIN:STANDARD
TZOFFSETFROM:+0200
TZOFFSETTO:+0100
TZNAME:CET
DTSTART:20251026T010000
END:STANDARD
END:VTIMEZONE
BEGIN:VEVENT
DTSTART;TZID=Europe/Berlin:20241108T173000
DTEND;TZID=Europe/Berlin:20241108T190000
DTSTAMP:20260421T001458
CREATED:20240704T073337Z
LAST-MODIFIED:20250408T064207Z
UID:10003100-1731087000-1731092400@bewusst-brueggen.de
SUMMARY:Sankt-Martins-Umzug in Brüggen
DESCRIPTION:Traditioneller Sankt-Martins-Umzug in Brüggen
URL:https://bewusst-brueggen.de/kalender/sankt-martins-umzug-in-brueggen/
LOCATION:Nikolausplatz\, Nikolausplatz\, Brüggen\, 41379
CATEGORIES:Brauchtum/ Heimatkunde
ORGANIZER;CN="St. Martins-Komitee Br%C3%BCggen e.V. - Elvira Lankes":MAILTO:elvira.lankes@t-online.de
END:VEVENT
BEGIN:VEVENT
DTSTART;TZID=Europe/Berlin:20231110T170000
DTEND;TZID=Europe/Berlin:20231110T190000
DTSTAMP:20260421T001458
CREATED:20231004T081326Z
LAST-MODIFIED:20231213T145501Z
UID:10000827-1699635600-1699642800@bewusst-brueggen.de
SUMMARY:St. Martinsumzug Brüggen
DESCRIPTION:Ablauf:\nBeginn des St. Martinsumzuges und der Tütenausgabe ist 17.30 Uhr.\nDie Tütenausgabe findet auf dem Schulhof der Gesamtschule Brüggen statt.\nGutscheine\, die bis 19.00 Uhr nicht eingelöst wurden\, verfallen\nersatzlos. Auch bei Verlust des Gutscheines\, gibt es keinen Ersatz. \nZugweg:\nAufstellung Kreuzherrenplatz – Westring – Klosterstraße – Hochstraße – Lindenweg – Leonhard-Jansen-Straße – Elsterweg – Roermonder Straße – In den Benden – Wolfsbend – Westring zum Martinsfeuer (Bolzplatz Deichweg) – Nauenweg/Deichweg – Westring – Kreuzherrenplatz \nBei schlechtem Wetter kann der Zugweg kurzfristig geändert werden. \nSpenden & Tüten:\nDie Sammler sind noch bis zum 20.10. unterwegs\, um für die Finanzierung der St. Martinstüten zu sammeln. Es können auch Tüten Gutscheine für 10€ gekauft werden.\nAb dem 23.10. bis einschließlich 03.11.\, 12.00 Uhr können am Empfang der Gemeindeverwaltung im Brüggener Rathaus auch noch Tüten Gutscheine für 10 € gekauft werden.
URL:https://bewusst-brueggen.de/kalender/st-martinsumzug-brueggen/
LOCATION:Kreuzherrenplatz\, Kreuzherrenplatz\, Brüggen\, 41379\, Germany
CATEGORIES:Brauchtum/ Heimatkunde
ATTACH;FMTTYPE=image/jpeg:https://bewusst-brueggen.de/wp-content/uploads/2023/10/bewusst-brueggen-foto-sankt-martin-brueggen.jpg
ORGANIZER;CN="St. Martins-Komitee Br%C3%BCggen e.V. - Elvira Lankes":MAILTO:elvira.lankes@t-online.de
END:VEVENT
END:VCALENDAR