BEGIN:VCALENDAR
VERSION:2.0
PRODID:-//Bewusst Brüggen - ECPv6.15.20//NONSGML v1.0//EN
CALSCALE:GREGORIAN
METHOD:PUBLISH
X-WR-CALNAME:Bewusst Brüggen
X-ORIGINAL-URL:https://bewusst-brueggen.de
X-WR-CALDESC:Veranstaltungen für Bewusst Brüggen
REFRESH-INTERVAL;VALUE=DURATION:PT1H
X-Robots-Tag:noindex
X-PUBLISHED-TTL:PT1H
BEGIN:VTIMEZONE
TZID:Europe/Berlin
BEGIN:DAYLIGHT
TZOFFSETFROM:+0100
TZOFFSETTO:+0200
TZNAME:CEST
DTSTART:20220327T010000
END:DAYLIGHT
BEGIN:STANDARD
TZOFFSETFROM:+0200
TZOFFSETTO:+0100
TZNAME:CET
DTSTART:20221030T010000
END:STANDARD
BEGIN:DAYLIGHT
TZOFFSETFROM:+0100
TZOFFSETTO:+0200
TZNAME:CEST
DTSTART:20230326T010000
END:DAYLIGHT
BEGIN:STANDARD
TZOFFSETFROM:+0200
TZOFFSETTO:+0100
TZNAME:CET
DTSTART:20231029T010000
END:STANDARD
BEGIN:DAYLIGHT
TZOFFSETFROM:+0100
TZOFFSETTO:+0200
TZNAME:CEST
DTSTART:20240331T010000
END:DAYLIGHT
BEGIN:STANDARD
TZOFFSETFROM:+0200
TZOFFSETTO:+0100
TZNAME:CET
DTSTART:20241027T010000
END:STANDARD
END:VTIMEZONE
BEGIN:VEVENT
DTSTART;VALUE=DATE:20230609
DTEND;VALUE=DATE:20230612
DTSTAMP:20260420T011247
CREATED:20230328T170130Z
LAST-MODIFIED:20231213T145559Z
UID:10000380-1686268800-1686527999@bewusst-brueggen.de
SUMMARY:Heimat- und Schützenfest Brüggen
DESCRIPTION:Festfolge zum Schützenfest der St. Nikolaus Bruderschaft Brüggen 1861 e.V.\nFreitag\, 09. Juni\n17:50 Uhr Errichten des Königsmaien am Festzelt\n18:45 Uhr Totenehrung\, Kranzniederlegung und Großer Zapfenstreich auf dem Brüggener Friedhof\n20:00 Uhr Schützenball \nSamstag\, 10. Juni 2023\n15:00 Uhr Klompenball für die ganze Familie mit DJ Posches\n19:00 Uhr 5. Brüggener Klompenparty mit der Band ALTKÖLSCH und DJ POSCHES \nSonntag\, 11. Juni 2023\n08:30 Uhr Festhochamt in der Pfarrkirche St. Nikolaus\n09:45 Uhr Großer Festumzug\n10:30 Uhr Frühschoppen mit Ehrungen im Festzelt\n16.30 Uhr Königsparade auf dem Nikolausplatz\n19:30 Uhr Königs-Gala-Ball im Festzelt
URL:https://bewusst-brueggen.de/kalender/heimat-und-schuetzenfest-brueggen/
CATEGORIES:Brauchtum/ Heimatkunde
ATTACH;FMTTYPE=:
ORGANIZER;CN="St. Nikolaus-Bruderschaft Br%C3%BCggen 1861 e.V. - Hartmut Hommen":MAILTO:info@bruderschaft-brueggen.de
END:VEVENT
BEGIN:VEVENT
DTSTART;TZID=Europe/Berlin:20230415T140000
DTEND;TZID=Europe/Berlin:20230415T140000
DTSTAMP:20260420T011247
CREATED:20230328T075730Z
LAST-MODIFIED:20231213T145623Z
UID:10000300-1681567200-1681567200@bewusst-brueggen.de
SUMMARY:Bruderschaftstag und Vogelschuss
DESCRIPTION:St. Nikolaus Bruderschaft lädt zum großen Vogelschuss ein.
URL:https://bewusst-brueggen.de/kalender/bruderschaftstag_und_vogelschuss/
LOCATION:Burgwiese\, Burgwall\, Brüggen\, 41379
CATEGORIES:Brauchtum/ Heimatkunde
ATTACH;FMTTYPE=:
ORGANIZER;CN="St. Nikolaus-Bruderschaft Br%C3%BCggen 1861 e.V. - Hartmut Hommen":MAILTO:info@bruderschaft-brueggen.de
END:VEVENT
END:VCALENDAR