BEGIN:VCALENDAR
VERSION:2.0
PRODID:-//Bewusst Brüggen - ECPv6.15.20//NONSGML v1.0//EN
CALSCALE:GREGORIAN
METHOD:PUBLISH
X-WR-CALNAME:Bewusst Brüggen
X-ORIGINAL-URL:https://bewusst-brueggen.de
X-WR-CALDESC:Veranstaltungen für Bewusst Brüggen
REFRESH-INTERVAL;VALUE=DURATION:PT1H
X-Robots-Tag:noindex
X-PUBLISHED-TTL:PT1H
BEGIN:VTIMEZONE
TZID:Europe/Berlin
BEGIN:DAYLIGHT
TZOFFSETFROM:+0100
TZOFFSETTO:+0200
TZNAME:CEST
DTSTART:20220327T010000
END:DAYLIGHT
BEGIN:STANDARD
TZOFFSETFROM:+0200
TZOFFSETTO:+0100
TZNAME:CET
DTSTART:20221030T010000
END:STANDARD
BEGIN:DAYLIGHT
TZOFFSETFROM:+0100
TZOFFSETTO:+0200
TZNAME:CEST
DTSTART:20230326T010000
END:DAYLIGHT
BEGIN:STANDARD
TZOFFSETFROM:+0200
TZOFFSETTO:+0100
TZNAME:CET
DTSTART:20231029T010000
END:STANDARD
BEGIN:DAYLIGHT
TZOFFSETFROM:+0100
TZOFFSETTO:+0200
TZNAME:CEST
DTSTART:20240331T010000
END:DAYLIGHT
BEGIN:STANDARD
TZOFFSETFROM:+0200
TZOFFSETTO:+0100
TZNAME:CET
DTSTART:20241027T010000
END:STANDARD
BEGIN:DAYLIGHT
TZOFFSETFROM:+0100
TZOFFSETTO:+0200
TZNAME:CEST
DTSTART:20250330T010000
END:DAYLIGHT
BEGIN:STANDARD
TZOFFSETFROM:+0200
TZOFFSETTO:+0100
TZNAME:CET
DTSTART:20251026T010000
END:STANDARD
END:VTIMEZONE
BEGIN:VEVENT
DTSTART;TZID=Europe/Berlin:20240316T200000
DTEND;TZID=Europe/Berlin:20240316T230000
DTSTAMP:20260422T142326
CREATED:20231214T154954Z
LAST-MODIFIED:20231215T075302Z
UID:10001013-1710619200-1710630000@bewusst-brueggen.de
SUMMARY:Theaterverein "Einigkeit" Alst 1929: "Neurosige Zeiten"
DESCRIPTION:Der Theaterverein führt im Jahre 2024 das Stück „Neurosige Zeiten“ auf. \nWie empfängt man Besuch in einer Irrenanstalt\, ohne das der Besuch merkt dass er in einer Irrenanstalt ist? Wie macht man aus einer skurrilen Psychiatrie-Wohngruppe ganz normale Menschen? Nach einem verrückten Verwechslungsspiel kann es da nur heißen: Wer ist eigentlich verrückt? Und was ist überhaupt normal? \nEintrittskarten können ab dem 13.01.2024 per E-Mail an Karten@Theaterverein-Alst.de oder telefonisch unter 02157/126986 vorbestellt werden. Die vorbestellten Karten können am Montag\, den 04. März 2024 oder am Dienstag\, den 05. März 2024\, jeweils in der Zeit von 17.00 – 19.00 Uhr\, in der Ratsstube/Bürgersaal Bracht\, Marktstraße 7\, abgeholt und bezahlt werden.
URL:https://bewusst-brueggen.de/kalender/theaterverein-einigkeit-alst-1929-2/
LOCATION:Bürgersaal Bracht\, Marktstraße 7\, Brüggen\, 41379
CATEGORIES:Kultur
ORGANIZER;CN="Theaterverein 'Einigkeit' Alst":MAILTO:karten@theaterverein-alst.de
END:VEVENT
BEGIN:VEVENT
DTSTART;TZID=Europe/Berlin:20240310T160000
DTEND;TZID=Europe/Berlin:20240310T173000
DTSTAMP:20260422T142326
CREATED:20240109T111617Z
LAST-MODIFIED:20240110T143145Z
UID:10001215-1710086400-1710091800@bewusst-brueggen.de
SUMMARY:Kinder- und Jugendtheater "Mummel und der Talentverteiler"
DESCRIPTION:Das Junge Theater des Theatervereins „Einigkeit“ Alst 1929 führt auf:\n„Mummel und der Talentverteiler“ – ein Theaterstück in 2 Akten gespielt von Kindern und Jugendlichen im Alter zwischen 9 und 16 Jahren. \nMummel ist ein Kobold mit vielen verschiedenen Interessen. Doch ein echtes Talent\, wie sein bester Freund Fabius Fledermaus\, hat er nicht. Oh\, und er hätte doch so gerne eines. Backen\, vielleicht? Nein\, denn spätestens als dicker Rauch aus dem Ofen quillt\, zeigt sich\, dass es das wohl nicht ist. Also\, was tun\, wenn man nicht weiß\, welches Talent – oder\, ob man überhaupt eins hat? Fabius und Mummel machen sich kurzerhand auf eine ereignisreiche Suche. Sie treffen viele lustige Leute und überall versucht Mummel\, etwas zu lernen. Doch welches Talent er dann am Schluss an sich entdeckt\, überrascht ihn sehr. Ein buntes Kinderstück\, in dem Freundschaft und der Mut\, sich auszuprobieren\, im Mittelpunkt stehen. \nDas Stück dauert ca. 90 Minuten inkl. Pause und ist geeignet ab 5 Jahren. \n 
URL:https://bewusst-brueggen.de/kalender/kinder-und-jugendtheater-mummel-und-der-talentverteiler/2024-03-10/
LOCATION:Bürgersaal Bracht\, Marktstraße 7\, Brüggen\, 41379
CATEGORIES:Kinder/ Jugendliche,Kultur
ATTACH;FMTTYPE=image/png:https://bewusst-brueggen.de/wp-content/uploads/2024/01/cropped-ThV-Logo.png
ORGANIZER;CN="Theaterverein 'Einigkeit' Alst":MAILTO:karten@theaterverein-alst.de
END:VEVENT
BEGIN:VEVENT
DTSTART;TZID=Europe/Berlin:20240309T160000
DTEND;TZID=Europe/Berlin:20240309T173000
DTSTAMP:20260422T142326
CREATED:20240109T111617Z
LAST-MODIFIED:20240110T143145Z
UID:10001214-1710000000-1710005400@bewusst-brueggen.de
SUMMARY:Kinder- und Jugendtheater "Mummel und der Talentverteiler"
DESCRIPTION:Das Junge Theater des Theatervereins „Einigkeit“ Alst 1929 führt auf:\n„Mummel und der Talentverteiler“ – ein Theaterstück in 2 Akten gespielt von Kindern und Jugendlichen im Alter zwischen 9 und 16 Jahren. \nMummel ist ein Kobold mit vielen verschiedenen Interessen. Doch ein echtes Talent\, wie sein bester Freund Fabius Fledermaus\, hat er nicht. Oh\, und er hätte doch so gerne eines. Backen\, vielleicht? Nein\, denn spätestens als dicker Rauch aus dem Ofen quillt\, zeigt sich\, dass es das wohl nicht ist. Also\, was tun\, wenn man nicht weiß\, welches Talent – oder\, ob man überhaupt eins hat? Fabius und Mummel machen sich kurzerhand auf eine ereignisreiche Suche. Sie treffen viele lustige Leute und überall versucht Mummel\, etwas zu lernen. Doch welches Talent er dann am Schluss an sich entdeckt\, überrascht ihn sehr. Ein buntes Kinderstück\, in dem Freundschaft und der Mut\, sich auszuprobieren\, im Mittelpunkt stehen. \nDas Stück dauert ca. 90 Minuten inkl. Pause und ist geeignet ab 5 Jahren. \n 
URL:https://bewusst-brueggen.de/kalender/kinder-und-jugendtheater-mummel-und-der-talentverteiler/2024-03-09/
LOCATION:Bürgersaal Bracht\, Marktstraße 7\, Brüggen\, 41379
CATEGORIES:Kinder/ Jugendliche,Kultur
ATTACH;FMTTYPE=image/png:https://bewusst-brueggen.de/wp-content/uploads/2024/01/cropped-ThV-Logo.png
ORGANIZER;CN="Theaterverein 'Einigkeit' Alst":MAILTO:karten@theaterverein-alst.de
END:VEVENT
BEGIN:VEVENT
DTSTART;TZID=Europe/Berlin:20230317T180000
DTEND;TZID=Europe/Berlin:20230317T210000
DTSTAMP:20260422T142326
CREATED:20231212T084116Z
LAST-MODIFIED:20231214T152804Z
UID:10001008-1679076000-1679086800@bewusst-brueggen.de
SUMMARY:Theaterverein "Einigkeit" Alst 1929: "Neurosige Zeiten"
DESCRIPTION:Der Theaterverein führt im Jahre 2024 das Stück „Neurosige Zeiten“ auf. \nWie empfängt man Besuch in einer Irrenanstalt\, ohne das der Besuch merkt dass er in einer Irrenanstalt ist? Wie macht man aus einer skurrilen Psychiatrie-Wohngruppe ganz normale Menschen? Nach einem verrückten Verwechslungsspiel kann es da nur heißen: Wer ist eigentlich verrückt? Und was ist überhaupt normal? \nEintrittskarten können ab dem 13.01.2024 per E-Mail an Karten@Theaterverein-Alst.de oder telefonisch unter 02157/126986 vorbestellt werden. Die vorbestellten Karten können am Montag\, den 04. März 2024 oder am Dienstag\, den 05. März 2024\, jeweils in der Zeit von 17.00 – 19.00 Uhr\, in der Ratsstube/Bürgersaal Bracht\, Marktstraße 7\, abgeholt und bezahlt werden.
URL:https://bewusst-brueggen.de/kalender/theaterverein-einigkeit-alst-1929/2023-03-17/
LOCATION:Bürgersaal Bracht\, Marktstraße 7\, Brüggen\, 41379
CATEGORIES:Kultur
ORGANIZER;CN="Theaterverein 'Einigkeit' Alst":MAILTO:karten@theaterverein-alst.de
END:VEVENT
END:VCALENDAR