BEGIN:VCALENDAR
VERSION:2.0
PRODID:-//Bewusst Brüggen - ECPv6.15.20//NONSGML v1.0//EN
CALSCALE:GREGORIAN
METHOD:PUBLISH
X-WR-CALNAME:Bewusst Brüggen
X-ORIGINAL-URL:https://bewusst-brueggen.de
X-WR-CALDESC:Veranstaltungen für Bewusst Brüggen
REFRESH-INTERVAL;VALUE=DURATION:PT1H
X-Robots-Tag:noindex
X-PUBLISHED-TTL:PT1H
BEGIN:VTIMEZONE
TZID:Europe/Berlin
BEGIN:DAYLIGHT
TZOFFSETFROM:+0100
TZOFFSETTO:+0200
TZNAME:CEST
DTSTART:20250330T010000
END:DAYLIGHT
BEGIN:STANDARD
TZOFFSETFROM:+0200
TZOFFSETTO:+0100
TZNAME:CET
DTSTART:20251026T010000
END:STANDARD
BEGIN:DAYLIGHT
TZOFFSETFROM:+0100
TZOFFSETTO:+0200
TZNAME:CEST
DTSTART:20260329T010000
END:DAYLIGHT
BEGIN:STANDARD
TZOFFSETFROM:+0200
TZOFFSETTO:+0100
TZNAME:CET
DTSTART:20261025T010000
END:STANDARD
BEGIN:DAYLIGHT
TZOFFSETFROM:+0100
TZOFFSETTO:+0200
TZNAME:CEST
DTSTART:20270328T010000
END:DAYLIGHT
BEGIN:STANDARD
TZOFFSETFROM:+0200
TZOFFSETTO:+0100
TZNAME:CET
DTSTART:20271031T010000
END:STANDARD
END:VTIMEZONE
BEGIN:VEVENT
DTSTART;TZID=Europe/Berlin:20260823T110000
DTEND;TZID=Europe/Berlin:20260823T123000
DTSTAMP:20260423T160550
CREATED:20260422T101857Z
LAST-MODIFIED:20260422T102234Z
UID:10006728-1787482800-1787488200@bewusst-brueggen.de
SUMMARY:Offene Stadtführung - Das historische Brüggen entdecken
DESCRIPTION:Lust auf eine Zeitreise? Begleite unsere Stadtführenden – klassisch oder im historischen Gewand – durch den historischen Ortskern von Brüggen. Vergiss trockene Jahreszahlen: Dich erwartet eine lebendige Mischung aus Geschichte\, familiären Anekdoten und lokaler Mundart. Ob du alleine kommst oder mit anderen unterwegs bist – erlebe\, wie kurzweilig und nahbar Historie sein kann\, und schaffe gemeinsam mit uns unvergessliche Erinnerungen. \nDas historische Brüggen entdecken \nFast jeder hat schon einmal eine klassische Stadtführung erlebt.\nEin Experte führt eine Gruppe zu historischen oder bekannten Bauwerken einer Stadt und erzählt über Adel\, Dichter und Kriege. Das ist interessant\, aber oftmals bleibt ein gewisser Abstand zwischen Geschichte und Betrachter. Nicht so bei der unterhaltsamen Führung durch die Brüggener Altstadt. \nLass dich überraschen\, wie kurzweilig man historische Fakten präsentieren und erleben kann. \nDieser Termin passt für dich nicht? Kein Problem! Von Mai bis September gibt es viele Termine\, um eine offene Stadtführung zu besuchen. \nÜber das Beteiligungsportal NRW hast du die Möglichkeit\, dir einen Platz zu reservieren.
URL:https://bewusst-brueggen.de/kalender/offene-stadtfuehrung-das-historische-brueggen-entdecken-4/2026-08-23/
LOCATION:Burginnenhof\, Burgwall\, Brüggen\, NRW\, 41379
CATEGORIES:Führung
ATTACH;FMTTYPE=image/jpeg:https://bewusst-brueggen.de/wp-content/uploads/2024/04/bewusst-brueggen-beitrag-stadtfuehrung.jpg
ORGANIZER;CN="Tourist-Information":MAILTO:tourist-info@brueggen.de
END:VEVENT
BEGIN:VEVENT
DTSTART;TZID=Europe/Berlin:20260830T110000
DTEND;TZID=Europe/Berlin:20260830T123000
DTSTAMP:20260423T160550
CREATED:20260422T101857Z
LAST-MODIFIED:20260422T102234Z
UID:10006729-1788087600-1788093000@bewusst-brueggen.de
SUMMARY:Offene Stadtführung - Das historische Brüggen entdecken
DESCRIPTION:Lust auf eine Zeitreise? Begleite unsere Stadtführenden – klassisch oder im historischen Gewand – durch den historischen Ortskern von Brüggen. Vergiss trockene Jahreszahlen: Dich erwartet eine lebendige Mischung aus Geschichte\, familiären Anekdoten und lokaler Mundart. Ob du alleine kommst oder mit anderen unterwegs bist – erlebe\, wie kurzweilig und nahbar Historie sein kann\, und schaffe gemeinsam mit uns unvergessliche Erinnerungen. \nDas historische Brüggen entdecken \nFast jeder hat schon einmal eine klassische Stadtführung erlebt.\nEin Experte führt eine Gruppe zu historischen oder bekannten Bauwerken einer Stadt und erzählt über Adel\, Dichter und Kriege. Das ist interessant\, aber oftmals bleibt ein gewisser Abstand zwischen Geschichte und Betrachter. Nicht so bei der unterhaltsamen Führung durch die Brüggener Altstadt. \nLass dich überraschen\, wie kurzweilig man historische Fakten präsentieren und erleben kann. \nDieser Termin passt für dich nicht? Kein Problem! Von Mai bis September gibt es viele Termine\, um eine offene Stadtführung zu besuchen. \nÜber das Beteiligungsportal NRW hast du die Möglichkeit\, dir einen Platz zu reservieren.
URL:https://bewusst-brueggen.de/kalender/offene-stadtfuehrung-das-historische-brueggen-entdecken-4/2026-08-30/
LOCATION:Burginnenhof\, Burgwall\, Brüggen\, NRW\, 41379
CATEGORIES:Führung
ATTACH;FMTTYPE=image/jpeg:https://bewusst-brueggen.de/wp-content/uploads/2024/04/bewusst-brueggen-beitrag-stadtfuehrung.jpg
ORGANIZER;CN="Tourist-Information":MAILTO:tourist-info@brueggen.de
END:VEVENT
BEGIN:VEVENT
DTSTART;TZID=Europe/Berlin:20260906T110000
DTEND;TZID=Europe/Berlin:20260906T123000
DTSTAMP:20260423T160550
CREATED:20260422T101857Z
LAST-MODIFIED:20260422T102234Z
UID:10006730-1788692400-1788697800@bewusst-brueggen.de
SUMMARY:Offene Stadtführung - Das historische Brüggen entdecken
DESCRIPTION:Lust auf eine Zeitreise? Begleite unsere Stadtführenden – klassisch oder im historischen Gewand – durch den historischen Ortskern von Brüggen. Vergiss trockene Jahreszahlen: Dich erwartet eine lebendige Mischung aus Geschichte\, familiären Anekdoten und lokaler Mundart. Ob du alleine kommst oder mit anderen unterwegs bist – erlebe\, wie kurzweilig und nahbar Historie sein kann\, und schaffe gemeinsam mit uns unvergessliche Erinnerungen. \nDas historische Brüggen entdecken \nFast jeder hat schon einmal eine klassische Stadtführung erlebt.\nEin Experte führt eine Gruppe zu historischen oder bekannten Bauwerken einer Stadt und erzählt über Adel\, Dichter und Kriege. Das ist interessant\, aber oftmals bleibt ein gewisser Abstand zwischen Geschichte und Betrachter. Nicht so bei der unterhaltsamen Führung durch die Brüggener Altstadt. \nLass dich überraschen\, wie kurzweilig man historische Fakten präsentieren und erleben kann. \nDieser Termin passt für dich nicht? Kein Problem! Von Mai bis September gibt es viele Termine\, um eine offene Stadtführung zu besuchen. \nÜber das Beteiligungsportal NRW hast du die Möglichkeit\, dir einen Platz zu reservieren.
URL:https://bewusst-brueggen.de/kalender/offene-stadtfuehrung-das-historische-brueggen-entdecken-4/2026-09-06/
LOCATION:Burginnenhof\, Burgwall\, Brüggen\, NRW\, 41379
CATEGORIES:Führung
ATTACH;FMTTYPE=image/jpeg:https://bewusst-brueggen.de/wp-content/uploads/2024/04/bewusst-brueggen-beitrag-stadtfuehrung.jpg
ORGANIZER;CN="Tourist-Information":MAILTO:tourist-info@brueggen.de
END:VEVENT
BEGIN:VEVENT
DTSTART;TZID=Europe/Berlin:20260913T110000
DTEND;TZID=Europe/Berlin:20260913T123000
DTSTAMP:20260423T160550
CREATED:20260422T101857Z
LAST-MODIFIED:20260422T102234Z
UID:10006731-1789297200-1789302600@bewusst-brueggen.de
SUMMARY:Offene Stadtführung - Das historische Brüggen entdecken
DESCRIPTION:Lust auf eine Zeitreise? Begleite unsere Stadtführenden – klassisch oder im historischen Gewand – durch den historischen Ortskern von Brüggen. Vergiss trockene Jahreszahlen: Dich erwartet eine lebendige Mischung aus Geschichte\, familiären Anekdoten und lokaler Mundart. Ob du alleine kommst oder mit anderen unterwegs bist – erlebe\, wie kurzweilig und nahbar Historie sein kann\, und schaffe gemeinsam mit uns unvergessliche Erinnerungen. \nDas historische Brüggen entdecken \nFast jeder hat schon einmal eine klassische Stadtführung erlebt.\nEin Experte führt eine Gruppe zu historischen oder bekannten Bauwerken einer Stadt und erzählt über Adel\, Dichter und Kriege. Das ist interessant\, aber oftmals bleibt ein gewisser Abstand zwischen Geschichte und Betrachter. Nicht so bei der unterhaltsamen Führung durch die Brüggener Altstadt. \nLass dich überraschen\, wie kurzweilig man historische Fakten präsentieren und erleben kann. \nDieser Termin passt für dich nicht? Kein Problem! Von Mai bis September gibt es viele Termine\, um eine offene Stadtführung zu besuchen. \nÜber das Beteiligungsportal NRW hast du die Möglichkeit\, dir einen Platz zu reservieren.
URL:https://bewusst-brueggen.de/kalender/offene-stadtfuehrung-das-historische-brueggen-entdecken-4/2026-09-13/
LOCATION:Burginnenhof\, Burgwall\, Brüggen\, NRW\, 41379
CATEGORIES:Führung
ATTACH;FMTTYPE=image/jpeg:https://bewusst-brueggen.de/wp-content/uploads/2024/04/bewusst-brueggen-beitrag-stadtfuehrung.jpg
ORGANIZER;CN="Tourist-Information":MAILTO:tourist-info@brueggen.de
END:VEVENT
BEGIN:VEVENT
DTSTART;TZID=Europe/Berlin:20260920T110000
DTEND;TZID=Europe/Berlin:20260920T123000
DTSTAMP:20260423T160550
CREATED:20260422T101857Z
LAST-MODIFIED:20260422T102234Z
UID:10006732-1789902000-1789907400@bewusst-brueggen.de
SUMMARY:Offene Stadtführung - Das historische Brüggen entdecken
DESCRIPTION:Lust auf eine Zeitreise? Begleite unsere Stadtführenden – klassisch oder im historischen Gewand – durch den historischen Ortskern von Brüggen. Vergiss trockene Jahreszahlen: Dich erwartet eine lebendige Mischung aus Geschichte\, familiären Anekdoten und lokaler Mundart. Ob du alleine kommst oder mit anderen unterwegs bist – erlebe\, wie kurzweilig und nahbar Historie sein kann\, und schaffe gemeinsam mit uns unvergessliche Erinnerungen. \nDas historische Brüggen entdecken \nFast jeder hat schon einmal eine klassische Stadtführung erlebt.\nEin Experte führt eine Gruppe zu historischen oder bekannten Bauwerken einer Stadt und erzählt über Adel\, Dichter und Kriege. Das ist interessant\, aber oftmals bleibt ein gewisser Abstand zwischen Geschichte und Betrachter. Nicht so bei der unterhaltsamen Führung durch die Brüggener Altstadt. \nLass dich überraschen\, wie kurzweilig man historische Fakten präsentieren und erleben kann. \nDieser Termin passt für dich nicht? Kein Problem! Von Mai bis September gibt es viele Termine\, um eine offene Stadtführung zu besuchen. \nÜber das Beteiligungsportal NRW hast du die Möglichkeit\, dir einen Platz zu reservieren.
URL:https://bewusst-brueggen.de/kalender/offene-stadtfuehrung-das-historische-brueggen-entdecken-4/2026-09-20/
LOCATION:Burginnenhof\, Burgwall\, Brüggen\, NRW\, 41379
CATEGORIES:Führung
ATTACH;FMTTYPE=image/jpeg:https://bewusst-brueggen.de/wp-content/uploads/2024/04/bewusst-brueggen-beitrag-stadtfuehrung.jpg
ORGANIZER;CN="Tourist-Information":MAILTO:tourist-info@brueggen.de
END:VEVENT
BEGIN:VEVENT
DTSTART;TZID=Europe/Berlin:20260927T110000
DTEND;TZID=Europe/Berlin:20260927T123000
DTSTAMP:20260423T160550
CREATED:20260422T101857Z
LAST-MODIFIED:20260422T102234Z
UID:10006733-1790506800-1790512200@bewusst-brueggen.de
SUMMARY:Offene Stadtführung - Das historische Brüggen entdecken
DESCRIPTION:Lust auf eine Zeitreise? Begleite unsere Stadtführenden – klassisch oder im historischen Gewand – durch den historischen Ortskern von Brüggen. Vergiss trockene Jahreszahlen: Dich erwartet eine lebendige Mischung aus Geschichte\, familiären Anekdoten und lokaler Mundart. Ob du alleine kommst oder mit anderen unterwegs bist – erlebe\, wie kurzweilig und nahbar Historie sein kann\, und schaffe gemeinsam mit uns unvergessliche Erinnerungen. \nDas historische Brüggen entdecken \nFast jeder hat schon einmal eine klassische Stadtführung erlebt.\nEin Experte führt eine Gruppe zu historischen oder bekannten Bauwerken einer Stadt und erzählt über Adel\, Dichter und Kriege. Das ist interessant\, aber oftmals bleibt ein gewisser Abstand zwischen Geschichte und Betrachter. Nicht so bei der unterhaltsamen Führung durch die Brüggener Altstadt. \nLass dich überraschen\, wie kurzweilig man historische Fakten präsentieren und erleben kann. \nDieser Termin passt für dich nicht? Kein Problem! Von Mai bis September gibt es viele Termine\, um eine offene Stadtführung zu besuchen. \nÜber das Beteiligungsportal NRW hast du die Möglichkeit\, dir einen Platz zu reservieren.
URL:https://bewusst-brueggen.de/kalender/offene-stadtfuehrung-das-historische-brueggen-entdecken-4/2026-09-27/
LOCATION:Burginnenhof\, Burgwall\, Brüggen\, NRW\, 41379
CATEGORIES:Führung
ATTACH;FMTTYPE=image/jpeg:https://bewusst-brueggen.de/wp-content/uploads/2024/04/bewusst-brueggen-beitrag-stadtfuehrung.jpg
ORGANIZER;CN="Tourist-Information":MAILTO:tourist-info@brueggen.de
END:VEVENT
END:VCALENDAR