BEGIN:VCALENDAR
VERSION:2.0
PRODID:-//Bewusst Brüggen - ECPv6.15.20//NONSGML v1.0//EN
CALSCALE:GREGORIAN
METHOD:PUBLISH
X-WR-CALNAME:Bewusst Brüggen
X-ORIGINAL-URL:https://bewusst-brueggen.de
X-WR-CALDESC:Veranstaltungen für Bewusst Brüggen
REFRESH-INTERVAL;VALUE=DURATION:PT1H
X-Robots-Tag:noindex
X-PUBLISHED-TTL:PT1H
BEGIN:VTIMEZONE
TZID:Europe/Berlin
BEGIN:DAYLIGHT
TZOFFSETFROM:+0100
TZOFFSETTO:+0200
TZNAME:CEST
DTSTART:20220327T010000
END:DAYLIGHT
BEGIN:STANDARD
TZOFFSETFROM:+0200
TZOFFSETTO:+0100
TZNAME:CET
DTSTART:20221030T010000
END:STANDARD
BEGIN:DAYLIGHT
TZOFFSETFROM:+0100
TZOFFSETTO:+0200
TZNAME:CEST
DTSTART:20230326T010000
END:DAYLIGHT
BEGIN:STANDARD
TZOFFSETFROM:+0200
TZOFFSETTO:+0100
TZNAME:CET
DTSTART:20231029T010000
END:STANDARD
BEGIN:DAYLIGHT
TZOFFSETFROM:+0100
TZOFFSETTO:+0200
TZNAME:CEST
DTSTART:20240331T010000
END:DAYLIGHT
BEGIN:STANDARD
TZOFFSETFROM:+0200
TZOFFSETTO:+0100
TZNAME:CET
DTSTART:20241027T010000
END:STANDARD
BEGIN:DAYLIGHT
TZOFFSETFROM:+0100
TZOFFSETTO:+0200
TZNAME:CEST
DTSTART:20250330T010000
END:DAYLIGHT
BEGIN:STANDARD
TZOFFSETFROM:+0200
TZOFFSETTO:+0100
TZNAME:CET
DTSTART:20251026T010000
END:STANDARD
BEGIN:DAYLIGHT
TZOFFSETFROM:+0100
TZOFFSETTO:+0200
TZNAME:CEST
DTSTART:20260329T010000
END:DAYLIGHT
BEGIN:STANDARD
TZOFFSETFROM:+0200
TZOFFSETTO:+0100
TZNAME:CET
DTSTART:20261025T010000
END:STANDARD
BEGIN:DAYLIGHT
TZOFFSETFROM:+0100
TZOFFSETTO:+0200
TZNAME:CEST
DTSTART:20270328T010000
END:DAYLIGHT
BEGIN:STANDARD
TZOFFSETFROM:+0200
TZOFFSETTO:+0100
TZNAME:CET
DTSTART:20271031T010000
END:STANDARD
END:VTIMEZONE
BEGIN:VEVENT
DTSTART;TZID=Europe/Berlin:20260327T183000
DTEND;TZID=Europe/Berlin:20260327T210000
DTSTAMP:20260420T022424
CREATED:20260310T090740Z
LAST-MODIFIED:20260310T090740Z
UID:10006591-1774636200-1774645200@bewusst-brueggen.de
SUMMARY:Jahreshauptversammlung TuRa Brüggen
DESCRIPTION:JHV für alle Mitglieder und Interessierte von TuRa Brüggen 1923 e.V. Berichte\, Informationen und Blick in die Zukunft sind Bestandteil der Versammlung.
URL:https://bewusst-brueggen.de/kalender/jahreshauptversammlung-tura-brueggen/
LOCATION:Sportanlage am Vennberg\, Am Vennberg 7\, Brüggen\, 41379
CATEGORIES:Vereine & Ehrenamt
ATTACH;FMTTYPE=image/jpeg:https://bewusst-brueggen.de/wp-content/uploads/2026/03/Einladung_JHV_26.jpg
ORGANIZER;CN="TuRa Br%C3%BCggen 1923 e.V.":MAILTO:geschaeftsstelle@tura1923.de
END:VEVENT
BEGIN:VEVENT
DTSTART;TZID=Europe/Berlin:20250927T110000
DTEND;TZID=Europe/Berlin:20250927T160000
DTSTAMP:20260420T022424
CREATED:20250717T111004Z
LAST-MODIFIED:20250717T111004Z
UID:10005481-1758970800-1758988800@bewusst-brueggen.de
SUMMARY:31.Schwimm-Gemeindemeisterschaft TuRa Brüggen
DESCRIPTION:An diesem Schwimmwettkampf können alle Bürgerinnen und Bürger der Gemeinde Brüggen\, Schülerinnen und Schüler der Brüggener Schulen sowie Mitglieder der Brüggener Vereine teilnehmen. Geschwommen werden kann 50m Freistil\, 50m Brust\, 50m Rücken und Jahrgang 2018 und jünger 25m Freistil. Außerdem findet eine Familienstaffel statt und die Staffel der Grundschulen um den Wanderpokal. \nEs gibt eine große Verlosung\, und für das leibliche Wohl sorgen die Mitglieder der Schwimmabteilung von TuRa Brüggen mit Kaffee\, Kuchen und Bockwürstchen. \nEs muss eine Anmeldung vor dem Wettkampf bei b.weiss@tura1923.de erfolgen.
URL:https://bewusst-brueggen.de/kalender/31-schwimm-gemeindemeisterschaft-tura-brueggen/
LOCATION:Hallenbad Brüggen\, Hochstraße 33\, Brüggen\, 41379
CATEGORIES:Sport / Aktivität
ATTACH;FMTTYPE=image/jpeg:https://bewusst-brueggen.de/wp-content/uploads/2023/03/bewusst-brueggen-events-sport.jpg
ORGANIZER;CN="TuRa Br%C3%BCggen 1923 e.V.":MAILTO:geschaeftsstelle@tura1923.de
END:VEVENT
BEGIN:VEVENT
DTSTART;TZID=Europe/Berlin:20241201T100000
DTEND;TZID=Europe/Berlin:20241201T130000
DTSTAMP:20260420T022424
CREATED:20241104T093111Z
LAST-MODIFIED:20241104T093111Z
UID:10003360-1733047200-1733058000@bewusst-brueggen.de
SUMMARY:19.Christmas Run & Walk
DESCRIPTION:19. Christmas Run&Walk am 01.12.2024 (Anmeldung ab 01.11.2024)\nGeführter Landschaftslauf um den Borner See und durch die Schwalmauen zum Venekotensee.\nStart/Ziel: Burg Brüggen\, Burgwall 4\, 41379 Brüggen\nStart 10 Uhr: 10 km Lauf- und WalkingStrecke\, 21 km Lauf\nVerpflegung nach 10 km an der Burg\nVerpflegung Wasser\, Zitronen-Tee\, Glühwein\nAlle Teilnehmer/innen erhalten ein Präsent von Bauer Funken und ein Weckmännchen vom Burg Café Oomen.\nBitte unbedingt bis zum 22.11. voranmelden.\nEine Mindestspende von 10 € am Tag der Veranstaltung ist erwünscht\, der Erlös kommt dem Freundeskreis Jugendhilfe Schloss Dilborn e.V. zugute.
URL:https://bewusst-brueggen.de/kalender/19-christmas-run-walk/
LOCATION:Burg Brüggen\, Burgwall 4\, Brüggen\, 41379
CATEGORIES:Sport / Aktivität
ATTACH;FMTTYPE=image/jpeg:https://bewusst-brueggen.de/wp-content/uploads/2023/03/bewusst-brueggen-events-fuehrungen.jpg
ORGANIZER;CN="TuRa Br%C3%BCggen 1923 e.V.":MAILTO:geschaeftsstelle@tura1923.de
END:VEVENT
BEGIN:VEVENT
DTSTART;TZID=Europe/Berlin:20240914T110000
DTEND;TZID=Europe/Berlin:20240914T160000
DTSTAMP:20260420T022424
CREATED:20240905T120044Z
LAST-MODIFIED:20240905T120044Z
UID:10003306-1726311600-1726329600@bewusst-brueggen.de
SUMMARY:30. Gemeindemeisterschaft Schwimmen
DESCRIPTION:Jeder der Lust hat zu schwimmen kann teilnehmen. \nEs wird 50m Brust\, 50m Freistil\, 50m Rücken als Wettkampf geschwommen und für die Kleinen 2017 und Jünger 25m Freistil. Bei Freistil darf man Brust oder Kraul schwimmen. Zusätzlich gibt es am Ende eine Familienstaffel. Jeder\, Oma\, Opa\, Mama\, Tante\, Kind oder Cousine dürfen bei der 4x25m Freistilstaffel mitschwimmen. \nEine Anmeldung ist erforderlich bis zum 8.9.2024. Neben Kaffee\, Kuchen und Bockwürstchen findet zum Jubiläum eine große Verlosung statt\, außerdem gibt es Zusatzgewinne beim Schwimmen.
URL:https://bewusst-brueggen.de/kalender/30-gemeindemeisterschaft-schwimmen/
LOCATION:Hallenbad Brüggen\, Hochstraße 33\, Brüggen\, 41379
CATEGORIES:Sport / Aktivität
ORGANIZER;CN="TuRa Br%C3%BCggen 1923 e.V.":MAILTO:geschaeftsstelle@tura1923.de
END:VEVENT
BEGIN:VEVENT
DTSTART;TZID=Europe/Berlin:20240322T193000
DTEND;TZID=Europe/Berlin:20240322T210000
DTSTAMP:20260420T022424
CREATED:20240206T100658Z
LAST-MODIFIED:20240206T100832Z
UID:10002040-1711135800-1711141200@bewusst-brueggen.de
SUMMARY:Jahreshauptversammlung TuRa Brüggen 1923 e.V.
DESCRIPTION:Alle Mitglieder und Interessierte sind herzlich eingeladen. \nDas Protokoll der Mitgliederversammlung vom 01.04.2022 liegt in der Geschäftsstelle\, im Vereinsheim „Goleo“\, und in der Burggemeindehalle für alle Mitglieder zur Einsicht aus.\nAnträge\, die der Versammlung zur Beschlussfassung vorgelegt werden sollen\, müssen mindestens 8 Tage vorher schriftlich und mit Begründung in der Geschäftsstelle eingegangen sein. \nStimmberechtigt sind alle Mitglieder ab dem vollendeten 16. Lebensjahr. Wir würden uns freuen\, Dich/Sie als Teilnehmer bei dieser Versammlung begrüßen zu dürfen.\nDer Einlass erfolgt ab 19.00 Uhr.
URL:https://bewusst-brueggen.de/kalender/jahreshauptversammlung-tura-brueggen-1923-e-v/
LOCATION:Sportanlage am Vennberg\, Am Vennberg 7\, Brüggen\, 41379
CATEGORIES:Sport / Aktivität
ATTACH;FMTTYPE=image/jpeg:https://bewusst-brueggen.de/wp-content/uploads/2024/01/Logo-TuRa.jpg
ORGANIZER;CN="TuRa Br%C3%BCggen 1923 e.V.":MAILTO:geschaeftsstelle@tura1923.de
END:VEVENT
BEGIN:VEVENT
DTSTART;TZID=Europe/Berlin:20231021T180000
DTEND;TZID=Europe/Berlin:20231021T230000
DTSTAMP:20260420T022424
CREATED:20230328T114218Z
LAST-MODIFIED:20231213T145507Z
UID:10000345-1697911200-1697929200@bewusst-brueggen.de
SUMMARY:Festbankett zum Jubiläum 100 Jahre TuRa Brüggen
DESCRIPTION:Festbankett zum 100 Jahre Jubiläum von TuRa Brüggen 1923 e.V. In einem feierlichen Rahmen mit Ehrengästen\, Freunden\, Ehrenamtlern und Förderern des Vereins wollen wir unser Jubiläum begehen.
URL:https://bewusst-brueggen.de/kalender/festbankett-zum-jubilaeum-100-jahre-tura-brueggen/
LOCATION:Burggemeindehalle\, Kreuzherrenplatz\, Brüggen\, 41379\, Deutschland
CATEGORIES:Sport / Aktivität,Verschiedenes
ATTACH;FMTTYPE=image/jpeg:https://bewusst-brueggen.de/wp-content/uploads/2023/03/bewusst-brueggen-events-sport.jpg
ORGANIZER;CN="TuRa Br%C3%BCggen 1923 e.V.":MAILTO:geschaeftsstelle@tura1923.de
END:VEVENT
BEGIN:VEVENT
DTSTART;TZID=Europe/Berlin:20230812T110000
DTEND;TZID=Europe/Berlin:20230812T220000
DTSTAMP:20260420T022424
CREATED:20230328T170329Z
LAST-MODIFIED:20231213T145530Z
UID:10000381-1691838000-1691877600@bewusst-brueggen.de
SUMMARY:Familienfest "Spiel und Spaß für Groß und Klein"
DESCRIPTION:100 Jahre TuRa Brüggen 1923 e.V. Familientag mit Sport und Spiel für Groß und Klein
URL:https://bewusst-brueggen.de/kalender/familienfest-spiel-und-spass-fuer-gross-und-klein/
CATEGORIES:Sport / Aktivität
ATTACH;FMTTYPE=:
ORGANIZER;CN="TuRa Br%C3%BCggen 1923 e.V.":MAILTO:geschaeftsstelle@tura1923.de
END:VEVENT
END:VCALENDAR