BEGIN:VCALENDAR
VERSION:2.0
PRODID:-//Bewusst Brüggen - ECPv6.15.20//NONSGML v1.0//EN
CALSCALE:GREGORIAN
METHOD:PUBLISH
X-WR-CALNAME:Bewusst Brüggen
X-ORIGINAL-URL:https://bewusst-brueggen.de
X-WR-CALDESC:Veranstaltungen für Bewusst Brüggen
REFRESH-INTERVAL;VALUE=DURATION:PT1H
X-Robots-Tag:noindex
X-PUBLISHED-TTL:PT1H
BEGIN:VTIMEZONE
TZID:Europe/Berlin
BEGIN:DAYLIGHT
TZOFFSETFROM:+0100
TZOFFSETTO:+0200
TZNAME:CEST
DTSTART:20220327T010000
END:DAYLIGHT
BEGIN:STANDARD
TZOFFSETFROM:+0200
TZOFFSETTO:+0100
TZNAME:CET
DTSTART:20221030T010000
END:STANDARD
BEGIN:DAYLIGHT
TZOFFSETFROM:+0100
TZOFFSETTO:+0200
TZNAME:CEST
DTSTART:20230326T010000
END:DAYLIGHT
BEGIN:STANDARD
TZOFFSETFROM:+0200
TZOFFSETTO:+0100
TZNAME:CET
DTSTART:20231029T010000
END:STANDARD
BEGIN:DAYLIGHT
TZOFFSETFROM:+0100
TZOFFSETTO:+0200
TZNAME:CEST
DTSTART:20240331T010000
END:DAYLIGHT
BEGIN:STANDARD
TZOFFSETFROM:+0200
TZOFFSETTO:+0100
TZNAME:CET
DTSTART:20241027T010000
END:STANDARD
END:VTIMEZONE
BEGIN:VEVENT
DTSTART;TZID=Europe/Berlin:20231118T150000
DTEND;TZID=Europe/Berlin:20231118T150000
DTSTAMP:20260421T000153
CREATED:20231024T093904Z
LAST-MODIFIED:20231213T145459Z
UID:10000840-1700319600-1700319600@bewusst-brueggen.de
SUMMARY:Mesterom's kleiner Wintermarkt
DESCRIPTION:Von den Vereinen für euch! \n\nMusikverein Cäcilia\nVerkauf von Selbstgemachtem\nAktionen für Kinder\nJet’s Glögg\nKakao\nCafeteria\nGrillwürstchen & Leckereien
URL:https://bewusst-brueggen.de/kalender/mesteroms-kleiner-wintermarkt/
LOCATION:Haus Mesterom\, Borner Straße 34\, Brüggen\, Nordrhein Westfalen\, 41379\, Deutschland
CATEGORIES:Feste / Märkte
END:VEVENT
END:VCALENDAR