BEGIN:VCALENDAR
VERSION:2.0
PRODID:-//Bewusst Brüggen - ECPv6.15.20//NONSGML v1.0//EN
CALSCALE:GREGORIAN
METHOD:PUBLISH
X-WR-CALNAME:Bewusst Brüggen
X-ORIGINAL-URL:https://bewusst-brueggen.de
X-WR-CALDESC:Veranstaltungen für Bewusst Brüggen
REFRESH-INTERVAL;VALUE=DURATION:PT1H
X-Robots-Tag:noindex
X-PUBLISHED-TTL:PT1H
BEGIN:VTIMEZONE
TZID:Europe/Berlin
BEGIN:DAYLIGHT
TZOFFSETFROM:+0100
TZOFFSETTO:+0200
TZNAME:CEST
DTSTART:20240331T010000
END:DAYLIGHT
BEGIN:STANDARD
TZOFFSETFROM:+0200
TZOFFSETTO:+0100
TZNAME:CET
DTSTART:20241027T010000
END:STANDARD
BEGIN:DAYLIGHT
TZOFFSETFROM:+0100
TZOFFSETTO:+0200
TZNAME:CEST
DTSTART:20250330T010000
END:DAYLIGHT
BEGIN:STANDARD
TZOFFSETFROM:+0200
TZOFFSETTO:+0100
TZNAME:CET
DTSTART:20251026T010000
END:STANDARD
BEGIN:DAYLIGHT
TZOFFSETFROM:+0100
TZOFFSETTO:+0200
TZNAME:CEST
DTSTART:20260329T010000
END:DAYLIGHT
BEGIN:STANDARD
TZOFFSETFROM:+0200
TZOFFSETTO:+0100
TZNAME:CET
DTSTART:20261025T010000
END:STANDARD
END:VTIMEZONE
BEGIN:VEVENT
DTSTART;TZID=Europe/Berlin:20250323T100000
DTEND;TZID=Europe/Berlin:20250323T180000
DTSTAMP:20260423T142947
CREATED:20241210T113820Z
LAST-MODIFIED:20250108T112341Z
UID:10004212-1742724000-1742752800@bewusst-brueggen.de
SUMMARY:Brüggener Büchermarkt
DESCRIPTION:Ein lohnendes Ziel für kleine und große Bücherwürmer sind die Brüggener Büchermärkte auf dem Nikolausplatz in Brüggen. Das Kulturamt der Burggemeinde Brüggen organisiert dort in Zusammenarbeit mit dem Versand-Antiquariat „DER-PHILO-SOPH“ aus Viersen von März bis Oktober insgesamt acht Büchermärkte. Das Angebot umfasst unter anderem antiquarische Kinder- und Kochbücher\, Bücher mit heimatkundlichen Themen\, niederländische und englische Literatur\, Ratgeber\, Biografien\, Bildbände und vieles mehr.
URL:https://bewusst-brueggen.de/kalender/brueggener-buechermarkt-9/2025-03-23/
LOCATION:Nikolausplatz\, Nikolausplatz\, Brüggen\, 41379
CATEGORIES:Kultur
ATTACH;FMTTYPE=image/jpeg:https://bewusst-brueggen.de/wp-content/uploads/2024/01/buechermarkt-2024.jpg
ORGANIZER;CN="Burggemeinde Br%C3%BCggen & Norbert Lennartz":MAILTO:versandantiquariat@der-philo-soph.de
END:VEVENT
END:VCALENDAR