BEGIN:VCALENDAR
VERSION:2.0
PRODID:-//Bewusst Brüggen - ECPv6.15.20//NONSGML v1.0//EN
CALSCALE:GREGORIAN
METHOD:PUBLISH
X-ORIGINAL-URL:https://bewusst-brueggen.de
X-WR-CALDESC:Veranstaltungen für Bewusst Brüggen
REFRESH-INTERVAL;VALUE=DURATION:PT1H
X-Robots-Tag:noindex
X-PUBLISHED-TTL:PT1H
BEGIN:VTIMEZONE
TZID:Europe/Berlin
BEGIN:DAYLIGHT
TZOFFSETFROM:+0100
TZOFFSETTO:+0200
TZNAME:CEST
DTSTART:20230326T010000
END:DAYLIGHT
BEGIN:STANDARD
TZOFFSETFROM:+0200
TZOFFSETTO:+0100
TZNAME:CET
DTSTART:20231029T010000
END:STANDARD
BEGIN:DAYLIGHT
TZOFFSETFROM:+0100
TZOFFSETTO:+0200
TZNAME:CEST
DTSTART:20240331T010000
END:DAYLIGHT
BEGIN:STANDARD
TZOFFSETFROM:+0200
TZOFFSETTO:+0100
TZNAME:CET
DTSTART:20241027T010000
END:STANDARD
BEGIN:DAYLIGHT
TZOFFSETFROM:+0100
TZOFFSETTO:+0200
TZNAME:CEST
DTSTART:20250330T010000
END:DAYLIGHT
BEGIN:STANDARD
TZOFFSETFROM:+0200
TZOFFSETTO:+0100
TZNAME:CET
DTSTART:20251026T010000
END:STANDARD
BEGIN:DAYLIGHT
TZOFFSETFROM:+0100
TZOFFSETTO:+0200
TZNAME:CEST
DTSTART:20260329T010000
END:DAYLIGHT
BEGIN:STANDARD
TZOFFSETFROM:+0200
TZOFFSETTO:+0100
TZNAME:CET
DTSTART:20261025T010000
END:STANDARD
END:VTIMEZONE
BEGIN:VEVENT
DTSTART;TZID=Europe/Berlin:20251114T173000
DTEND;TZID=Europe/Berlin:20251114T233000
DTSTAMP:20260420T070216
CREATED:20241129T080427Z
LAST-MODIFIED:20241129T080427Z
UID:10004173-1763141400-1763163000@bewusst-brueggen.de
SUMMARY:St. Martin in Alst und Angenthoer
DESCRIPTION:Umzug vom St. Martins-Verein Alst/Angenthoer 1912 e. V. mit anschließendem Hoffest
URL:https://bewusst-brueggen.de/kalender/st-martin-in-alst-und-angenthoer/
LOCATION:Alst\, Alst\, Brüggen\, 41379\, Germany
CATEGORIES:Brauchtum/ Heimatkunde
ATTACH;FMTTYPE=image/png:https://bewusst-brueggen.de/wp-content/uploads/2024/11/Sankt-Martin.png
ORGANIZER;CN="Sankt Martins-Verein Alst/Angenthoer e.V.":MAILTO:orga@sankt-martins-verein.de
END:VEVENT
BEGIN:VEVENT
DTSTART;TZID=Europe/Berlin:20241201T180000
DTEND;TZID=Europe/Berlin:20241224T190000
DTSTAMP:20260420T070216
CREATED:20241127T105424Z
LAST-MODIFIED:20241127T105553Z
UID:10004172-1733076000-1735066800@bewusst-brueggen.de
SUMMARY:15. Alster Adventskalender
DESCRIPTION:In Alst startet am 1. Dezember der 15. ALSTER ADVENTSKALENDER. In diesem Jahr ist unser Thema „Vom Wert des WARTENs“.\nEs gibt stille und AKTIVE Sterne. An den AKTIVEN Sternentagen trifft sich\, wer Zeit und Lust hat um 18 Uhr vor dem jeweiligen Haus und erlebt dann vor Ort einen 10-15 minütigen Impuls zum Thema. Anschließend ist noch ein wenig Zeit zum Austausch bei heißem Tee.\nSowohl von den stillen als auch den aktiven Sternen stellen wir hinterher den Impuls in die ALSTER ADVENTSKALENDER WhatsApp Gruppe. So können auch andere interessierte Menschen teilhaben.\nWer aufgenommen werden möchte in die Gruppe\, kann sich am besten an Christiane Gerlach 015776826883 wenden. \n 
URL:https://bewusst-brueggen.de/kalender/15-alster-adventskalender/
LOCATION:Alst\, Alst\, Brüggen\, 41379\, Germany
CATEGORIES:Feste / Märkte
ATTACH;FMTTYPE=image/jpeg:https://bewusst-brueggen.de/wp-content/uploads/2024/11/Alster-Adventskalender.jpg
ORGANIZER;CN="Nachbarschaft Alst%2C Christiane Gerlach":MAILTO:Christiane.Gerlach@gmx.de
END:VEVENT
END:VCALENDAR