BEGIN:VCALENDAR
VERSION:2.0
PRODID:-//Bewusst Brüggen - ECPv6.15.20//NONSGML v1.0//EN
CALSCALE:GREGORIAN
METHOD:PUBLISH
X-WR-CALNAME:Bewusst Brüggen
X-ORIGINAL-URL:https://bewusst-brueggen.de
X-WR-CALDESC:Veranstaltungen für Bewusst Brüggen
REFRESH-INTERVAL;VALUE=DURATION:PT1H
X-Robots-Tag:noindex
X-PUBLISHED-TTL:PT1H
BEGIN:VTIMEZONE
TZID:Europe/Berlin
BEGIN:DAYLIGHT
TZOFFSETFROM:+0100
TZOFFSETTO:+0200
TZNAME:CEST
DTSTART:20230326T010000
END:DAYLIGHT
BEGIN:STANDARD
TZOFFSETFROM:+0200
TZOFFSETTO:+0100
TZNAME:CET
DTSTART:20231029T010000
END:STANDARD
BEGIN:DAYLIGHT
TZOFFSETFROM:+0100
TZOFFSETTO:+0200
TZNAME:CEST
DTSTART:20240331T010000
END:DAYLIGHT
BEGIN:STANDARD
TZOFFSETFROM:+0200
TZOFFSETTO:+0100
TZNAME:CET
DTSTART:20241027T010000
END:STANDARD
BEGIN:DAYLIGHT
TZOFFSETFROM:+0100
TZOFFSETTO:+0200
TZNAME:CEST
DTSTART:20250330T010000
END:DAYLIGHT
BEGIN:STANDARD
TZOFFSETFROM:+0200
TZOFFSETTO:+0100
TZNAME:CET
DTSTART:20251026T010000
END:STANDARD
BEGIN:DAYLIGHT
TZOFFSETFROM:+0100
TZOFFSETTO:+0200
TZNAME:CEST
DTSTART:20260329T010000
END:DAYLIGHT
BEGIN:STANDARD
TZOFFSETFROM:+0200
TZOFFSETTO:+0100
TZNAME:CET
DTSTART:20261025T010000
END:STANDARD
BEGIN:DAYLIGHT
TZOFFSETFROM:+0100
TZOFFSETTO:+0200
TZNAME:CEST
DTSTART:20270328T010000
END:DAYLIGHT
BEGIN:STANDARD
TZOFFSETFROM:+0200
TZOFFSETTO:+0100
TZNAME:CET
DTSTART:20271031T010000
END:STANDARD
END:VTIMEZONE
BEGIN:VEVENT
DTSTART;TZID=Europe/Berlin:20260403T110000
DTEND;TZID=Europe/Berlin:20260403T160000
DTSTAMP:20260421T183909
CREATED:20260402T085249Z
LAST-MODIFIED:20260402T085249Z
UID:10006699-1775214000-1775232000@bewusst-brueggen.de
SUMMARY:Ach\, Du dickes Ei! - Tuppturnier am Karfreitag
DESCRIPTION:Tuppturnier für Jedermann\n10 € Startgeld\nAlles wird ausbezahlt\nDie ersten fünf Plätze gewinnen\nBitburger\, Benediktiner Weizen und Reissdorf Kölsch vom Fass\nLeckere kalte und warme Snacks\nBeste Frühschoppenzeit\, 11 Uhr\nFreier Eintritt (auch für Zuschauer)
URL:https://bewusst-brueggen.de/kalender/ach-du-dickes-ei-tuppturnier-am-karfreitag/
LOCATION:Balla-Balla Bracht Sportplatz\, Am Brachter Sportplatz 2\, Brüggen\, 41379\, Germany
CATEGORIES:Sport / Aktivität
ATTACH;FMTTYPE=image/png:https://bewusst-brueggen.de/wp-content/uploads/2026/04/Tuppturnier.png
ORGANIZER;CN="Balla-Balla UG":MAILTO:ballaballa@igl-radio.de
END:VEVENT
BEGIN:VEVENT
DTSTART;TZID=Europe/Berlin:20260403T110000
DTEND;TZID=Europe/Berlin:20260403T160000
DTSTAMP:20260421T183909
CREATED:20260324T114949Z
LAST-MODIFIED:20260324T114949Z
UID:10006656-1775214000-1775232000@bewusst-brueggen.de
SUMMARY:Tupp-Turnier am Karfreitag
DESCRIPTION:Startgeld = Preisgeld\nDie ersten fünf Plätze gewinnen\nSpiel\, Spaß\, Freude für alle Teilnehmenden\nTeilnehmerzahl begrenzt\nBitte vorher anmelden\nBeste Frühschoppenzeit\nSnacks und Kaltgetränke vorhanden\nAch\, Du dickes Ei!
URL:https://bewusst-brueggen.de/kalender/tupp-turnier-am-karfreitag/
LOCATION:Balla-Balla Bracht Sportplatz\, Am Brachter Sportplatz 2\, Brüggen\, 41379\, Germany
CATEGORIES:Kultur,Sport / Aktivität,Vereine & Ehrenamt,Verschiedenes
ORGANIZER;CN="Balla-Balla UG":MAILTO:ballaballa@igl-radio.de
END:VEVENT
BEGIN:VEVENT
DTSTART;TZID=Europe/Berlin:20260402T180000
DTEND;TZID=Europe/Berlin:20260402T220000
DTSTAMP:20260421T183909
CREATED:20260331T084743Z
LAST-MODIFIED:20260331T084743Z
UID:10006694-1775152800-1775167200@bewusst-brueggen.de
SUMMARY:Burger\, Beer & Cocktails
DESCRIPTION:Die leckersten Burger frisch vom Grill. Saftiges Rindfleisch in knusprigen\, rustikalen Buns nach deinem Geschmack belegt und gewürzt. Dazu Reissdorf Kölsch\, Benediktiner Weizen und Bitburger Pils vom Fass\, eiskalte Cocktails und heiße Beats aus den Boxen. \nDazu gibt´s um 20 Uhr noch Fußball auf der grünen Wiese: TSF Bracht – TSV Boisheim! \nUnd wisst ihr\, was das Beste ist? Am nächsten Tag haben wir alle frei!
URL:https://bewusst-brueggen.de/kalender/burger-beer-cocktails-2/
LOCATION:Balla-Balla Bracht Sportplatz\, Am Brachter Sportplatz 2\, Brüggen\, 41379\, Germany
CATEGORIES:Sport / Aktivität,Verschiedenes
ATTACH;FMTTYPE=image/png:https://bewusst-brueggen.de/wp-content/uploads/2026/03/BurgerBeerCocktails.png
ORGANIZER;CN="Balla-Balla UG":MAILTO:ballaballa@igl-radio.de
END:VEVENT
BEGIN:VEVENT
DTSTART;TZID=Europe/Berlin:20260306T180000
DTEND;TZID=Europe/Berlin:20260306T220000
DTSTAMP:20260421T183909
CREATED:20260303T112053Z
LAST-MODIFIED:20260303T112053Z
UID:10006587-1772820000-1772834400@bewusst-brueggen.de
SUMMARY:Burger\, Beer & Cocktails
DESCRIPTION:Eigentlich ist mit dem Titel bereits alles gesagt! Wäre da nicht noch das fantastische Duo „The Flying Dutchmen“\, die den Abend musikalisch begleiten und bereichern werden. Natürlich ist der Eintritt frei! \nAnmeldung und Vorbestellungen allerdings erbeten.
URL:https://bewusst-brueggen.de/kalender/burger-beer-cocktails/
LOCATION:Balla-Balla Bracht Sportplatz\, Am Brachter Sportplatz 2\, Brüggen\, 41379\, Germany
CATEGORIES:Verschiedenes
ATTACH;FMTTYPE=image/png:https://bewusst-brueggen.de/wp-content/uploads/2026/02/Burger-BeerCocktails-Poster-A3-Hochformat-3.png
ORGANIZER;CN="Balla-Balla UG":MAILTO:ballaballa@igl-radio.de
END:VEVENT
BEGIN:VEVENT
DTSTART;TZID=Europe/Berlin:20260306T180000
DTEND;TZID=Europe/Berlin:20260306T210000
DTSTAMP:20260421T183909
CREATED:20251010T074934Z
LAST-MODIFIED:20260402T095029Z
UID:10005857-1772820000-1772830800@bewusst-brueggen.de
SUMMARY:BURGERMEISTER FAHLI - Die besten DIY-Burger im "Balla-Balla"
DESCRIPTION:Jeden 1. Freitag im Monat mutiert unser Chefgriller „Fahli“ zum Burgermeister und bereitet euch die besten Burger zu\, die ihr nach Herzenslaune selber garnieren und belegen könnt. Sei es der klassische Hamburger mit den auf den Punkt gegrillten 180-Gramm-Pattys auf knusprigen\, rustikalen Ciabatta-Buns\, oder der aufgrund seiner Schärfe mit Vorsicht zu genießende „Jala-Balla-Burger“\, Fahli berät und brät jedem Bürger den perfekten Burger. \nÜberzeugt euch selbst und genießt neben den köstlichen Speisen auch unsere Bier-Specials\, wie zum Beispiel den Eimer San Miguel auf Eis. Für die Damen stehen natürlich auch erlesene Weine aus dem Hause „Drei Freunde“\, oder ein Aperölchen zur Verfügung. \nUnd aufgepasst: Für die Freunde der seichten Background-Musik lassen sich eure Gastgeber Maren & Tim gerne was Spannendes einfallen und überraschen die Gäste mit spontaner Live-Musik oder DJ. \nDa die Plätze begrenzt sind\, wird unbedingt eine kostenlose vorherige Anmeldung bzw. Reservierung empfohlen. Dies könnt Ihr während der Geschäftszeiten telefonisch oder über die bekannten Sozialen Medien. Einfach nach „BallaBalla Vereinsheim“ suchen.
URL:https://bewusst-brueggen.de/kalender/burgermeister-fahli-die-besten-diy-burger-im-balla-balla/2026-03-06/
LOCATION:Balla-Balla Bracht Sportplatz\, Am Brachter Sportplatz 2\, Brüggen\, 41379\, Germany
CATEGORIES:Feste / Märkte,Verschiedenes
ATTACH;FMTTYPE=image/png:https://bewusst-brueggen.de/wp-content/uploads/2025/10/Burger-Freitag-Poster-A3-Hochformat.png
ORGANIZER;CN="Balla-Balla UG":MAILTO:ballaballa@igl-radio.de
END:VEVENT
BEGIN:VEVENT
DTSTART;TZID=Europe/Berlin:20260206T180000
DTEND;TZID=Europe/Berlin:20260206T210000
DTSTAMP:20260421T183909
CREATED:20251010T074934Z
LAST-MODIFIED:20260402T095029Z
UID:10005856-1770400800-1770411600@bewusst-brueggen.de
SUMMARY:BURGERMEISTER FAHLI - Die besten DIY-Burger im "Balla-Balla"
DESCRIPTION:Jeden 1. Freitag im Monat mutiert unser Chefgriller „Fahli“ zum Burgermeister und bereitet euch die besten Burger zu\, die ihr nach Herzenslaune selber garnieren und belegen könnt. Sei es der klassische Hamburger mit den auf den Punkt gegrillten 180-Gramm-Pattys auf knusprigen\, rustikalen Ciabatta-Buns\, oder der aufgrund seiner Schärfe mit Vorsicht zu genießende „Jala-Balla-Burger“\, Fahli berät und brät jedem Bürger den perfekten Burger. \nÜberzeugt euch selbst und genießt neben den köstlichen Speisen auch unsere Bier-Specials\, wie zum Beispiel den Eimer San Miguel auf Eis. Für die Damen stehen natürlich auch erlesene Weine aus dem Hause „Drei Freunde“\, oder ein Aperölchen zur Verfügung. \nUnd aufgepasst: Für die Freunde der seichten Background-Musik lassen sich eure Gastgeber Maren & Tim gerne was Spannendes einfallen und überraschen die Gäste mit spontaner Live-Musik oder DJ. \nDa die Plätze begrenzt sind\, wird unbedingt eine kostenlose vorherige Anmeldung bzw. Reservierung empfohlen. Dies könnt Ihr während der Geschäftszeiten telefonisch oder über die bekannten Sozialen Medien. Einfach nach „BallaBalla Vereinsheim“ suchen.
URL:https://bewusst-brueggen.de/kalender/burgermeister-fahli-die-besten-diy-burger-im-balla-balla/2026-02-06/
LOCATION:Balla-Balla Bracht Sportplatz\, Am Brachter Sportplatz 2\, Brüggen\, 41379\, Germany
CATEGORIES:Feste / Märkte,Verschiedenes
ATTACH;FMTTYPE=image/png:https://bewusst-brueggen.de/wp-content/uploads/2025/10/Burger-Freitag-Poster-A3-Hochformat.png
ORGANIZER;CN="Balla-Balla UG":MAILTO:ballaballa@igl-radio.de
END:VEVENT
BEGIN:VEVENT
DTSTART;TZID=Europe/Berlin:20251205T180000
DTEND;TZID=Europe/Berlin:20251205T210000
DTSTAMP:20260421T183909
CREATED:20251010T074934Z
LAST-MODIFIED:20260402T095029Z
UID:10005855-1764957600-1764968400@bewusst-brueggen.de
SUMMARY:BURGERMEISTER FAHLI - Die besten DIY-Burger im "Balla-Balla"
DESCRIPTION:Jeden 1. Freitag im Monat mutiert unser Chefgriller „Fahli“ zum Burgermeister und bereitet euch die besten Burger zu\, die ihr nach Herzenslaune selber garnieren und belegen könnt. Sei es der klassische Hamburger mit den auf den Punkt gegrillten 180-Gramm-Pattys auf knusprigen\, rustikalen Ciabatta-Buns\, oder der aufgrund seiner Schärfe mit Vorsicht zu genießende „Jala-Balla-Burger“\, Fahli berät und brät jedem Bürger den perfekten Burger. \nÜberzeugt euch selbst und genießt neben den köstlichen Speisen auch unsere Bier-Specials\, wie zum Beispiel den Eimer San Miguel auf Eis. Für die Damen stehen natürlich auch erlesene Weine aus dem Hause „Drei Freunde“\, oder ein Aperölchen zur Verfügung. \nUnd aufgepasst: Für die Freunde der seichten Background-Musik lassen sich eure Gastgeber Maren & Tim gerne was Spannendes einfallen und überraschen die Gäste mit spontaner Live-Musik oder DJ. \nDa die Plätze begrenzt sind\, wird unbedingt eine kostenlose vorherige Anmeldung bzw. Reservierung empfohlen. Dies könnt Ihr während der Geschäftszeiten telefonisch oder über die bekannten Sozialen Medien. Einfach nach „BallaBalla Vereinsheim“ suchen.
URL:https://bewusst-brueggen.de/kalender/burgermeister-fahli-die-besten-diy-burger-im-balla-balla/2025-12-05/
LOCATION:Balla-Balla Bracht Sportplatz\, Am Brachter Sportplatz 2\, Brüggen\, 41379\, Germany
CATEGORIES:Feste / Märkte,Verschiedenes
ATTACH;FMTTYPE=image/png:https://bewusst-brueggen.de/wp-content/uploads/2025/10/Burger-Freitag-Poster-A3-Hochformat.png
ORGANIZER;CN="Balla-Balla UG":MAILTO:ballaballa@igl-radio.de
END:VEVENT
BEGIN:VEVENT
DTSTART;TZID=Europe/Berlin:20251107T180000
DTEND;TZID=Europe/Berlin:20251107T210000
DTSTAMP:20260421T183909
CREATED:20251010T074934Z
LAST-MODIFIED:20260402T095029Z
UID:10005854-1762538400-1762549200@bewusst-brueggen.de
SUMMARY:BURGERMEISTER FAHLI - Die besten DIY-Burger im "Balla-Balla"
DESCRIPTION:Jeden 1. Freitag im Monat mutiert unser Chefgriller „Fahli“ zum Burgermeister und bereitet euch die besten Burger zu\, die ihr nach Herzenslaune selber garnieren und belegen könnt. Sei es der klassische Hamburger mit den auf den Punkt gegrillten 180-Gramm-Pattys auf knusprigen\, rustikalen Ciabatta-Buns\, oder der aufgrund seiner Schärfe mit Vorsicht zu genießende „Jala-Balla-Burger“\, Fahli berät und brät jedem Bürger den perfekten Burger. \nÜberzeugt euch selbst und genießt neben den köstlichen Speisen auch unsere Bier-Specials\, wie zum Beispiel den Eimer San Miguel auf Eis. Für die Damen stehen natürlich auch erlesene Weine aus dem Hause „Drei Freunde“\, oder ein Aperölchen zur Verfügung. \nUnd aufgepasst: Für die Freunde der seichten Background-Musik lassen sich eure Gastgeber Maren & Tim gerne was Spannendes einfallen und überraschen die Gäste mit spontaner Live-Musik oder DJ. \nDa die Plätze begrenzt sind\, wird unbedingt eine kostenlose vorherige Anmeldung bzw. Reservierung empfohlen. Dies könnt Ihr während der Geschäftszeiten telefonisch oder über die bekannten Sozialen Medien. Einfach nach „BallaBalla Vereinsheim“ suchen.
URL:https://bewusst-brueggen.de/kalender/burgermeister-fahli-die-besten-diy-burger-im-balla-balla/2025-11-07/
LOCATION:Balla-Balla Bracht Sportplatz\, Am Brachter Sportplatz 2\, Brüggen\, 41379\, Germany
CATEGORIES:Feste / Märkte,Verschiedenes
ATTACH;FMTTYPE=image/png:https://bewusst-brueggen.de/wp-content/uploads/2025/10/Burger-Freitag-Poster-A3-Hochformat.png
ORGANIZER;CN="Balla-Balla UG":MAILTO:ballaballa@igl-radio.de
END:VEVENT
BEGIN:VEVENT
DTSTART;TZID=Europe/Berlin:20251024T193000
DTEND;TZID=Europe/Berlin:20251024T230000
DTSTAMP:20260421T183909
CREATED:20251008T065221Z
LAST-MODIFIED:20251008T065221Z
UID:10005853-1761334200-1761346800@bewusst-brueggen.de
SUMMARY:Tupp-Turnier (für Jedermann)
DESCRIPTION:und natürlich auch Jedefrau! \nZur Anmeldung bitte einfach im Vorfeld die Startgebühr von 10 € im Balla-Balla bezahlen oder per PayPal an ballaballa@igl-radio.de unter Angabe des Namens überweisen. \nP.S.: Titelverteidiger ist eine Dame! Also\, Männer: Ehre wieder herstellen \nMehr Infos unter: https://www.instagram.com/ballaballa_vereinsheim/?hl=de
URL:https://bewusst-brueggen.de/kalender/tupp-turnier-fuer-jedermann/
LOCATION:Balla-Balla Bracht Sportplatz\, Am Brachter Sportplatz 2\, Brüggen\, 41379\, Germany
CATEGORIES:Sport / Aktivität
ATTACH;FMTTYPE=image/png:https://bewusst-brueggen.de/wp-content/uploads/2025/10/Tuppturnier.png
ORGANIZER;CN="Balla-Balla UG":MAILTO:ballaballa@igl-radio.de
END:VEVENT
BEGIN:VEVENT
DTSTART;TZID=Europe/Berlin:20251011T143000
DTEND;TZID=Europe/Berlin:20251011T230000
DTSTAMP:20260421T183909
CREATED:20251008T070656Z
LAST-MODIFIED:20251010T082503Z
UID:10005852-1760193000-1760223600@bewusst-brueggen.de
SUMMARY:Darts-Turnier um den "Balla-Balla-Cup" für Jedermann
DESCRIPTION:…uns jede Frau! \nGruppenphase ab 15 Uhr\nFinalrunde ab 19 Uhr
URL:https://bewusst-brueggen.de/kalender/dart-turnier-um-den-balla-balla-cup-fuer-jedermann/
LOCATION:Balla-Balla Bracht Sportplatz\, Am Brachter Sportplatz 2\, Brüggen\, 41379\, Germany
CATEGORIES:Sport / Aktivität
ATTACH;FMTTYPE=image/png:https://bewusst-brueggen.de/wp-content/uploads/2025/10/Dart-Turnier_Final16-Instagram-Post-45-1.png
ORGANIZER;CN="Balla-Balla UG":MAILTO:ballaballa@igl-radio.de
END:VEVENT
BEGIN:VEVENT
DTSTART;TZID=Europe/Berlin:20250213T190000
DTEND;TZID=Europe/Berlin:20250213T203000
DTSTAMP:20260421T183909
CREATED:20250204T085525Z
LAST-MODIFIED:20250204T085525Z
UID:10004638-1739473200-1739478600@bewusst-brueggen.de
SUMMARY:Es ist DEINE! Wahl
DESCRIPTION:Neues Format im „Balla-Balla“. Unter dem Motto „Es ist DEINE WAHL“ richtet sich das VEREINSHEIM DER TSF Bracht gezielt an Jung- und Erstwähler\, um Ihnen die Wichtigkeit einer Wahl zu vermitteln. „Wir haben sehr viel mit Jugendlichen und jungen Erwachsenen zu tun und nehmen viele Meinungen wahr“. Daher möchten wir auch in dem Punkt unserer gesellschaftlichen Verantwortung gerecht werden und mit diesem überparteilichen Talk in erster Linie den Erstwählern die Möglichkeit geben\, sich aus erster Hand mit verantwortlichen Vertretern aus der Politik auszutauschen und über die Wichtigkeit jeder Stimme zu informieren“\, so Tim Janssen vom „Balla-Balla“. Natürlich steht die Runde auch allen anderen interessierten Bürgerinnen und Bürgern zur Verfügung. Als Ansprechpartner der Politik wird der Bürgermeister der Burggemeinde Brüggen\, Frank Gellen\, vor Ort sein\, der sich den Fragen der Gäste stellen wird. „In Zeiten wie diesen ist es wichtig\, dass wir insbesondere die jungen Wähler mit ins Boot holen und überzeugen können\, dass jede Stimme zählt. Daher habe ich die Einladung zu diesem Talk sehr gerne angenommen und werde in meiner Funktion als Wahlleiter für unsere Burggemeinde gerne dafür werben\, sein Votum bei der Bundestagswahl am 23. Februar einer demokratischen Partei zu geben“.\nModeriert wird die ca. 60-90minütige Runde vom bekannten Moderator Frank Schiffers\, ebenfalls ein langjähriger politischer Beobachter. \nWICHTIG: Hier geht es sich nicht darum\, für eine bestimmte Partei zu werben. Es handelt sich um eine überparteiliche Veranstaltung\, die wir zu aktuellen Themen etablieren möchten und Vertreter aller demokratischen Parteien unsere Gäste sein werden. \nDa die Plätze begrenzt sind\, bitten wir um vorherige verbindliche Anmeldung\, entweder direkt im „Balla-Balla“ oder per E-Mail an ballaballa@igl-radio.de.
URL:https://bewusst-brueggen.de/kalender/es-ist-deine-wahl/
LOCATION:Balla-Balla Bracht Sportplatz\, Am Brachter Sportplatz 2\, Brüggen\, 41379\, Germany
CATEGORIES:Verschiedenes
ATTACH;FMTTYPE=image/jpeg:https://bewusst-brueggen.de/wp-content/uploads/2025/02/Deine-Wahl-e1739890039617.jpg
ORGANIZER;CN="Balla-Balla UG":MAILTO:ballaballa@igl-radio.de
END:VEVENT
BEGIN:VEVENT
DTSTART;TZID=Europe/Berlin:20241207T150000
DTEND;TZID=Europe/Berlin:20241207T190000
DTSTAMP:20260421T183909
CREATED:20241122T130053Z
LAST-MODIFIED:20241125T124712Z
UID:10004165-1733583600-1733598000@bewusst-brueggen.de
SUMMARY:Planwagenfahrt mit Weihnachtsflair zur Brachter Mühlenweihnacht
DESCRIPTION:Steig ein und genieße die Planwagenfahrt! Mit Musik und guter Laune führt die Tour am zweiten Adventswochenende durch die winterliche Landschaft direkt zur Brachter Mühlenweihnacht \nEin stimmungsvoller Auftakt\, um in die Weihnachtszeit einzutauchen. \nSicher dir jetzt noch dein Ticket über den Ticketlink unten!
URL:https://bewusst-brueggen.de/kalender/planwagenfahrt-mit-weihnachtsflair-zur-brachter-muehlenweihnacht/
LOCATION:Balla-Balla Bracht Sportplatz\, Am Brachter Sportplatz 2\, Brüggen\, 41379\, Germany
CATEGORIES:Feste / Märkte,Verschiedenes
ATTACH;FMTTYPE=image/jpeg:https://bewusst-brueggen.de/wp-content/uploads/2024/11/planwagenfahrt-adventszeit.jpg
ORGANIZER;CN="Tourist-Information":MAILTO:tourist-info@brueggen.de
END:VEVENT
END:VCALENDAR