BEGIN:VCALENDAR
VERSION:2.0
PRODID:-//Bewusst Brüggen - ECPv6.15.20//NONSGML v1.0//EN
CALSCALE:GREGORIAN
METHOD:PUBLISH
X-WR-CALNAME:Bewusst Brüggen
X-ORIGINAL-URL:https://bewusst-brueggen.de
X-WR-CALDESC:Veranstaltungen für Bewusst Brüggen
REFRESH-INTERVAL;VALUE=DURATION:PT1H
X-Robots-Tag:noindex
X-PUBLISHED-TTL:PT1H
BEGIN:VTIMEZONE
TZID:Europe/Berlin
BEGIN:DAYLIGHT
TZOFFSETFROM:+0100
TZOFFSETTO:+0200
TZNAME:CEST
DTSTART:20220327T010000
END:DAYLIGHT
BEGIN:STANDARD
TZOFFSETFROM:+0200
TZOFFSETTO:+0100
TZNAME:CET
DTSTART:20221030T010000
END:STANDARD
BEGIN:DAYLIGHT
TZOFFSETFROM:+0100
TZOFFSETTO:+0200
TZNAME:CEST
DTSTART:20230326T010000
END:DAYLIGHT
BEGIN:STANDARD
TZOFFSETFROM:+0200
TZOFFSETTO:+0100
TZNAME:CET
DTSTART:20231029T010000
END:STANDARD
BEGIN:DAYLIGHT
TZOFFSETFROM:+0100
TZOFFSETTO:+0200
TZNAME:CEST
DTSTART:20240331T010000
END:DAYLIGHT
BEGIN:STANDARD
TZOFFSETFROM:+0200
TZOFFSETTO:+0100
TZNAME:CET
DTSTART:20241027T010000
END:STANDARD
BEGIN:DAYLIGHT
TZOFFSETFROM:+0100
TZOFFSETTO:+0200
TZNAME:CEST
DTSTART:20250330T010000
END:DAYLIGHT
BEGIN:STANDARD
TZOFFSETFROM:+0200
TZOFFSETTO:+0100
TZNAME:CET
DTSTART:20251026T010000
END:STANDARD
BEGIN:DAYLIGHT
TZOFFSETFROM:+0100
TZOFFSETTO:+0200
TZNAME:CEST
DTSTART:20260329T010000
END:DAYLIGHT
BEGIN:STANDARD
TZOFFSETFROM:+0200
TZOFFSETTO:+0100
TZNAME:CET
DTSTART:20261025T010000
END:STANDARD
BEGIN:DAYLIGHT
TZOFFSETFROM:+0100
TZOFFSETTO:+0200
TZNAME:CEST
DTSTART:20270328T010000
END:DAYLIGHT
BEGIN:STANDARD
TZOFFSETFROM:+0200
TZOFFSETTO:+0100
TZNAME:CET
DTSTART:20271031T010000
END:STANDARD
END:VTIMEZONE
BEGIN:VEVENT
DTSTART;TZID=Europe/Berlin:20260207T191100
DTEND;TZID=Europe/Berlin:20260207T233000
DTSTAMP:20260422T105114
CREATED:20251202T083043Z
LAST-MODIFIED:20251202T083129Z
UID:10006072-1770491460-1770507000@bewusst-brueggen.de
SUMMARY:Büttenabend Kirchenchor Cäcilia Born 1816 e.V.
DESCRIPTION:Es wird ein abwechslungsreiches Programm an Büttenreden und Liedern geboten. Nach dem Büttenabend ist Party angesagt. \nAufgrund der Renovierungsmaßnahmen am Borner Pfarrheim findet die Veranstaltung in der Begegnungsstätte Lüttelbracht-Genholt statt. \nKartenverkauf: Apotheke am Katharinenhof\, Borner Str. 32\, 41379 Brüggen \nAnsprechpartner:\nVorsitzender Heinz Arno Mundfortz\nTel.: 02163 / 888370 (Mundfortz Baustoffe GmbH)\nMail: h.a.mundfortz@mundfortz.de
URL:https://bewusst-brueggen.de/kalender/buettenabend-kirchenchor-caecilia-born-1816-e-v-5/2026-02-07/
LOCATION:Begegnungsstätte Lüttelbracht-Genholt\, Genholter Str 98\, Brüggen\, 41379
CATEGORIES:Brauchtum/ Heimatkunde
ATTACH;FMTTYPE=image/jpeg:https://bewusst-brueggen.de/wp-content/uploads/2023/03/bewusst-brueggen-events-feste.jpg
ORGANIZER;CN="Kirchenchor C%C3%A4cilia Born 1816 e.V.":MAILTO:info@mundfortz.de
END:VEVENT
BEGIN:VEVENT
DTSTART;TZID=Europe/Berlin:20260206T191100
DTEND;TZID=Europe/Berlin:20260206T233000
DTSTAMP:20260422T105114
CREATED:20251202T083043Z
LAST-MODIFIED:20251202T083129Z
UID:10006071-1770405060-1770420600@bewusst-brueggen.de
SUMMARY:Büttenabend Kirchenchor Cäcilia Born 1816 e.V.
DESCRIPTION:Es wird ein abwechslungsreiches Programm an Büttenreden und Liedern geboten. Nach dem Büttenabend ist Party angesagt. \nAufgrund der Renovierungsmaßnahmen am Borner Pfarrheim findet die Veranstaltung in der Begegnungsstätte Lüttelbracht-Genholt statt. \nKartenverkauf: Apotheke am Katharinenhof\, Borner Str. 32\, 41379 Brüggen \nAnsprechpartner:\nVorsitzender Heinz Arno Mundfortz\nTel.: 02163 / 888370 (Mundfortz Baustoffe GmbH)\nMail: h.a.mundfortz@mundfortz.de
URL:https://bewusst-brueggen.de/kalender/buettenabend-kirchenchor-caecilia-born-1816-e-v-5/2026-02-06/
LOCATION:Begegnungsstätte Lüttelbracht-Genholt\, Genholter Str 98\, Brüggen\, 41379
CATEGORIES:Brauchtum/ Heimatkunde
ATTACH;FMTTYPE=image/jpeg:https://bewusst-brueggen.de/wp-content/uploads/2023/03/bewusst-brueggen-events-feste.jpg
ORGANIZER;CN="Kirchenchor C%C3%A4cilia Born 1816 e.V.":MAILTO:info@mundfortz.de
END:VEVENT
BEGIN:VEVENT
DTSTART;TZID=Europe/Berlin:20251201T193000
DTEND;TZID=Europe/Berlin:20251201T210000
DTSTAMP:20260422T105114
CREATED:20251023T085712Z
LAST-MODIFIED:20251023T085712Z
UID:10005991-1764617400-1764622800@bewusst-brueggen.de
SUMMARY:Präsentation Fietstour25
DESCRIPTION:1.205 km radelte Friedhelm Leven in 11 Tagen quer durch Deutschland für Burundi. Er informiert über die Tour und über Burundi.
URL:https://bewusst-brueggen.de/kalender/praesentation-fietstour25/
LOCATION:Begegnungsstätte Lüttelbracht-Genholt\, Genholter Str 98\, Brüggen\, 41379
CATEGORIES:Soziales
ATTACH;FMTTYPE=image/jpeg:https://bewusst-brueggen.de/wp-content/uploads/2024/09/burundi-hilfe_logo_komp.jpg
END:VEVENT
BEGIN:VEVENT
DTSTART;TZID=Europe/Berlin:20251107T190000
DTEND;TZID=Europe/Berlin:20251107T190000
DTSTAMP:20260422T105114
CREATED:20250919T094431Z
LAST-MODIFIED:20250919T094431Z
UID:10005811-1762542000-1762542000@bewusst-brueggen.de
SUMMARY:Quizkönig in Lüttelbracht: Harry-Potter-Spezial
DESCRIPTION:„Quizkönig“ erobert Brüggen: Ein lustiger Abend mit über 60 Fragen und drei spannenden Spielrunden \nBrüggen – Wissen\, Lachen und Gewinnen stehen im Mittelpunkt der neuen Veranstaltung „Quizkönig“\, die ab sofort das kulturelle Leben in Brüggen bereichert! Alle Quizfans und solche\, die es werden wollen\, sind herzlich eingeladen\, an einem unterhaltsamen Abend mit über 60 kniffligen Fragen in drei abwechslungsreichen Spielrunden teilzunehmen. Diesmal geht es dabei um HARRY POTTER: \nDie Veranstaltung wird von Sarah Bannert moderiert\, die mit ihrer charmanten und lustigen Art für eine großartige Stimmung sorgt. Teilnehmer können Teams von zwei bis sechs Personen bilden – ob mit Freunden\, Familie oder Kollegen\, hier ist Teamgeist gefragt. Für das leibliche Wohl sorgt das Team der Begegnungsstätte. Euch erwartet ein neues\, abwechslungsreiches Quiz\, das für frische Herausforderungen sorgt. Ob Film\, Musik\, Sport oder Allgemeinwissen – hier kommt jeder auf seine Kosten. \nBeginn 19.00 Uhr. Einlass 18.30 Uhr. Durch den Ticketkauf reserviert ihr eure Plätze. Tickets zum Preis von 12\,00 € gibt es unter www.feinkost-fussangel.de oder zur telefonischen Vorbestellung unter 02153/971946. \n 
URL:https://bewusst-brueggen.de/kalender/quizkoenig-in-luettelbracht-harry-potter-spezial/
LOCATION:Begegnungsstätte Lüttelbracht-Genholt\, Genholter Str 98\, Brüggen\, 41379
ATTACH;FMTTYPE=image/jpeg:https://bewusst-brueggen.de/wp-content/uploads/2024/08/quizkoenig.jpg
END:VEVENT
BEGIN:VEVENT
DTSTART;TZID=Europe/Berlin:20251010T190000
DTEND;TZID=Europe/Berlin:20251010T190000
DTSTAMP:20260422T105114
CREATED:20250919T093847Z
LAST-MODIFIED:20250919T093847Z
UID:10005810-1760122800-1760122800@bewusst-brueggen.de
SUMMARY:Quizkönig in Lüttelbracht
DESCRIPTION:„Quizkönig“ erobert Brüggen: Ein lustiger Abend mit über 60 Fragen und drei spannenden Spielrunden \nBrüggen – Wissen\, Lachen und Gewinnen stehen im Mittelpunkt der neuen Veranstaltung „Quizkönig“\, die ab sofort das kulturelle Leben in Brüggen bereichert! Alle Quizfans und solche\, die es werden wollen\, sind herzlich eingeladen\, an einem unterhaltsamen Abend mit über 60 kniffligen Fragen in drei abwechslungsreichen Spielrunden teilzunehmen. \nDie Veranstaltung wird von Sarah Bannert moderiert\, die mit ihrer charmanten und lustigen Art für eine großartige Stimmung sorgt. Teilnehmer können Teams von zwei bis sechs Personen bilden – ob mit Freunden\, Familie oder Kollegen\, hier ist Teamgeist gefragt. Für das leibliche Wohl sorgt das Team der Begegnungsstätte. Jeden Monat erwartet die Teilnehmer ein neues\, abwechslungsreiches Quiz\, das für frische Herausforderungen sorgt. Ob Film\, Musik\, Sport oder Allgemeinwissen – hier kommt jeder auf seine Kosten. \nBeginn 19.00 Uhr. Einlass 18.30 Uhr. Durch den Ticketkauf reserviert ihr eure Plätze. Tickets zum Preis von 12\,00 € gibt es unter www.feinkost-fussangel.de oder zur telefonischen Vorbestellung unter 02153/971946. \n 
URL:https://bewusst-brueggen.de/kalender/quizkoenig-in-luettelbracht-4/
LOCATION:Begegnungsstätte Lüttelbracht-Genholt\, Genholter Str 98\, Brüggen\, 41379
ATTACH;FMTTYPE=image/jpeg:https://bewusst-brueggen.de/wp-content/uploads/2024/08/quizkoenig.jpg
END:VEVENT
BEGIN:VEVENT
DTSTART;TZID=Europe/Berlin:20250406T160000
DTEND;TZID=Europe/Berlin:20250406T173000
DTSTAMP:20260422T105114
CREATED:20240326T091741Z
LAST-MODIFIED:20250319T080718Z
UID:10002942-1743955200-1743960600@bewusst-brueggen.de
SUMMARY:Konzert des Brachter Akkordeonorchesters
DESCRIPTION:Jahreskonzert vom Akkordeonorchester 1960 Bracht\nKinder und Jugendliche frei\nAb 14.30 bis 16.00 Uhr Gelegenheit zu Kaffee und Kuchen vor Konzertbeginn
URL:https://bewusst-brueggen.de/kalender/konzert-des-brachter-akkordeonorchesters/
LOCATION:Begegnungsstätte Lüttelbracht-Genholt\, Genholter Str 98\, Brüggen\, 41379
CATEGORIES:Kultur
ATTACH;FMTTYPE=image/jpeg:https://bewusst-brueggen.de/wp-content/uploads/2024/03/Konzert-2025.jpg
END:VEVENT
BEGIN:VEVENT
DTSTART;TZID=Europe/Berlin:20240714T110000
DTEND;TZID=Europe/Berlin:20240714T210000
DTSTAMP:20260422T105114
CREATED:20240508T065750Z
LAST-MODIFIED:20240508T065750Z
UID:10003013-1720954800-1720990800@bewusst-brueggen.de
SUMMARY:Männergesangvereine Laetitia Lüttelbracht: Sommerfest
DESCRIPTION:Unser alljährliches Sommerfest findet auch in diesem Jahr wieder statt. Spaß für Jung und Alt.\nMittags gibt es u. a. Erbsensuppe wie in jedem Jahr. Losbude und Hüpfburg sind nur einige der Attraktionen.\nIm Laufe des nachmittags gibt es ein Freundschaftssingen. Wir hoffen\, auch den MGV Linnich ebenfalls erstmalig zu begrüßen.
URL:https://bewusst-brueggen.de/kalender/maennergesangvereine-laetitia-luettelbracht-sommerfest/
LOCATION:Begegnungsstätte Lüttelbracht-Genholt\, Genholter Str 98\, Brüggen\, 41379
CATEGORIES:Brauchtum/ Heimatkunde,Feste / Märkte
ATTACH;FMTTYPE=image/jpeg:https://bewusst-brueggen.de/wp-content/uploads/2023/03/bewusst-brueggen-events-feste.jpg
END:VEVENT
BEGIN:VEVENT
DTSTART;TZID=Europe/Berlin:20240620T110000
DTEND;TZID=Europe/Berlin:20240620T123000
DTSTAMP:20260422T105114
CREATED:20240507T101430Z
LAST-MODIFIED:20240507T101430Z
UID:10003000-1718881200-1718886600@bewusst-brueggen.de
SUMMARY:Aktionswoche: Demenz – Diagnostik\, Therapie und Unterstützung
DESCRIPTION:Die Gerontopsychiatrische Beratungsstelle stellt sich vor und gibt einen Überblick über Symptome\, die Diagnostik und Behandlungsmöglichkeiten einer Demenz. Zudem wird zu Anlaufstellen und Unterstützungsmöglichkeiten für Angehörige von Demenzerkrankten beraten. \nEs handelt sich um eine Veranstaltung im Rahmen der Aktionswoche „Rund ums Älter werden“ 2024.\nDie Veranstaltung ist kostenlos und frei zugänglich. Alle Interessierten sind herzlich willkommen\, kommen Sie gerne vorbei!  \nBei Rückfragen zu der Veranstaltung oder der gesamten Aktionswoche können Sie sich bei Frau Klerckx oder Herrn Hink unter 02153 898 5032\, -5020 melden oder per Mail an senioren@nettetal.de wenden.  \nWir freuen uns auf zahlreiche Teilnehmende und wünschen Ihnen viel Spaß bei der Aktionswoche 2024!
URL:https://bewusst-brueggen.de/kalender/aktionswoche-demenz-diagnostik-therapie-und-unterstuetzung/
LOCATION:Begegnungsstätte Lüttelbracht-Genholt\, Genholter Str 98\, Brüggen\, 41379
CATEGORIES:Senioren,Soziales
ATTACH;FMTTYPE=image/jpeg:https://bewusst-brueggen.de/wp-content/uploads/2024/05/bewusst-brueggen-seniorenwoche-veranstaltung.jpg
ORGANIZER;CN="Seniorenberatung Br%C3%BCggen/Nettetal%2C Pflegest%C3%BCtzpunkt":MAILTO:sebastian.hink@nettetal.de
END:VEVENT
BEGIN:VEVENT
DTSTART;TZID=Europe/Berlin:20240526T140000
DTEND;TZID=Europe/Berlin:20240526T203000
DTSTAMP:20260422T105114
CREATED:20240508T070108Z
LAST-MODIFIED:20240508T103540Z
UID:10003012-1716732000-1716755400@bewusst-brueggen.de
SUMMARY:Konzert mit drei Chören und Solistin
DESCRIPTION:MGV Laetitia Lüttelbracht\, MGV Amicitia Bracht\, die Lüttelbrachter Nachtigallen sowie unsere Solistin Patricia Maria de Miguel geben ein Konzert mit moderner und klassischer Musik.\nZur Stärkung werden ab 14.00 Uhr Kaffee und Kuchen angeboten. Das Konzert beginnt um 15.15 Uhr.
URL:https://bewusst-brueggen.de/kalender/konzert-mit-drei-choeren-und-solistin/
LOCATION:Begegnungsstätte Lüttelbracht-Genholt\, Genholter Str 98\, Brüggen\, 41379
CATEGORIES:Kultur
ATTACH;FMTTYPE=image/jpeg:https://bewusst-brueggen.de/wp-content/uploads/2023/03/bewusst-brueggen-events-kultur.jpg
END:VEVENT
BEGIN:VEVENT
DTSTART;TZID=Europe/Berlin:20231119T140000
DTEND;TZID=Europe/Berlin:20231119T180000
DTSTAMP:20260422T105114
CREATED:20230905T061153Z
LAST-MODIFIED:20231213T145455Z
UID:10000437-1700402400-1700416800@bewusst-brueggen.de
SUMMARY:Shopping Time
DESCRIPTION:Lokale Unternehmer\, Dienstleister\, Hobbybastler / Maler stellen Ihre Produkten zum verkauf aus. \nMassage\, Kosmetik\, Welness\, Betondeko\, Holzdeko\, Haushaltshelfer\, Schmuck\, Taschen\, Handarbeiten\, Unikate\, Weihnachtsdeko\, Duftwachse\, Kinderartikelen. \nFür das leibliche Wohl ist auch gesorgt.
URL:https://bewusst-brueggen.de/kalender/shopping-time/
LOCATION:Begegnungsstätte Lüttelbracht-Genholt\, Genholter Str 98\, Brüggen\, 41379
CATEGORIES:Feste / Märkte
ORGANIZER;CN="Erna Kames":MAILTO:contact@energy-cosmetics.com
END:VEVENT
END:VCALENDAR