BEGIN:VCALENDAR
VERSION:2.0
PRODID:-//Bewusst Brüggen - ECPv6.15.20//NONSGML v1.0//EN
CALSCALE:GREGORIAN
METHOD:PUBLISH
X-WR-CALNAME:Bewusst Brüggen
X-ORIGINAL-URL:https://bewusst-brueggen.de
X-WR-CALDESC:Veranstaltungen für Bewusst Brüggen
REFRESH-INTERVAL;VALUE=DURATION:PT1H
X-Robots-Tag:noindex
X-PUBLISHED-TTL:PT1H
BEGIN:VTIMEZONE
TZID:Europe/Berlin
BEGIN:DAYLIGHT
TZOFFSETFROM:+0100
TZOFFSETTO:+0200
TZNAME:CEST
DTSTART:20240331T010000
END:DAYLIGHT
BEGIN:STANDARD
TZOFFSETFROM:+0200
TZOFFSETTO:+0100
TZNAME:CET
DTSTART:20241027T010000
END:STANDARD
BEGIN:DAYLIGHT
TZOFFSETFROM:+0100
TZOFFSETTO:+0200
TZNAME:CEST
DTSTART:20250330T010000
END:DAYLIGHT
BEGIN:STANDARD
TZOFFSETFROM:+0200
TZOFFSETTO:+0100
TZNAME:CET
DTSTART:20251026T010000
END:STANDARD
BEGIN:DAYLIGHT
TZOFFSETFROM:+0100
TZOFFSETTO:+0200
TZNAME:CEST
DTSTART:20260329T010000
END:DAYLIGHT
BEGIN:STANDARD
TZOFFSETFROM:+0200
TZOFFSETTO:+0100
TZNAME:CET
DTSTART:20261025T010000
END:STANDARD
BEGIN:DAYLIGHT
TZOFFSETFROM:+0100
TZOFFSETTO:+0200
TZNAME:CEST
DTSTART:20270328T010000
END:DAYLIGHT
BEGIN:STANDARD
TZOFFSETFROM:+0200
TZOFFSETTO:+0100
TZNAME:CET
DTSTART:20271031T010000
END:STANDARD
END:VTIMEZONE
BEGIN:VEVENT
DTSTART;TZID=Europe/Berlin:20260416T170000
DTEND;TZID=Europe/Berlin:20260416T220000
DTSTAMP:20260420T033733
CREATED:20260414T100638Z
LAST-MODIFIED:20260414T100638Z
UID:10006709-1776358800-1776376800@bewusst-brueggen.de
SUMMARY:Sunset Social Afterwork
DESCRIPTION:Erleben Sie einen entspannten Afterwork-Abend im The Bridge (Best Western Plus Hotel Brüggen). \nJeden Donnerstag laden wir zu unserem „Sunset Social“ ein mit guter Musik\, ausgewählten Drinks und einer angenehmen Atmosphäre zum Abschalten nach der Arbeit. \nOb mit Kollegen\, Freunden oder einfach spontan hier steht das Zusammensein im Vordergrund. \nZusätzlich findet täglich von 17:00 bis 19:00 Uhr unsere Happy Hour statt. \nWir freuen uns auf Ihren Besuch!
URL:https://bewusst-brueggen.de/kalender/sunset-social-afterwork/2026-04-16/
LOCATION:Best Western Plus Hotel Brüggen\, Westring 15\, Brüggen\, 41379\, Germany
CATEGORIES:Soziales,Verschiedenes
ATTACH;FMTTYPE=image/png:https://bewusst-brueggen.de/wp-content/uploads/2026/04/1.png
ORGANIZER;CN="Best Western Plus Hotel Br%C3%BCggen":MAILTO:info@bw-brueggen.de
END:VEVENT
BEGIN:VEVENT
DTSTART;VALUE=DATE:20260307
DTEND;VALUE=DATE:20260309
DTSTAMP:20260420T033733
CREATED:20251205T112353Z
LAST-MODIFIED:20251210T110037Z
UID:10006068-1772841600-1773014399@bewusst-brueggen.de
SUMMARY:Buchmesse Niederrhein
DESCRIPTION:Willkommen auf der ersten Buchmesse Niederrhein in der Burgemeinde Brüggen! \nDu liest mit Begeisterung und suchst neue\, interessante\, andere Bücher\, möchtest den Austausch mit Autor*innen und dies in gelöster Atmosphäre? Sehr gut! Mit dem Besuch der Messe hast du die Möglichkeit zu literarischen Begegnungen mit den Menschen hinter den Büchern und kannst dazu ganz entspannt das gesamte Spektrum der Buchbubble genießen. \nDu schreibst selbst Bücher oder hast einen Verlag und findest unsere Idee ganz toll? Wir freuen uns\, wenn du unser Angebot bereicherst. Fülle gern die Anfrage für einen Stand hier auf der Homepage aus und sei dabei! buchmesse-niederrhein.de \nBuchmesse Niederrhein – für inspirierende Momente und großartige Buchbegegnungen! \nÖffnungszeiten: \nSa: 10:00 bis 18:00 Uhr.\nSo: 10:00 bis 17:00 Uhr. \nEintritt: Tickets für 5 Euro pro Person gibt es an der Tageskasse vor Ort\, Kinder bis 12 Jahre frei \n  \n  \n  \n 
URL:https://bewusst-brueggen.de/kalender/buchmesse-niederrhein/
LOCATION:Best Western Plus Hotel Brüggen\, Westring 15\, Brüggen\, 41379\, Germany
CATEGORIES:Feste / Märkte,Kultur
ATTACH;FMTTYPE=image/jpeg:https://bewusst-brueggen.de/wp-content/uploads/2025/12/BM-Niederrhein_Logo-1-green_RGB_web_400x264.jpg
ORGANIZER;CN="B%C3%BCcherregen vom Niederrhein (Verein in Eintragung)":MAILTO:vorstand@buecherregen-vom-niederrhein.de
END:VEVENT
BEGIN:VEVENT
DTSTART;TZID=Europe/Berlin:20250604T170000
DTEND;TZID=Europe/Berlin:20250604T220000
DTSTAMP:20260420T033733
CREATED:20250512T090412Z
LAST-MODIFIED:20250512T090412Z
UID:10005378-1749056400-1749074400@bewusst-brueggen.de
SUMMARY:After Work – Sundowner Party
DESCRIPTION:Wochenhalbzeit feiern – als wär’s Freitag! \nDer perfekte Break in deiner Woche: Triff Freunde & Kollegen\, genieße gute Vibes und lass den Alltag hinter dir! \nDie Mittwochs-Party steht an – und du bist eingeladen!\nMit am Start: Scavi & Ray und Salitos – echte Stimmungsgaranten! \nFür den Sound sorgt niemand Geringeres als DJ Wombel – Beats\, die dich bis in die Nacht tanzen lassen. \nLet’s make Wednesday Great Again!
URL:https://bewusst-brueggen.de/kalender/after-work-sundowner-party-2/
LOCATION:Best Western Plus Hotel Brüggen\, Westring 15\, Brüggen\, 41379\, Germany
CATEGORIES:Feste / Märkte,Kultur
ORGANIZER;CN="Best Western Plus Hotel Br%C3%BCggen":MAILTO:info@bw-brueggen.de
END:VEVENT
BEGIN:VEVENT
DTSTART;TZID=Europe/Berlin:20250528T170000
DTEND;TZID=Europe/Berlin:20250528T220000
DTSTAMP:20260420T033733
CREATED:20250519T080341Z
LAST-MODIFIED:20250519T080341Z
UID:10005382-1748451600-1748469600@bewusst-brueggen.de
SUMMARY:Tapas -  kleine Köstlichkeiten ganz groß
DESCRIPTION:Mittwoch wird zum Genusstag!\nDer schönste Tag der Woche verdient ein besonderes Highlight – und das gibt’s im Best Western Plus Hotel Brüggen! \nAb 17 Uhr laden wir euch herzlich ein zu einem Abend voller Tapas\, spanischem Wein und mitreißendem Gesang – unter Palmen und mit Blick auf den wunderschönen Brüggener Sonnenuntergang. \nLasst euch von kleinen Köstlichkeiten ganz groß verwöhnen und bringt gerne eure Freunde\, Kolleginnen und Kollegen mit – gemeinsam schmeckt’s doch am besten! \n¡Nos vemos en Brüggen!
URL:https://bewusst-brueggen.de/kalender/tapas-kleine-koestlichkeiten-ganz-gross/
LOCATION:Best Western Plus Hotel Brüggen\, Westring 15\, Brüggen\, 41379\, Germany
CATEGORIES:Kultur,Verschiedenes
ORGANIZER;CN="Best Western Plus Hotel Br%C3%BCggen":MAILTO:info@bw-brueggen.de
END:VEVENT
BEGIN:VEVENT
DTSTART;TZID=Europe/Berlin:20250521T170000
DTEND;TZID=Europe/Berlin:20250521T220000
DTSTAMP:20260420T033733
CREATED:20250512T090652Z
LAST-MODIFIED:20250512T090727Z
UID:10005380-1747846800-1747864800@bewusst-brueggen.de
SUMMARY:Mittwoch wird heiß!  Brüggener BBQ Party
DESCRIPTION:Am Mittwoch\, dem offiziell schönsten Tag der Woche\, lädt euch das Best Western Plus Hotel Brüggen herzlich ein zum langersehnten BBQ-Abend! \nSaftige Steaks – Würstchen\, die schon vom Grill aus winken – eiskaltes Bier\, das euch „Prost!“ zuruft und spritzige Cocktails mit Partylaune im Glas. \nDazu gibt’s Musik\, gute Laune und jede Menge Spaß\, damit euer Mittwoch zum absoluten Wochen-Highlight wird — egal ob mit Kollegen\, Freunden oder der ganzen Fußballmannschaft! \nKommt vorbei\, genießt\, lacht\, tanzt – und macht den Mittwoch offiziell zum „kleinen Freitag“! \nWir freuen uns auf euch – und der Grill auch!
URL:https://bewusst-brueggen.de/kalender/mittwoch-wird-heiss-brueggener-bbq-party-2/
LOCATION:Best Western Plus Hotel Brüggen\, Westring 15\, Brüggen\, 41379\, Germany
CATEGORIES:Feste / Märkte,Verschiedenes
ORGANIZER;CN="Best Western Plus Hotel Br%C3%BCggen":MAILTO:info@bw-brueggen.de
END:VEVENT
BEGIN:VEVENT
DTSTART;TZID=Europe/Berlin:20250507T170000
DTEND;TZID=Europe/Berlin:20250507T200000
DTSTAMP:20260420T033733
CREATED:20250423T072808Z
LAST-MODIFIED:20250424T085614Z
UID:10005371-1746637200-1746648000@bewusst-brueggen.de
SUMMARY:After Work - Sundowner Party
DESCRIPTION:Wochenhalbzeit feiern – als wär’s Freitag! \nDer perfekte Break in deiner Woche: Triff Freunde & Kollegen\, genieße gute Vibes und lass den Alltag hinter dir! \nDie Mittwochs-Party steht an – und du bist eingeladen!\nMit am Start: Scavi & Ray und Salitos – echte Stimmungsgaranten! \nFür den Sound sorgt niemand Geringeres als DJ Wombel – Beats\, die dich bis in die Nacht tanzen lassen. \nLet’s make Wednesday Great Again!
URL:https://bewusst-brueggen.de/kalender/after-work-sundowner-party/
LOCATION:Best Western Plus Hotel Brüggen\, Westring 15\, Brüggen\, 41379\, Germany
CATEGORIES:Feste / Märkte,Kultur
ORGANIZER;CN="Best Western Plus Hotel Br%C3%BCggen":MAILTO:info@bw-brueggen.de
END:VEVENT
BEGIN:VEVENT
DTSTART;TZID=Europe/Berlin:20250421T123000
DTEND;TZID=Europe/Berlin:20250421T140000
DTSTAMP:20260420T033733
CREATED:20250220T101911Z
LAST-MODIFIED:20250221T084808Z
UID:10004703-1745238600-1745244000@bewusst-brueggen.de
SUMMARY:Osterlunch Buffet
DESCRIPTION:Das Osterlunch Buffet im Best Western Plus Brüggen ist eine wunderbare Gelegenheit\, das Osterfest in geselliger Runde zu feiern. Eine köstliche Auswahl an traditionellen und modernen Gerichten\, um den Frühling und die Osterzeit mit Familie und Freunden zu zelebrieren. \nPreise:\n40€ pro Person inkl. 1 Glas Sekt\n20€ pro Kind bis 12 Jahre
URL:https://bewusst-brueggen.de/kalender/oster-lunch-buffet/2025-04-21/
LOCATION:Best Western Plus Hotel Brüggen\, Westring 15\, Brüggen\, 41379\, Germany
CATEGORIES:Verschiedenes
ATTACH;FMTTYPE=image/jpeg:https://bewusst-brueggen.de/wp-content/uploads/2025/02/bewusst-brueggen-veranstaltung-osterlunch-bw.jpg
ORGANIZER;CN="Best Western Plus Hotel Br%C3%BCggen":MAILTO:info@bw-brueggen.de
END:VEVENT
BEGIN:VEVENT
DTSTART;TZID=Europe/Berlin:20250420T123000
DTEND;TZID=Europe/Berlin:20250420T140000
DTSTAMP:20260420T033733
CREATED:20250220T101911Z
LAST-MODIFIED:20250221T084808Z
UID:10004702-1745152200-1745157600@bewusst-brueggen.de
SUMMARY:Osterlunch Buffet
DESCRIPTION:Das Osterlunch Buffet im Best Western Plus Brüggen ist eine wunderbare Gelegenheit\, das Osterfest in geselliger Runde zu feiern. Eine köstliche Auswahl an traditionellen und modernen Gerichten\, um den Frühling und die Osterzeit mit Familie und Freunden zu zelebrieren. \nPreise:\n40€ pro Person inkl. 1 Glas Sekt\n20€ pro Kind bis 12 Jahre
URL:https://bewusst-brueggen.de/kalender/oster-lunch-buffet/2025-04-20/
LOCATION:Best Western Plus Hotel Brüggen\, Westring 15\, Brüggen\, 41379\, Germany
CATEGORIES:Verschiedenes
ATTACH;FMTTYPE=image/jpeg:https://bewusst-brueggen.de/wp-content/uploads/2025/02/bewusst-brueggen-veranstaltung-osterlunch-bw.jpg
ORGANIZER;CN="Best Western Plus Hotel Br%C3%BCggen":MAILTO:info@bw-brueggen.de
END:VEVENT
BEGIN:VEVENT
DTSTART;TZID=Europe/Berlin:20250319T170000
DTEND;TZID=Europe/Berlin:20250319T210000
DTSTAMP:20260420T033733
CREATED:20250219T105445Z
LAST-MODIFIED:20250220T114429Z
UID:10004697-1742403600-1742418000@bewusst-brueggen.de
SUMMARY:Pitch & Pizza - Netzwerktreffen für Brüggener Unternehmen
DESCRIPTION:SEO-Basics – Deine Website/Dein Onlineshop verdienen Top-Rankings! \nEntdecke das volle Potenzial deiner Online-Präsenz! Erfahre\, wie du die Auffindbarkeit deiner Website oder deines Online-Shops verbessern kannst! \nIn Kooperation mit dem BVMW (Bundesverband mittelständische Wirtschaft\, Unternehmerverband Deutschlands e.V.) veranstaltet die örtliche Wirtschaftsförderung erneut am 19.März 2025 das beliebte Format Pitch & Pizza. \nUnsere exklusive und kostenfreie SEO-Veranstaltung bietet dir die perfekte Gelegenheit\, deine Auffindbarkeit im Netz zu maximieren. Lass dir diese Chance nicht entgehen\, deine Sichtbarkeit zu steigern und neue Kunden zu gewinnen. Die SEO-Experten der RANKETING GmbH analysieren live die Website der StuffFactory aus Brüggen und teilen ihre Erkenntnisse direkt mit dem Publikum. Erfahre aus erster Hand\, wie eine professionelle SEO-Analyse abläuft und nimm wertvolle Tipps mit\, um auch deinen Webauftritt zu optimieren. Nutze diese einmalige Gelegenheit\, praxisnahe Tipps zu erhalten\, die du direkt umsetzen kannst\, um dein Ranking zu verbessern. \nSei dabei und bring dein Business auf das nächste Level!  Nutze die Gelegenheit\, dich mit anderen Unternehmern auszutauschen\, spannende SEO-Insights mitzunehmen und dein Netzwerk zu erweitern.\nMelde Dich schnell an – die Plätze sind begrenzt! Wir freuen uns auf Dich! Hier: Anmeldung Pitch & Pizza \nAblauf der Veranstaltung:\nAnkunft der Gäste: ab 17:00h\nBeginn der Veranstaltung: 17:30h \nIm Anschluss haben Sie die Möglichkeit\, Ihre Fragen direkt an die Experten zu richten und beim Networking neue Kontakte zu knüpfen. Für Ihr leibliches Wohl ist bestens gesorgt. \nWas ist Pitch & Pizza? Mit dem Netzwerktreffen für Unternehmerinnen und Unternehmern der Burggemeinde Brüggen\, möchte die örtliche Wirtschaftsförderung eine Gelegenheit bieten die ortsansässigen Unternehmen zusammenzubringen\, Informationen auszutauschen und aktuelle Themen aufzugreifen.\nDie Themen für Pitch & Pizza orientieren sich an den Wünschen und Bedürfnissen der Brüggener Unternehmerinnen und Unternehmern. \nDu möchtest auf dem Laufenden bleiben und mit Themen aus der Wirtschaftsförderung versorgt werden\, dann melde dich für den Wirtschaftsförderungs-Newsletter an: https://www.brueggen.de/wirtschaft/wirtschaftsfoerderung/newsletter-wirtschaftsfoerderung
URL:https://bewusst-brueggen.de/kalender/pitch-pizza-netzwerktreffen-fuer-brueggener-unternehmen-3/
LOCATION:Best Western Plus Hotel Brüggen\, Westring 15\, Brüggen\, 41379\, Germany
CATEGORIES:Wirtschaft
ATTACH;FMTTYPE=image/jpeg:https://bewusst-brueggen.de/wp-content/uploads/2023/03/bewusst-brueggen-events-wirtschaft.jpg
ORGANIZER;CN="Burggemeinde Br%C3%BCggen - Daniela Erkens":MAILTO:willkommen@brueggen.de
END:VEVENT
END:VCALENDAR